Workbook
Name A_Z_703_TAR_703: #REF!
Name ABC_571_KRA_571: #REF!
Name ABC_597_LUB_597: #REF!
Name ABI_008_GRU_008: #REF!
Name ABI_505_WAR_211: #REF!
Name ABI_505_WAR_505: #REF!
Name ABR_604_WAR_388: #REF!
Name AFL_706_KOŚ_706: #REF!
Name AGA_778_RAD_778: #REF!
Name AGM_611_WŁO_611: #REF!
Name AKS_895_PRZ_895: #REF!
Name AKS_895_PRZ_897: #REF!
Name AKU_457_POZ_457: #REF!
Name ALE_133_GNI_133: #REF!
Name ALF_678_LUB_678: #REF!
Name ALL_045_SIE_033: #REF!
Name ALL_045_SOK_045: #REF!
Name ALM_630_SIE_630: #REF!
Name ALT_897_WŁO_897: #REF!
Name AMB_198_PSZ_198: #REF!
Name AMB_198_PSZ_965: #REF!
Name AN__979_JAS_979: #REF!
Name ANM_254_PŁO_254: #REF!
Name ANM_605_PRZ_373: #REF!
Name ARP_294_ŁÓD_294: #REF!
Name ART_026_OPO_026: #REF!
Name ART_055_PAB_039: #REF!
Name ART_055_PAB_055: #REF!
Name ART_712_KOŁ_712: #REF!
Name ART_975_DOB_975: #REF!
Name ART_975_OLS_976: #REF!
Name AST_158_ŁOM_158: #REF!
Name AST_880_BIŁ_880: #REF!
Name ATE_822_KRA_822: #REF!
Name ATU_486_WRO_486: #REF!
Name AZE_333_ZAM_333: #REF!
Name AZY_337_STR_338: #REF!
Name AZY_337_WAR_337: #REF!
Name B_S_452_SZC_452: #REF!
Name BAW_425_BIA_425: #REF!
Name BDS_360_BIA_362: #REF!
Name BDS_360_WAR_360: #REF!
Name BER_804_POZ_829: #REF!
Name BES_427_BIE_428: #REF!
Name BES_427_CIE_427: #REF!
Name BES_697_OST_697: #REF!
Name BIU_010_CZĘ_010: #REF!
Name BIU_023_KĘD_023: #REF!
Name BIU_024_STA_024: #REF!
Name BIU_029_KRA_535: #REF!
Name BIU_032_ZIE_032: #REF!
Name BIU_032_ZIE_785: #REF!
Name BIU_050_KAT_050: #REF!
Name BIU_051_TOR_051: #REF!
Name BIU_056_KRO_056: #REF!
Name BIU_058_RAD_058: #REF!
Name BIU_139_BYD_139: #REF!
Name BIU_170_BIA_170: #REF!
Name BIU_279_KRA_279: #REF!
Name BIU_377_POZ_377: #REF!

Sheet Druk zamówień
A2: *CENNIK BIC POLSKA sp. z o.o. | C2: Kod odblokowujący | J2: WARTOŚĆ ZAMÓWIENIA
C3: Nazwa klienta | D3: {=IF(ISERROR(VLOOKUP(D2,#REF!,3,FALSE)),"Sprawdź kod",IF(ISERROR(LOOKUP(2,1/(#REF!=D2)/(#REF!=D4),#REF!)),"Sprawdź adres",LOOKUP(2,1/(#REF!=D2)/(#REF!=D4),#REF!)))} -> Sprawdź kod | F3: Adj Sched
A4: Obowiązuje od 17.03.2025 | C4: Adres | F4: W390PERM | J4: PROD SZKOLNO BIUROWE | K4: =SUMIF(Table13[Kategoria],J4,Table13[Wartość]) -> 0
A5: *rabaty naliczane sa kaskadowo | C5: Kod pocztowy | D5: {=IF(ISERROR(VLOOKUP(D2,#REF!,3,FALSE)),"Sprawdź kod",IF(ISERROR(LOOKUP(2,1/(#REF!=D2)/(#REF!=D4),#REF!)),"Sprawdź adres",LOOKUP(2,1/(#REF!=D2)/(#REF!=D4),#REF!)))} -> Sprawdź kod | J5: ZAPALNICZKI | K5: =SUMIF(Table13[Kategoria],J5,Table13[Wartość]) -> 0 | AI5: CENNIKI:
C6: Nr klienta (dostawa) | D6: {=IF(ISERROR(VLOOKUP(D2,#REF!,3,FALSE)),"Sprawdź kod",IF(ISERROR(LOOKUP(2,1/(#REF!=D2)/(#REF!=D4),#REF!)),"Sprawdź adres",LOOKUP(2,1/(#REF!=D2)/(#REF!=D4),#REF!)))} -> Sprawdź kod | J6: DO GOLENIA | K6: =SUMIF(Table13[Kategoria],J6,Table13[Wartość]) -> 0 | AI6: ST - 02.2025
C7: Nr klienta (płatnik) | D7: {=IF(ISERROR(VLOOKUP(D2,#REF!,5,FALSE)),"Sprawdź kod",IF(ISERROR(LOOKUP(2,1/(#REF!=D2)/(#REF!=D4),#REF!)),"Sprawdź adres",LOOKUP(2,1/(#REF!=D2)/(#REF!=D4),#REF!)))} -> Sprawdź kod | AI7: SH - 02.2025
C8: Termin płatności | D8: =IF(D2="","",_xlfn.XLOOKUP(D2,#REF!,#REF!)) | AI8: LI - 02.2025
C9: Rabat standardowy | D9: 0.25 | J9: TOTAL: | K9: =SUM(Table13[Wartość]) -> 0
C10: Opiekun klienta | D10: {=IF(ISERROR(VLOOKUP(D2,#REF!,3,FALSE)), "Sprawdź kod", IF(ISERROR(LOOKUP(2,1/(#REF!=D2)/(#REF!=D4),#REF!)), "Sprawdź adres", CONCATENATE(LOOKUP(2,1/(#REF!=D2)/(#REF!=D4),TRIM(#REF!)),": ",TEXT(LOOKUP(2,1/(#REF!=D2)/(#REF!=D4),TRIM(#REF!)),"000-000-000"))))} -> Sprawdź kod
C11: Numer PO
A13: WID code | B13: SKU EAN code | C13: Unit EAN code | D13: Name_Product description | E13: Category | F13: Sub-category | G13: Comment_WID change | J13: Netto price after longterm discount 2020 | K13: Standard discount | L13: Additional quarter discount | M13: Ad-hoc quarter discount | N13: Individual discount | O13: SKU price after all discounts 2020 | P13: UNIT priceafter all discounts | Q13: Units/pack | R13: MOQ (sku) | S13: Outer or Inner quantity | T13: Order quantity by CUSTOMER | U13: Order rounding to MOQ | V13: Check | W13: Value | X13: Ordered products flag | Y13: Inner quantity | Z13: Outer quantity | AA13: Quantity in layer | AB13: Quantity on pallet | AE13: EAN code (SKU) | AF13: EAN code (unit) | AG13: EAN code (outer) | AH13: EAN code (pallet) | AI13: Remarks
A14: WID Kod | B14: EAN SKU | C14: EAN szt | D14: Nazwa Produktu | E14: Kategoria | F14: Podkategoria | G14: Komentarz | H14: Cena Netto | I14: Rabat Długoterminowy | J14: Cena Netto Po Rabacie Długoterminowym | K14: Rabat Podstawowy | L14: Dodatkowy rabat kwartału (składany) | M14: Obowiązujący Rabat Kwartału (Zastępuje Długoterminowy) | N14: Rabat Indywidualny | O14: Сena SKU Po Wszystkich Rabatach | P14: Cena Sztuki Po Rabatach | Q14: Szt/ Opak. | R14: Min. Ilość Zam. Sku | S14: Opak. Zbior. | T14: Zamówienie - Ilosc SKU [Szt] | U14: Zamówienie Po Zaokr. Do Pełnych Opak. [Szt] | V14: Spr | W14: Wartość | X14: Zamówione Produkty | Y14: W Inner | Z14: W Outer | AA14: Na Warstwie | AB14: Na Palecie | AC14: Outerów na palecie | AD14: Wartw na palecie | AE14: Kod EAN (Sku) | AF14: Kod EAN (Szt) | AG14: Kod EAN Outercase | AH14: Kod EAN Palety | AI14: Uwagi | AJ14: PKWiU | AK14: KOD CN - NOMENKLATURA SCALONA | AL14: PC2 code
A15: 516336 | B15: =TEXT(Table13[[#This Row],[Kod EAN (Sku)]],"0000000000000") -> 3086123734586 | C15: =IF(AND(Table13[[#This Row],[Kod EAN (Szt)]]<>0,Table13[[#This Row],[Kod EAN (Szt)]]<>"0"),TEXT(Table13[[#This Row],[Kod EAN (Szt)]],"0000000000000"),"") | D15: BIC Cristal Fine Orange Długopis niebieski Pudełko 4szt | E15: PROD SZKOLNO BIUROWE | F15: ARTYKUŁY PIŚMIENNICZE | H15: 8.33 | J15: =Table13[[#This Row],[Cena Netto]]*(1-Table13[[#This Row],[Rabat Długoterminowy]]) -> 8.33 | K15: =IF(TRIM($D$8)='Payment Term'!A$1,1-(1-$D$9)*(1-2%),$D$9) -> 0.25 | M15: =1-(1-Table13[[#This Row],[Rabat Długoterminowy]])*(1-Table13[[#This Row],[Dodatkowy rabat kwartału (składany)]]) -> 0 | N15: 0 | O15: =ROUND(Table13[[#This Row],[Cena Netto Po Rabacie Długoterminowym]]*(1-Table13[[#This Row],[Rabat Podstawowy]])*(1-Table13[[#This Row],[Dodatkowy rabat kwartału (składany)]])*(1-Table13[[#This Row],[Rabat Indywidualny]]),2) -> 6.25 | P15: =Table13[[#This Row],[Сena SKU Po Wszystkich Rabatach]]/Table13[[#This Row],[Szt/ Opak.]] -> 1.5625 | Q15: 4 | R15: 10 | S15: =IF(ISERROR(Table13[[#This Row],[W Inner]]),Table13[[#This Row],[W Outer]],IF(AND(Table13[[#This Row],[W Inner]]>0,Table13[[#This Row],[W Inner]]<>"0"),Table13[[#This Row],[W Inner]],Table13[[#This Row],[W Outer]])) -> 10 | U15: =IF(ISERROR(Table13[[#This Row],[Zamówienie - Ilosc SKU '[Szt']]]), "", IF(MROUND(Table13[[#This Row],[Zamówienie - Ilosc SKU '[Szt']]],Table13[[#This Row],[Min. Ilość Zam. Sku]])<Table13[[#This Row],[Zamówienie - Ilosc SKU '[Szt']]],MROUND(Table13[[#This Row],[Zamówienie - Ilosc SKU '[Szt']]],Table13[[#This Row],[Min. Ilość Zam. Sku]])+Table13[[#This Row],[Min. Ilość Zam. Sku]],MROUND(Table13[[#This Row],[Zamówienie - Ilosc SKU '[Szt']]],Table13[[#This Row],[Min. Ilość Zam. Sku]]))) -> 0 | V15: =IF(Table13[[#This Row],[Zamówienie - Ilosc SKU '[Szt']]]=0,0,MOD(Table13[[#This Row],[Zamówienie - Ilosc SKU '[Szt']]],Table13[[#This Row],[Min. Ilość Zam. Sku]])-0.5) -> 0 | W15: =Table13[[#This Row],[Сena SKU Po Wszystkich Rabatach]]*U15 -> 0 | X15: =IF(Table13[[#This Row],[Zamówienie - Ilosc SKU '[Szt']]]=0,"Niezamówione produkty","Zamówione produkty") -> Niezamówione produkty | Y15: 10 | Z15: 120 | AA15: 720 | AB15: 4320 | AC15: =+Table13[[#This Row],[Na Palecie]]/Table13[[#This Row],[W Outer]] -> 36 | AD15: =+Table13[[#This Row],[Na Palecie]]/Table13[[#This Row],[Na Warstwie]] -> 6 | AE15: 3086123734586 | AF15: 0 | AG15: 03086125163360 | AH15: 03086127693537 | AJ15: 32.99.12.0 | AK15: 96081099 | AL15: =_xlfn.XLOOKUP(Table13[[#This Row],[Rabat Indywidualny]],'PC2 code'!A:A,'PC2 code'!B:B,0) -> 00
A16: 516835 | B16: =TEXT(Table13[[#This Row],[Kod EAN (Sku)]],"0000000000000") -> 3086123737228 | C16: =IF(AND(Table13[[#This Row],[Kod EAN (Szt)]]<>0,Table13[[#This Row],[Kod EAN (Szt)]]<>"0"),TEXT(Table13[[#This Row],[Kod EAN (Szt)]],"0000000000000"),"") | D16: BIC Cristal Fine Orange Długopis czarny Pudełko 4szt | E16: PROD SZKOLNO BIUROWE | F16: ARTYKUŁY PIŚMIENNICZE | H16: 8.33 | J16: =Table13[[#This Row],[Cena Netto]]*(1-Table13[[#This Row],[Rabat Długoterminowy]]) -> 8.33 | K16: =IF(TRIM($D$8)='Payment Term'!A$1,1-(1-$D$9)*(1-2%),$D$9) -> 0.25 | M16: =1-(1-Table13[[#This Row],[Rabat Długoterminowy]])*(1-Table13[[#This Row],[Dodatkowy rabat kwartału (składany)]]) -> 0 | N16: 0 | O16: =ROUND(Table13[[#This Row],[Cena Netto Po Rabacie Długoterminowym]]*(1-Table13[[#This Row],[Rabat Podstawowy]])*(1-Table13[[#This Row],[Dodatkowy rabat kwartału (składany)]])*(1-Table13[[#This Row],[Rabat Indywidualny]]),2) -> 6.25 | P16: =Table13[[#This Row],[Сena SKU Po Wszystkich Rabatach]]/Table13[[#This Row],[Szt/ Opak.]] -> 1.5625 | Q16: 4 | R16: 10 | S16: =IF(ISERROR(Table13[[#This Row],[W Inner]]),Table13[[#This Row],[W Outer]],IF(AND(Table13[[#This Row],[W Inner]]>0,Table13[[#This Row],[W Inner]]<>"0"),Table13[[#This Row],[W Inner]],Table13[[#This Row],[W Outer]])) -> 10 | U16: =IF(ISERROR(Table13[[#This Row],[Zamówienie - Ilosc SKU '[Szt']]]), "", IF(MROUND(Table13[[#This Row],[Zamówienie - Ilosc SKU '[Szt']]],Table13[[#This Row],[Min. Ilość Zam. Sku]])<Table13[[#This Row],[Zamówienie - Ilosc SKU '[Szt']]],MROUND(Table13[[#This Row],[Zamówienie - Ilosc SKU '[Szt']]],Table13[[#This Row],[Min. Ilość Zam. Sku]])+Table13[[#This Row],[Min. Ilość Zam. Sku]],MROUND(Table13[[#This Row],[Zamówienie - Ilosc SKU '[Szt']]],Table13[[#This Row],[Min. Ilość Zam. Sku]]))) -> 0 | V16: =IF(Table13[[#This Row],[Zamówienie - Ilosc SKU '[Szt']]]=0,0,MOD(Table13[[#This Row],[Zamówienie - Ilosc SKU '[Szt']]],Table13[[#This Row],[Min. Ilość Zam. Sku]])-0.5) -> 0 | W16: =Table13[[#This Row],[Сena SKU Po Wszystkich Rabatach]]*U16 -> 0 | X16: =IF(Table13[[#This Row],[Zamówienie - Ilosc SKU '[Szt']]]=0,"Niezamówione produkty","Zamówione produkty") -> Niezamówione produkty | Y16: 10 | Z16: 120 | AA16: 720 | AB16: 4320 | AC16: =+Table13[[#This Row],[Na Palecie]]/Table13[[#This Row],[W Outer]] -> 36 | AD16: =+Table13[[#This Row],[Na Palecie]]/Table13[[#This Row],[Na Warstwie]] -> 6 | AE16: 3086123737228 | AF16: 0 | AG16: 03086125168358 | AH16: 03086127696125 | AJ16: 32.99.12.0 | AK16: 96081099 | AL16: =_xlfn.XLOOKUP(Table13[[#This Row],[Rabat Indywidualny]],'PC2 code'!A:A,'PC2 code'!B:B,0) -> 00
A17: 516337 | B17: =TEXT(Table13[[#This Row],[Kod EAN (Sku)]],"0000000000000") -> 3086123734593 | C17: =IF(AND(Table13[[#This Row],[Kod EAN (Szt)]]<>0,Table13[[#This Row],[Kod EAN (Szt)]]<>"0"),TEXT(Table13[[#This Row],[Kod EAN (Szt)]],"0000000000000"),"") | D17: BIC Cristal Fine Orange Długopis mix AST Pudełko 4szt | E17: PROD SZKOLNO BIUROWE | F17: ARTYKUŁY PIŚMIENNICZE | H17: 8.33 | J17: =Table13[[#This Row],[Cena Netto]]*(1-Table13[[#This Row],[Rabat Długoterminowy]]) -> 8.33 | K17: =IF(TRIM($D$8)='Payment Term'!A$1,1-(1-$D$9)*(1-2%),$D$9) -> 0.25 | M17: =1-(1-Table13[[#This Row],[Rabat Długoterminowy]])*(1-Table13[[#This Row],[Dodatkowy rabat kwartału (składany)]]) -> 0 | N17: 0 | O17: =ROUND(Table13[[#This Row],[Cena Netto Po Rabacie Długoterminowym]]*(1-Table13[[#This Row],[Rabat Podstawowy]])*(1-Table13[[#This Row],[Dodatkowy rabat kwartału (składany)]])*(1-Table13[[#This Row],[Rabat Indywidualny]]),2) -> 6.25 | P17: =Table13[[#This Row],[Сena SKU Po Wszystkich Rabatach]]/Table13[[#This Row],[Szt/ Opak.]] -> 1.5625 | Q17: 4 | R17: 10 | S17: =IF(ISERROR(Table13[[#This Row],[W Inner]]),Table13[[#This Row],[W Outer]],IF(AND(Table13[[#This Row],[W Inner]]>0,Table13[[#This Row],[W Inner]]<>"0"),Table13[[#This Row],[W Inner]],Table13[[#This Row],[W Outer]])) -> 10 | U17: =IF(ISERROR(Table13[[#This Row],[Zamówienie - Ilosc SKU '[Szt']]]), "", IF(MROUND(Table13[[#This Row],[Zamówienie - Ilosc SKU '[Szt']]],Table13[[#This Row],[Min. Ilość Zam. Sku]])<Table13[[#This Row],[Zamówienie - Ilosc SKU '[Szt']]],MROUND(Table13[[#This Row],[Zamówienie - Ilosc SKU '[Szt']]],Table13[[#This Row],[Min. Ilość Zam. Sku]])+Table13[[#This Row],[Min. Ilość Zam. Sku]],MROUND(Table13[[#This Row],[Zamówienie - Ilosc SKU '[Szt']]],Table13[[#This Row],[Min. Ilość Zam. Sku]]))) -> 0 | V17: =IF(Table13[[#This Row],[Zamówienie - Ilosc SKU '[Szt']]]=0,0,MOD(Table13[[#This Row],[Zamówienie - Ilosc SKU '[Szt']]],Table13[[#This Row],[Min. Ilość Zam. Sku]])-0.5) -> 0 | W17: =Table13[[#This Row],[Сena SKU Po Wszystkich Rabatach]]*U17 -> 0 | X17: =IF(Table13[[#This Row],[Zamówienie - Ilosc SKU '[Szt']]]=0,"Niezamówione produkty","Zamówione produkty") -> Niezamówione produkty | Y17: 10 | Z17: 120 | AA17: 720 | AB17: 4320 | AC17: =+Table13[[#This Row],[Na Palecie]]/Table13[[#This Row],[W Outer]] -> 36 | AD17: =+Table13[[#This Row],[Na Palecie]]/Table13[[#This Row],[Na Warstwie]] -> 6 | AE17: 3086123734593 | AF17: 0 | AG17: 03086125163377 | AH17: 03086127693544 | AJ17: 32.99.12.0 | AK17: 96081099 | AL17: =_xlfn.XLOOKUP(Table13[[#This Row],[Rabat Indywidualny]],'PC2 code'!A:A,'PC2 code'!B:B,0) -> 00
A18: 516351 | B18: =TEXT(Table13[[#This Row],[Kod EAN (Sku)]],"0000000000000") -> 3086123734739 | C18: =IF(AND(Table13[[#This Row],[Kod EAN (Szt)]]<>0,Table13[[#This Row],[Kod EAN (Szt)]]<>"0"),TEXT(Table13[[#This Row],[Kod EAN (Szt)]],"0000000000000"),"") | D18: BIC Cristal Fine Orange Długopis niebieski Pudełko 8szt | E18: PROD SZKOLNO BIUROWE | F18: ARTYKUŁY PIŚMIENNICZE | H18: 13.97 | J18: =Table13[[#This Row],[Cena Netto]]*(1-Table13[[#This Row],[Rabat Długoterminowy]]) -> 13.97 | K18: =IF(TRIM($D$8)='Payment Term'!A$1,1-(1-$D$9)*(1-2%),$D$9) -> 0.25 | M18: =1-(1-Table13[[#This Row],[Rabat Długoterminowy]])*(1-Table13[[#This Row],[Dodatkowy rabat kwartału (składany)]]) -> 0 | N18: 0 | O18: =ROUND(Table13[[#This Row],[Cena Netto Po Rabacie Długoterminowym]]*(1-Table13[[#This Row],[Rabat Podstawowy]])*(1-Table13[[#This Row],[Dodatkowy rabat kwartału (składany)]])*(1-Table13[[#This Row],[Rabat Indywidualny]]),2) -> 10.48 | P18: =Table13[[#This Row],[Сena SKU Po Wszystkich Rabatach]]/Table13[[#This Row],[Szt/ Opak.]] -> 1.31 | Q18: 8 | R18: 10 | S18: =IF(ISERROR(Table13[[#This Row],[W Inner]]),Table13[[#This Row],[W Outer]],IF(AND(Table13[[#This Row],[W Inner]]>0,Table13[[#This Row],[W Inner]]<>"0"),Table13[[#This Row],[W Inner]],Table13[[#This Row],[W Outer]])) -> 10 | U18: =IF(ISERROR(Table13[[#This Row],[Zamówienie - Ilosc SKU '[Szt']]]), "", IF(MROUND(Table13[[#This Row],[Zamówienie - Ilosc SKU '[Szt']]],Table13[[#This Row],[Min. Ilość Zam. Sku]])<Table13[[#This Row],[Zamówienie - Ilosc SKU '[Szt']]],MROUND(Table13[[#This Row],[Zamówienie - Ilosc SKU '[Szt']]],Table13[[#This Row],[Min. Ilość Zam. Sku]])+Table13[[#This Row],[Min. Ilość Zam. Sku]],MROUND(Table13[[#This Row],[Zamówienie - Ilosc SKU '[Szt']]],Table13[[#This Row],[Min. Ilość Zam. Sku]]))) -> 0 | V18: =IF(Table13[[#This Row],[Zamówienie - Ilosc SKU '[Szt']]]=0,0,MOD(Table13[[#This Row],[Zamówienie - Ilosc SKU '[Szt']]],Table13[[#This Row],[Min. Ilość Zam. Sku]])-0.5) -> 0 | W18: =Table13[[#This Row],[Сena SKU Po Wszystkich Rabatach]]*U18 -> 0 | X18: =IF(Table13[[#This Row],[Zamówienie - Ilosc SKU '[Szt']]]=0,"Niezamówione produkty","Zamówione produkty") -> Niezamówione produkty | Y18: 10 | Z18: 60 | AA18: 360 | AB18: 2160 | AC18: =+Table13[[#This Row],[Na Palecie]]/Table13[[#This Row],[W Outer]] -> 36 | AD18: =+Table13[[#This Row],[Na Palecie]]/Table13[[#This Row],[Na Warstwie]] -> 6 | AE18: 3086123734739 | AF18: 0 | AG18: 03086125163513 | AH18: 03086127693681 | AJ18: 32.99.12.0 | AK18: 96081099 | AL18: =_xlfn.XLOOKUP(Table13[[#This Row],[Rabat Indywidualny]],'PC2 code'!A:A,'PC2 code'!B:B,0) -> 00
A19: 8099221 | B19: =TEXT(Table13[[#This Row],[Kod EAN (Sku)]],"0000000000000") -> 3086121101113 | C19: =IF(AND(Table13[[#This Row],[Kod EAN (Szt)]]<>0,Table13[[#This Row],[Kod EAN (Szt)]]<>"0"),TEXT(Table13[[#This Row],[Kod EAN (Szt)]],"0000000000000"),"") -> 0070330101593 | D19: BIC Cristal Fine Orange Długopis niebieski Pudełko 20szt | E19: PROD SZKOLNO BIUROWE | F19: ARTYKUŁY PIŚMIENNICZE | H19: 26.57 | J19: =Table13[[#This Row],[Cena Netto]]*(1-Table13[[#This Row],[Rabat Długoterminowy]]) -> 26.57 | K19: =IF(TRIM($D$8)='Payment Term'!A$1,1-(1-$D$9)*(1-2%),$D$9) -> 0.25 | M19: =1-(1-Table13[[#This Row],[Rabat Długoterminowy]])*(1-Table13[[#This Row],[Dodatkowy rabat kwartału (składany)]]) -> 0 | N19: 0 | O19: =ROUND(Table13[[#This Row],[Cena Netto Po Rabacie Długoterminowym]]*(1-Table13[[#This Row],[Rabat Podstawowy]])*(1-Table13[[#This Row],[Dodatkowy rabat kwartału (składany)]])*(1-Table13[[#This Row],[Rabat Indywidualny]]),2) -> 19.93 | P19: =Table13[[#This Row],[Сena SKU Po Wszystkich Rabatach]]/Table13[[#This Row],[Szt/ Opak.]] -> 0.9965 | Q19: 20 | R19: 1 | S19: =IF(ISERROR(Table13[[#This Row],[W Inner]]),Table13[[#This Row],[W Outer]],IF(AND(Table13[[#This Row],[W Inner]]>0,Table13[[#This Row],[W Inner]]<>"0"),Table13[[#This Row],[W Inner]],Table13[[#This Row],[W Outer]])) -> 5 | U19: =IF(ISERROR(Table13[[#This Row],[Zamówienie - Ilosc SKU '[Szt']]]), "", IF(MROUND(Table13[[#This Row],[Zamówienie - Ilosc SKU '[Szt']]],Table13[[#This Row],[Min. Ilość Zam. Sku]])<Table13[[#This Row],[Zamówienie - Ilosc SKU '[Szt']]],MROUND(Table13[[#This Row],[Zamówienie - Ilosc SKU '[Szt']]],Table13[[#This Row],[Min. Ilość Zam. Sku]])+Table13[[#This Row],[Min. Ilość Zam. Sku]],MROUND(Table13[[#This Row],[Zamówienie - Ilosc SKU '[Szt']]],Table13[[#This Row],[Min. Ilość Zam. Sku]]))) -> 0 | V19: =IF(Table13[[#This Row],[Zamówienie - Ilosc SKU '[Szt']]]=0,0,MOD(Table13[[#This Row],[Zamówienie - Ilosc SKU '[Szt']]],Table13[[#This Row],[Min. Ilość Zam. Sku]])-0.5) -> 0 | W19: =Table13[[#This Row],[Сena SKU Po Wszystkich Rabatach]]*U19 -> 0 | X19: =IF(Table13[[#This Row],[Zamówienie - Ilosc SKU '[Szt']]]=0,"Niezamówione produkty","Zamówione produkty") -> Niezamówione produkty | Y19: 5 | Z19: 50 | AA19: 450 | AB19: 1800 | AC19: =+Table13[[#This Row],[Na Palecie]]/Table13[[#This Row],[W Outer]] -> 36 | AD19: =+Table13[[#This Row],[Na Palecie]]/Table13[[#This Row],[Na Warstwie]] -> 4 | AE19: 3086121101113 | AF19: 0070330101593 | AG19: 03086128099222 | AH19: 03086127487815 | AJ19: 32.99.12.0 | AK19: 96081099 | AL19: =_xlfn.XLOOKUP(Table13[[#This Row],[Rabat Indywidualny]],'PC2 code'!A:A,'PC2 code'!B:B,0) -> 00
A20: 8099231 | B20: =TEXT(Table13[[#This Row],[Kod EAN (Sku)]],"0000000000000") -> 3086121101144 | C20: =IF(AND(Table13[[#This Row],[Kod EAN (Szt)]]<>0,Table13[[#This Row],[Kod EAN (Szt)]]<>"0"),TEXT(Table13[[#This Row],[Kod EAN (Szt)]],"0000000000000"),"") -> 0070330101623 | D20: BIC Cristal Fine Orange Długopis czarny Pudełko 20szt | E20: PROD SZKOLNO BIUROWE | F20: ARTYKUŁY PIŚMIENNICZE | H20: 26.57 | J20: =Table13[[#This Row],[Cena Netto]]*(1-Table13[[#This Row],[Rabat Długoterminowy]]) -> 26.57 | K20: =IF(TRIM($D$8)='Payment Term'!A$1,1-(1-$D$9)*(1-2%),$D$9) -> 0.25 | M20: =1-(1-Table13[[#This Row],[Rabat Długoterminowy]])*(1-Table13[[#This Row],[Dodatkowy rabat kwartału (składany)]]) -> 0 | N20: 0 | O20: =ROUND(Table13[[#This Row],[Cena Netto Po Rabacie Długoterminowym]]*(1-Table13[[#This Row],[Rabat Podstawowy]])*(1-Table13[[#This Row],[Dodatkowy rabat kwartału (składany)]])*(1-Table13[[#This Row],[Rabat Indywidualny]]),2) -> 19.93 | P20: =Table13[[#This Row],[Сena SKU Po Wszystkich Rabatach]]/Table13[[#This Row],[Szt/ Opak.]] -> 0.9965 | Q20: 20 | R20: 1 | S20: =IF(ISERROR(Table13[[#This Row],[W Inner]]),Table13[[#This Row],[W Outer]],IF(AND(Table13[[#This Row],[W Inner]]>0,Table13[[#This Row],[W Inner]]<>"0"),Table13[[#This Row],[W Inner]],Table13[[#This Row],[W Outer]])) -> 5 | U20: =IF(ISERROR(Table13[[#This Row],[Zamówienie - Ilosc SKU '[Szt']]]), "", IF(MROUND(Table13[[#This Row],[Zamówienie - Ilosc SKU '[Szt']]],Table13[[#This Row],[Min. Ilość Zam. Sku]])<Table13[[#This Row],[Zamówienie - Ilosc SKU '[Szt']]],MROUND(Table13[[#This Row],[Zamówienie - Ilosc SKU '[Szt']]],Table13[[#This Row],[Min. Ilość Zam. Sku]])+Table13[[#This Row],[Min. Ilość Zam. Sku]],MROUND(Table13[[#This Row],[Zamówienie - Ilosc SKU '[Szt']]],Table13[[#This Row],[Min. Ilość Zam. Sku]]))) -> 0 | V20: =IF(Table13[[#This Row],[Zamówienie - Ilosc SKU '[Szt']]]=0,0,MOD(Table13[[#This Row],[Zamówienie - Ilosc SKU '[Szt']]],Table13[[#This Row],[Min. Ilość Zam. Sku]])-0.5) -> 0 | W20: =Table13[[#This Row],[Сena SKU Po Wszystkich Rabatach]]*U20 -> 0 | X20: =IF(Table13[[#This Row],[Zamówienie - Ilosc SKU '[Szt']]]=0,"Niezamówione produkty","Zamówione produkty") -> Niezamówione produkty | Y20: 5 | Z20: 50 | AA20: 450 | AB20: 1800 | AC20: =+Table13[[#This Row],[Na Palecie]]/Table13[[#This Row],[W Outer]] -> 36 | AD20: =+Table13[[#This Row],[Na Palecie]]/Table13[[#This Row],[Na Warstwie]] -> 4 | AE20: 3086121101144 | AF20: 0070330101623 | AG20: 03086128099239 | AH20: 03086127487822 | AJ20: 32.99.12.0 | AK20: 96081099 | AL20: =_xlfn.XLOOKUP(Table13[[#This Row],[Rabat Indywidualny]],'PC2 code'!A:A,'PC2 code'!B:B,0) -> 00
A21: 8099241 | B21: =TEXT(Table13[[#This Row],[Kod EAN (Sku)]],"0000000000000") -> 3086121101120 | C21: =IF(AND(Table13[[#This Row],[Kod EAN (Szt)]]<>0,Table13[[#This Row],[Kod EAN (Szt)]]<>"0"),TEXT(Table13[[#This Row],[Kod EAN (Szt)]],"0000000000000"),"") -> 0070330101609 | D21: BIC Cristal Fine Orange Długopis czerwony Pudełko 20szt | E21: PROD SZKOLNO BIUROWE | F21: ARTYKUŁY PIŚMIENNICZE | H21: 26.57 | J21: =Table13[[#This Row],[Cena Netto]]*(1-Table13[[#This Row],[Rabat Długoterminowy]]) -> 26.57 | K21: =IF(TRIM($D$8)='Payment Term'!A$1,1-(1-$D$9)*(1-2%),$D$9) -> 0.25 | M21: =1-(1-Table13[[#This Row],[Rabat Długoterminowy]])*(1-Table13[[#This Row],[Dodatkowy rabat kwartału (składany)]]) -> 0 | N21: 0 | O21: =ROUND(Table13[[#This Row],[Cena Netto Po Rabacie Długoterminowym]]*(1-Table13[[#This Row],[Rabat Podstawowy]])*(1-Table13[[#This Row],[Dodatkowy rabat kwartału (składany)]])*(1-Table13[[#This Row],[Rabat Indywidualny]]),2) -> 19.93 | P21: =Table13[[#This Row],[Сena SKU Po Wszystkich Rabatach]]/Table13[[#This Row],[Szt/ Opak.]] -> 0.9965 | Q21: 20 | R21: 1 | S21: =IF(ISERROR(Table13[[#This Row],[W Inner]]),Table13[[#This Row],[W Outer]],IF(AND(Table13[[#This Row],[W Inner]]>0,Table13[[#This Row],[W Inner]]<>"0"),Table13[[#This Row],[W Inner]],Table13[[#This Row],[W Outer]])) -> 5 | U21: =IF(ISERROR(Table13[[#This Row],[Zamówienie - Ilosc SKU '[Szt']]]), "", IF(MROUND(Table13[[#This Row],[Zamówienie - Ilosc SKU '[Szt']]],Table13[[#This Row],[Min. Ilość Zam. Sku]])<Table13[[#This Row],[Zamówienie - Ilosc SKU '[Szt']]],MROUND(Table13[[#This Row],[Zamówienie - Ilosc SKU '[Szt']]],Table13[[#This Row],[Min. Ilość Zam. Sku]])+Table13[[#This Row],[Min. Ilość Zam. Sku]],MROUND(Table13[[#This Row],[Zamówienie - Ilosc SKU '[Szt']]],Table13[[#This Row],[Min. Ilość Zam. Sku]]))) -> 0 | V21: =IF(Table13[[#This Row],[Zamówienie - Ilosc SKU '[Szt']]]=0,0,MOD(Table13[[#This Row],[Zamówienie - Ilosc SKU '[Szt']]],Table13[[#This Row],[Min. Ilość Zam. Sku]])-0.5) -> 0 | W21: =Table13[[#This Row],[Сena SKU Po Wszystkich Rabatach]]*U21 -> 0 | X21: =IF(Table13[[#This Row],[Zamówienie - Ilosc SKU '[Szt']]]=0,"Niezamówione produkty","Zamówione produkty") -> Niezamówione produkty | Y21: 5 | Z21: 50 | AA21: 450 | AB21: 1800 | AC21: =+Table13[[#This Row],[Na Palecie]]/Table13[[#This Row],[W Outer]] -> 36 | AD21: =+Table13[[#This Row],[Na Palecie]]/Table13[[#This Row],[Na Warstwie]] -> 4 | AE21: 3086121101120 | AF21: 0070330101609 | AG21: 03086128099246 | AH21: 03086127487839 | AJ21: 32.99.12.0 | AK21: 96081099 | AL21: =_xlfn.XLOOKUP(Table13[[#This Row],[Rabat Indywidualny]],'PC2 code'!A:A,'PC2 code'!B:B,0) -> 00
A22: 1199110113 | B22: =TEXT(Table13[[#This Row],[Kod EAN (Sku)]],"0000000000000") -> 3086121101137 | C22: =IF(AND(Table13[[#This Row],[Kod EAN (Szt)]]<>0,Table13[[#This Row],[Kod EAN (Szt)]]<>"0"),TEXT(Table13[[#This Row],[Kod EAN (Szt)]],"0000000000000"),"") | D22: BIC Cristal Fine Orange Długopis zielony Pudełko 20szt | E22: PROD SZKOLNO BIUROWE | F22: ARTYKUŁY PIŚMIENNICZE | H22: 26.57 | J22: =Table13[[#This Row],[Cena Netto]]*(1-Table13[[#This Row],[Rabat Długoterminowy]]) -> 26.57 | K22: =IF(TRIM($D$8)='Payment Term'!A$1,1-(1-$D$9)*(1-2%),$D$9) -> 0.25 | M22: =1-(1-Table13[[#This Row],[Rabat Długoterminowy]])*(1-Table13[[#This Row],[Dodatkowy rabat kwartału (składany)]]) -> 0 | N22: 0 | O22: =ROUND(Table13[[#This Row],[Cena Netto Po Rabacie Długoterminowym]]*(1-Table13[[#This Row],[Rabat Podstawowy]])*(1-Table13[[#This Row],[Dodatkowy rabat kwartału (składany)]])*(1-Table13[[#This Row],[Rabat Indywidualny]]),2) -> 19.93 | P22: =Table13[[#This Row],[Сena SKU Po Wszystkich Rabatach]]/Table13[[#This Row],[Szt/ Opak.]] -> 0.9965 | Q22: 20 | R22: 1 | S22: =IF(ISERROR(Table13[[#This Row],[W Inner]]),Table13[[#This Row],[W Outer]],IF(AND(Table13[[#This Row],[W Inner]]>0,Table13[[#This Row],[W Inner]]<>"0"),Table13[[#This Row],[W Inner]],Table13[[#This Row],[W Outer]])) -> 5 | U22: =IF(ISERROR(Table13[[#This Row],[Zamówienie - Ilosc SKU '[Szt']]]), "", IF(MROUND(Table13[[#This Row],[Zamówienie - Ilosc SKU '[Szt']]],Table13[[#This Row],[Min. Ilość Zam. Sku]])<Table13[[#This Row],[Zamówienie - Ilosc SKU '[Szt']]],MROUND(Table13[[#This Row],[Zamówienie - Ilosc SKU '[Szt']]],Table13[[#This Row],[Min. Ilość Zam. Sku]])+Table13[[#This Row],[Min. Ilość Zam. Sku]],MROUND(Table13[[#This Row],[Zamówienie - Ilosc SKU '[Szt']]],Table13[[#This Row],[Min. Ilość Zam. Sku]]))) -> 0 | V22: =IF(Table13[[#This Row],[Zamówienie - Ilosc SKU '[Szt']]]=0,0,MOD(Table13[[#This Row],[Zamówienie - Ilosc SKU '[Szt']]],Table13[[#This Row],[Min. Ilość Zam. Sku]])-0.5) -> 0 | W22: =Table13[[#This Row],[Сena SKU Po Wszystkich Rabatach]]*U22 -> 0 | X22: =IF(Table13[[#This Row],[Zamówienie - Ilosc SKU '[Szt']]]=0,"Niezamówione produkty","Zamówione produkty") -> Niezamówione produkty | Y22: 5 | Z22: 50 | AA22: 450 | AB22: 1800 | AC22: =+Table13[[#This Row],[Na Palecie]]/Table13[[#This Row],[W Outer]] -> 36 | AD22: =+Table13[[#This Row],[Na Palecie]]/Table13[[#This Row],[Na Warstwie]] -> 4 | AE22: 3086121101137 | AF22: 0 | AG22: 13086121101134 | AH22: 03086127144138 | AJ22: 32.99.12.0 | AK22: 96081099 | AL22: =_xlfn.XLOOKUP(Table13[[#This Row],[Rabat Indywidualny]],'PC2 code'!A:A,'PC2 code'!B:B,0) -> 00
A23: 8249851 | B23: =TEXT(Table13[[#This Row],[Kod EAN (Sku)]],"0000000000000") -> 3086121101113 | C23: =IF(AND(Table13[[#This Row],[Kod EAN (Szt)]]<>0,Table13[[#This Row],[Kod EAN (Szt)]]<>"0"),TEXT(Table13[[#This Row],[Kod EAN (Szt)]],"0000000000000"),"") | D23: BIC Cristal Fine Orange Długopis niebieski folia Pudełko 20szt | E23: PROD SZKOLNO BIUROWE | F23: ARTYKUŁY PIŚMIENNICZE | H23: 28.65 | J23: =Table13[[#This Row],[Cena Netto]]*(1-Table13[[#This Row],[Rabat Długoterminowy]]) -> 28.65 | K23: =IF(TRIM($D$8)='Payment Term'!A$1,1-(1-$D$9)*(1-2%),$D$9) -> 0.25 | M23: =1-(1-Table13[[#This Row],[Rabat Długoterminowy]])*(1-Table13[[#This Row],[Dodatkowy rabat kwartału (składany)]]) -> 0 | N23: 0 | O23: =ROUND(Table13[[#This Row],[Cena Netto Po Rabacie Długoterminowym]]*(1-Table13[[#This Row],[Rabat Podstawowy]])*(1-Table13[[#This Row],[Dodatkowy rabat kwartału (składany)]])*(1-Table13[[#This Row],[Rabat Indywidualny]]),2) -> 21.49 | P23: =Table13[[#This Row],[Сena SKU Po Wszystkich Rabatach]]/Table13[[#This Row],[Szt/ Opak.]] -> 1.0745 | Q23: 20 | R23: 1 | S23: =IF(ISERROR(Table13[[#This Row],[W Inner]]),Table13[[#This Row],[W Outer]],IF(AND(Table13[[#This Row],[W Inner]]>0,Table13[[#This Row],[W Inner]]<>"0"),Table13[[#This Row],[W Inner]],Table13[[#This Row],[W Outer]])) -> 50 | U23: =IF(ISERROR(Table13[[#This Row],[Zamówienie - Ilosc SKU '[Szt']]]), "", IF(MROUND(Table13[[#This Row],[Zamówienie - Ilosc SKU '[Szt']]],Table13[[#This Row],[Min. Ilość Zam. Sku]])<Table13[[#This Row],[Zamówienie - Ilosc SKU '[Szt']]],MROUND(Table13[[#This Row],[Zamówienie - Ilosc SKU '[Szt']]],Table13[[#This Row],[Min. Ilość Zam. Sku]])+Table13[[#This Row],[Min. Ilość Zam. Sku]],MROUND(Table13[[#This Row],[Zamówienie - Ilosc SKU '[Szt']]],Table13[[#This Row],[Min. Ilość Zam. Sku]]))) -> 0 | V23: =IF(Table13[[#This Row],[Zamówienie - Ilosc SKU '[Szt']]]=0,0,MOD(Table13[[#This Row],[Zamówienie - Ilosc SKU '[Szt']]],Table13[[#This Row],[Min. Ilość Zam. Sku]])-0.5) -> 0 | W23: =Table13[[#This Row],[Сena SKU Po Wszystkich Rabatach]]*U23 -> 0 | X23: =IF(Table13[[#This Row],[Zamówienie - Ilosc SKU '[Szt']]]=0,"Niezamówione produkty","Zamówione produkty") -> Niezamówione produkty | Y23: 0 | Z23: 50 | AA23: 450 | AB23: 1800 | AC23: =+Table13[[#This Row],[Na Palecie]]/Table13[[#This Row],[W Outer]] -> 36 | AD23: =+Table13[[#This Row],[Na Palecie]]/Table13[[#This Row],[Na Warstwie]] -> 4 | AE23: 3086121101113 | AF23: 0 | AG23: 03086128099222 | AH23: 03086127488720 | AJ23: 32.99.12.0 | AK23: 96081099 | AL23: =_xlfn.XLOOKUP(Table13[[#This Row],[Rabat Indywidualny]],'PC2 code'!A:A,'PC2 code'!B:B,0) -> 00
A24: 8249881 | B24: =TEXT(Table13[[#This Row],[Kod EAN (Sku)]],"0000000000000") -> 3086121101144 | C24: =IF(AND(Table13[[#This Row],[Kod EAN (Szt)]]<>0,Table13[[#This Row],[Kod EAN (Szt)]]<>"0"),TEXT(Table13[[#This Row],[Kod EAN (Szt)]],"0000000000000"),"") | D24: BIC Cristal Fine Orange Długopis czarny folia Pudełko 20szt | E24: PROD SZKOLNO BIUROWE | F24: ARTYKUŁY PIŚMIENNICZE | H24: 28.65 | J24: =Table13[[#This Row],[Cena Netto]]*(1-Table13[[#This Row],[Rabat Długoterminowy]]) -> 28.65 | K24: =IF(TRIM($D$8)='Payment Term'!A$1,1-(1-$D$9)*(1-2%),$D$9) -> 0.25 | M24: =1-(1-Table13[[#This Row],[Rabat Długoterminowy]])*(1-Table13[[#This Row],[Dodatkowy rabat kwartału (składany)]]) -> 0 | N24: 0 | O24: =ROUND(Table13[[#This Row],[Cena Netto Po Rabacie Długoterminowym]]*(1-Table13[[#This Row],[Rabat Podstawowy]])*(1-Table13[[#This Row],[Dodatkowy rabat kwartału (składany)]])*(1-Table13[[#This Row],[Rabat Indywidualny]]),2) -> 21.49 | P24: =Table13[[#This Row],[Сena SKU Po Wszystkich Rabatach]]/Table13[[#This Row],[Szt/ Opak.]] -> 1.0745 | Q24: 20 | R24: 1 | S24: =IF(ISERROR(Table13[[#This Row],[W Inner]]),Table13[[#This Row],[W Outer]],IF(AND(Table13[[#This Row],[W Inner]]>0,Table13[[#This Row],[W Inner]]<>"0"),Table13[[#This Row],[W Inner]],Table13[[#This Row],[W Outer]])) -> 50 | U24: =IF(ISERROR(Table13[[#This Row],[Zamówienie - Ilosc SKU '[Szt']]]), "", IF(MROUND(Table13[[#This Row],[Zamówienie - Ilosc SKU '[Szt']]],Table13[[#This Row],[Min. Ilość Zam. Sku]])<Table13[[#This Row],[Zamówienie - Ilosc SKU '[Szt']]],MROUND(Table13[[#This Row],[Zamówienie - Ilosc SKU '[Szt']]],Table13[[#This Row],[Min. Ilość Zam. Sku]])+Table13[[#This Row],[Min. Ilość Zam. Sku]],MROUND(Table13[[#This Row],[Zamówienie - Ilosc SKU '[Szt']]],Table13[[#This Row],[Min. Ilość Zam. Sku]]))) -> 0 | V24: =IF(Table13[[#This Row],[Zamówienie - Ilosc SKU '[Szt']]]=0,0,MOD(Table13[[#This Row],[Zamówienie - Ilosc SKU '[Szt']]],Table13[[#This Row],[Min. Ilość Zam. Sku]])-0.5) -> 0 | W24: =Table13[[#This Row],[Сena SKU Po Wszystkich Rabatach]]*U24 -> 0 | X24: =IF(Table13[[#This Row],[Zamówienie - Ilosc SKU '[Szt']]]=0,"Niezamówione produkty","Zamówione produkty") -> Niezamówione produkty | Y24: 0 | Z24: 50 | AA24: 450 | AB24: 1800 | AC24: =+Table13[[#This Row],[Na Palecie]]/Table13[[#This Row],[W Outer]] -> 36 | AD24: =+Table13[[#This Row],[Na Palecie]]/Table13[[#This Row],[Na Warstwie]] -> 4 | AE24: 3086121101144 | AF24: 0 | AG24: 03086128099239 | AH24: 03086127488737 | AJ24: 32.99.12.0 | AK24: 96081099 | AL24: =_xlfn.XLOOKUP(Table13[[#This Row],[Rabat Indywidualny]],'PC2 code'!A:A,'PC2 code'!B:B,0) -> 00
A25: 516338 | B25: =TEXT(Table13[[#This Row],[Kod EAN (Sku)]],"0000000000000") -> 3086123734609 | C25: =IF(AND(Table13[[#This Row],[Kod EAN (Szt)]]<>0,Table13[[#This Row],[Kod EAN (Szt)]]<>"0"),TEXT(Table13[[#This Row],[Kod EAN (Szt)]],"0000000000000"),"") | D25: BIC Cristal Original Fine Długopis niebieski Pouch 4szt | E25: PROD SZKOLNO BIUROWE | F25: ARTYKUŁY PIŚMIENNICZE | H25: 8.33 | J25: =Table13[[#This Row],[Cena Netto]]*(1-Table13[[#This Row],[Rabat Długoterminowy]]) -> 8.33 | K25: =IF(TRIM($D$8)='Payment Term'!A$1,1-(1-$D$9)*(1-2%),$D$9) -> 0.25 | M25: =1-(1-Table13[[#This Row],[Rabat Długoterminowy]])*(1-Table13[[#This Row],[Dodatkowy rabat kwartału (składany)]]) -> 0 | N25: 0 | O25: =ROUND(Table13[[#This Row],[Cena Netto Po Rabacie Długoterminowym]]*(1-Table13[[#This Row],[Rabat Podstawowy]])*(1-Table13[[#This Row],[Dodatkowy rabat kwartału (składany)]])*(1-Table13[[#This Row],[Rabat Indywidualny]]),2) -> 6.25 | P25: =Table13[[#This Row],[Сena SKU Po Wszystkich Rabatach]]/Table13[[#This Row],[Szt/ Opak.]] -> 1.5625 | Q25: 4 | R25: 10 | S25: =IF(ISERROR(Table13[[#This Row],[W Inner]]),Table13[[#This Row],[W Outer]],IF(AND(Table13[[#This Row],[W Inner]]>0,Table13[[#This Row],[W Inner]]<>"0"),Table13[[#This Row],[W Inner]],Table13[[#This Row],[W Outer]])) -> 10 | U25: =IF(ISERROR(Table13[[#This Row],[Zamówienie - Ilosc SKU '[Szt']]]), "", IF(MROUND(Table13[[#This Row],[Zamówienie - Ilosc SKU '[Szt']]],Table13[[#This Row],[Min. Ilość Zam. Sku]])<Table13[[#This Row],[Zamówienie - Ilosc SKU '[Szt']]],MROUND(Table13[[#This Row],[Zamówienie - Ilosc SKU '[Szt']]],Table13[[#This Row],[Min. Ilość Zam. Sku]])+Table13[[#This Row],[Min. Ilość Zam. Sku]],MROUND(Table13[[#This Row],[Zamówienie - Ilosc SKU '[Szt']]],Table13[[#This Row],[Min. Ilość Zam. Sku]]))) -> 0 | V25: =IF(Table13[[#This Row],[Zamówienie - Ilosc SKU '[Szt']]]=0,0,MOD(Table13[[#This Row],[Zamówienie - Ilosc SKU '[Szt']]],Table13[[#This Row],[Min. Ilość Zam. Sku]])-0.5) -> 0 | W25: =Table13[[#This Row],[Сena SKU Po Wszystkich Rabatach]]*U25 -> 0 | X25: =IF(Table13[[#This Row],[Zamówienie - Ilosc SKU '[Szt']]]=0,"Niezamówione produkty","Zamówione produkty") -> Niezamówione produkty | Y25: 10 | Z25: 120 | AA25: 720 | AB25: 4320 | AC25: =+Table13[[#This Row],[Na Palecie]]/Table13[[#This Row],[W Outer]] -> 36 | AD25: =+Table13[[#This Row],[Na Palecie]]/Table13[[#This Row],[Na Warstwie]] -> 6 | AE25: 3086123734609 | AF25: 0 | AG25: 03086125163384 | AH25: 03086127693551 | AJ25: 32.99.12.0 | AK25: 96081099 | AL25: =_xlfn.XLOOKUP(Table13[[#This Row],[Rabat Indywidualny]],'PC2 code'!A:A,'PC2 code'!B:B,0) -> 00
A26: 516339 | B26: =TEXT(Table13[[#This Row],[Kod EAN (Sku)]],"0000000000000") -> 3086123734616 | C26: =IF(AND(Table13[[#This Row],[Kod EAN (Szt)]]<>0,Table13[[#This Row],[Kod EAN (Szt)]]<>"0"),TEXT(Table13[[#This Row],[Kod EAN (Szt)]],"0000000000000"),"") | D26: BIC Cristal Original Fine Długopis czarny Pouch 4szt | E26: PROD SZKOLNO BIUROWE | F26: ARTYKUŁY PIŚMIENNICZE | H26: 8.33 | J26: =Table13[[#This Row],[Cena Netto]]*(1-Table13[[#This Row],[Rabat Długoterminowy]]) -> 8.33 | K26: =IF(TRIM($D$8)='Payment Term'!A$1,1-(1-$D$9)*(1-2%),$D$9) -> 0.25 | M26: =1-(1-Table13[[#This Row],[Rabat Długoterminowy]])*(1-Table13[[#This Row],[Dodatkowy rabat kwartału (składany)]]) -> 0 | N26: 0 | O26: =ROUND(Table13[[#This Row],[Cena Netto Po Rabacie Długoterminowym]]*(1-Table13[[#This Row],[Rabat Podstawowy]])*(1-Table13[[#This Row],[Dodatkowy rabat kwartału (składany)]])*(1-Table13[[#This Row],[Rabat Indywidualny]]),2) -> 6.25 | P26: =Table13[[#This Row],[Сena SKU Po Wszystkich Rabatach]]/Table13[[#This Row],[Szt/ Opak.]] -> 1.5625 | Q26: 4 | R26: 10 | S26: =IF(ISERROR(Table13[[#This Row],[W Inner]]),Table13[[#This Row],[W Outer]],IF(AND(Table13[[#This Row],[W Inner]]>0,Table13[[#This Row],[W Inner]]<>"0"),Table13[[#This Row],[W Inner]],Table13[[#This Row],[W Outer]])) -> 10 | U26: =IF(ISERROR(Table13[[#This Row],[Zamówienie - Ilosc SKU '[Szt']]]), "", IF(MROUND(Table13[[#This Row],[Zamówienie - Ilosc SKU '[Szt']]],Table13[[#This Row],[Min. Ilość Zam. Sku]])<Table13[[#This Row],[Zamówienie - Ilosc SKU '[Szt']]],MROUND(Table13[[#This Row],[Zamówienie - Ilosc SKU '[Szt']]],Table13[[#This Row],[Min. Ilość Zam. Sku]])+Table13[[#This Row],[Min. Ilość Zam. Sku]],MROUND(Table13[[#This Row],[Zamówienie - Ilosc SKU '[Szt']]],Table13[[#This Row],[Min. Ilość Zam. Sku]]))) -> 0 | V26: =IF(Table13[[#This Row],[Zamówienie - Ilosc SKU '[Szt']]]=0,0,MOD(Table13[[#This Row],[Zamówienie - Ilosc SKU '[Szt']]],Table13[[#This Row],[Min. Ilość Zam. Sku]])-0.5) -> 0 | W26: =Table13[[#This Row],[Сena SKU Po Wszystkich Rabatach]]*U26 -> 0 | X26: =IF(Table13[[#This Row],[Zamówienie - Ilosc SKU '[Szt']]]=0,"Niezamówione produkty","Zamówione produkty") -> Niezamówione produkty | Y26: 10 | Z26: 120 | AA26: 720 | AB26: 4320 | AC26: =+Table13[[#This Row],[Na Palecie]]/Table13[[#This Row],[W Outer]] -> 36 | AD26: =+Table13[[#This Row],[Na Palecie]]/Table13[[#This Row],[Na Warstwie]] -> 6 | AE26: 3086123734616 | AF26: 0 | AG26: 03086125163391 | AH26: 03086127693568 | AJ26: 32.99.12.0 | AK26: 96081099 | AL26: =_xlfn.XLOOKUP(Table13[[#This Row],[Rabat Indywidualny]],'PC2 code'!A:A,'PC2 code'!B:B,0) -> 00
... A107: 8871331 | B107: =TEXT(Table13[[#This Row],[Kod EAN (Sku)]],"0000000000000") -> 0070330136724 | C107: =IF(AND(Table13[[#This Row],[Kod EAN (Szt)]]<>0,Table13[[#This Row],[Kod EAN (Szt)]]<>"0"),TEXT(Table13[[#This Row],[Kod EAN (Szt)]],"0000000000000"),"") -> 3086123001329 | D107: BIC Atlantis Classic Długopis czerwony Pudełko 12szt | E107: PROD SZKOLNO BIUROWE | F107: ARTYKUŁY PIŚMIENNICZE | H107: 55.39 | J107: =Table13[[#This Row],[Cena Netto]]*(1-Table13[[#This Row],[Rabat Długoterminowy]]) -> 55.39 | K107: =IF(TRIM($D$8)='Payment Term'!A$1,1-(1-$D$9)*(1-2%),$D$9) -> 0.25 | M107: =1-(1-Table13[[#This Row],[Rabat Długoterminowy]])*(1-Table13[[#This Row],[Dodatkowy rabat kwartału (składany)]]) -> 0 | N107: 0 | O107: =ROUND(Table13[[#This Row],[Cena Netto Po Rabacie Długoterminowym]]*(1-Table13[[#This Row],[Rabat Podstawowy]])*(1-Table13[[#This Row],[Dodatkowy rabat kwartału (składany)]])*(1-Table13[[#This Row],[Rabat Indywidualny]]),2) -> 41.54 | P107: =Table13[[#This Row],[Сena SKU Po Wszystkich Rabatach]]/Table13[[#This Row],[Szt/ Opak.]] -> 3.4616667 | Q107: 12 | R107: 1 | S107: =IF(ISERROR(Table13[[#This Row],[W Inner]]),Table13[[#This Row],[W Outer]],IF(AND(Table13[[#This Row],[W Inner]]>0,Table13[[#This Row],[W Inner]]<>"0"),Table13[[#This Row],[W Inner]],Table13[[#This Row],[W Outer]])) -> 18 | U107: =IF(ISERROR(Table13[[#This Row],[Zamówienie - Ilosc SKU '[Szt']]]), "", IF(MROUND(Table13[[#This Row],[Zamówienie - Ilosc SKU '[Szt']]],Table13[[#This Row],[Min. Ilość Zam. Sku]])<Table13[[#This Row],[Zamówienie - Ilosc SKU '[Szt']]],MROUND(Table13[[#This Row],[Zamówienie - Ilosc SKU '[Szt']]],Table13[[#This Row],[Min. Ilość Zam. Sku]])+Table13[[#This Row],[Min. Ilość Zam. Sku]],MROUND(Table13[[#This Row],[Zamówienie - Ilosc SKU '[Szt']]],Table13[[#This Row],[Min. Ilość Zam. Sku]]))) -> 0 | V107: =IF(Table13[[#This Row],[Zamówienie - Ilosc SKU '[Szt']]]=0,0,MOD(Table13[[#This Row],[Zamówienie - Ilosc SKU '[Szt']]],Table13[[#This Row],[Min. Ilość Zam. Sku]])-0.5) -> 0 | W107: =Table13[[#This Row],[Сena SKU Po Wszystkich Rabatach]]*U107 -> 0 | X107: =IF(Table13[[#This Row],[Zamówienie - Ilosc SKU '[Szt']]]=0,"Niezamówione produkty","Zamówione produkty") -> Niezamówione produkty | Y107: 0 | Z107: 18 | AA107: 306 | AB107: 1836 | AC107: =+Table13[[#This Row],[Na Palecie]]/Table13[[#This Row],[W Outer]] -> 102 | AD107: =+Table13[[#This Row],[Na Palecie]]/Table13[[#This Row],[Na Warstwie]] -> 6 | AE107: 0070330136724 | AF107: 3086123001329 | AG107: 03086128871330 | AH107: 03086127492284 | AJ107: 32.99.12.0 | AK107: 96081092 | AL107: =_xlfn.XLOOKUP(Table13[[#This Row],[Rabat Indywidualny]],'PC2 code'!A:A,'PC2 code'!B:B,0) -> 00
A108: 8031246 | B108: =TEXT(Table13[[#This Row],[Kod EAN (Sku)]],"0000000000000") -> 0070330136663 | C108: =IF(AND(Table13[[#This Row],[Kod EAN (Szt)]]<>0,Table13[[#This Row],[Kod EAN (Szt)]]<>"0"),TEXT(Table13[[#This Row],[Kod EAN (Szt)]],"0000000000000"),"") | D108: BIC Atlantis Soft Długopis niebieski Blister 1szt | E108: PROD SZKOLNO BIUROWE | F108: ARTYKUŁY PIŚMIENNICZE | H108: 6.36 | J108: =Table13[[#This Row],[Cena Netto]]*(1-Table13[[#This Row],[Rabat Długoterminowy]]) -> 6.36 | K108: =IF(TRIM($D$8)='Payment Term'!A$1,1-(1-$D$9)*(1-2%),$D$9) -> 0.25 | L108: 0.1 | M108: =1-(1-Table13[[#This Row],[Rabat Długoterminowy]])*(1-Table13[[#This Row],[Dodatkowy rabat kwartału (składany)]]) -> 0.1 | N108: 0 | O108: =ROUND(Table13[[#This Row],[Cena Netto Po Rabacie Długoterminowym]]*(1-Table13[[#This Row],[Rabat Podstawowy]])*(1-Table13[[#This Row],[Dodatkowy rabat kwartału (składany)]])*(1-Table13[[#This Row],[Rabat Indywidualny]]),2) -> 4.29 | P108: =Table13[[#This Row],[Сena SKU Po Wszystkich Rabatach]]/Table13[[#This Row],[Szt/ Opak.]] -> 4.29 | Q108: 1 | R108: 20 | S108: =IF(ISERROR(Table13[[#This Row],[W Inner]]),Table13[[#This Row],[W Outer]],IF(AND(Table13[[#This Row],[W Inner]]>0,Table13[[#This Row],[W Inner]]<>"0"),Table13[[#This Row],[W Inner]],Table13[[#This Row],[W Outer]])) -> 20 | U108: =IF(ISERROR(Table13[[#This Row],[Zamówienie - Ilosc SKU '[Szt']]]), "", IF(MROUND(Table13[[#This Row],[Zamówienie - Ilosc SKU '[Szt']]],Table13[[#This Row],[Min. Ilość Zam. Sku]])<Table13[[#This Row],[Zamówienie - Ilosc SKU '[Szt']]],MROUND(Table13[[#This Row],[Zamówienie - Ilosc SKU '[Szt']]],Table13[[#This Row],[Min. Ilość Zam. Sku]])+Table13[[#This Row],[Min. Ilość Zam. Sku]],MROUND(Table13[[#This Row],[Zamówienie - Ilosc SKU '[Szt']]],Table13[[#This Row],[Min. Ilość Zam. Sku]]))) -> 0 | V108: =IF(Table13[[#This Row],[Zamówienie - Ilosc SKU '[Szt']]]=0,0,MOD(Table13[[#This Row],[Zamówienie - Ilosc SKU '[Szt']]],Table13[[#This Row],[Min. Ilość Zam. Sku]])-0.5) -> 0 | W108: =Table13[[#This Row],[Сena SKU Po Wszystkich Rabatach]]*U108 -> 0 | X108: =IF(Table13[[#This Row],[Zamówienie - Ilosc SKU '[Szt']]]=0,"Niezamówione produkty","Zamówione produkty") -> Niezamówione produkty | Y108: 0 | Z108: 20 | AA108: 560 | AB108: 5040 | AC108: =+Table13[[#This Row],[Na Palecie]]/Table13[[#This Row],[W Outer]] -> 252 | AD108: =+Table13[[#This Row],[Na Palecie]]/Table13[[#This Row],[Na Warstwie]] -> 9 | AE108: 0070330136663 | AF108: 0 | AG108: 03086128031246 | AH108: 03086124102841 | AJ108: 32.99.12.0 | AK108: 96081092 | AL108: =_xlfn.XLOOKUP(Table13[[#This Row],[Rabat Indywidualny]],'PC2 code'!A:A,'PC2 code'!B:B,0) -> 00
A109: 8031256 | B109: =TEXT(Table13[[#This Row],[Kod EAN (Sku)]],"0000000000000") -> 0070330136670 | C109: =IF(AND(Table13[[#This Row],[Kod EAN (Szt)]]<>0,Table13[[#This Row],[Kod EAN (Szt)]]<>"0"),TEXT(Table13[[#This Row],[Kod EAN (Szt)]],"0000000000000"),"") | D109: BIC Atlantis Soft Długopis czarny Blister 1szt | E109: PROD SZKOLNO BIUROWE | F109: ARTYKUŁY PIŚMIENNICZE | H109: 6.36 | J109: =Table13[[#This Row],[Cena Netto]]*(1-Table13[[#This Row],[Rabat Długoterminowy]]) -> 6.36 | K109: =IF(TRIM($D$8)='Payment Term'!A$1,1-(1-$D$9)*(1-2%),$D$9) -> 0.25 | L109: 0.1 | M109: =1-(1-Table13[[#This Row],[Rabat Długoterminowy]])*(1-Table13[[#This Row],[Dodatkowy rabat kwartału (składany)]]) -> 0.1 | N109: 0 | O109: =ROUND(Table13[[#This Row],[Cena Netto Po Rabacie Długoterminowym]]*(1-Table13[[#This Row],[Rabat Podstawowy]])*(1-Table13[[#This Row],[Dodatkowy rabat kwartału (składany)]])*(1-Table13[[#This Row],[Rabat Indywidualny]]),2) -> 4.29 | P109: =Table13[[#This Row],[Сena SKU Po Wszystkich Rabatach]]/Table13[[#This Row],[Szt/ Opak.]] -> 4.29 | Q109: 1 | R109: 20 | S109: =IF(ISERROR(Table13[[#This Row],[W Inner]]),Table13[[#This Row],[W Outer]],IF(AND(Table13[[#This Row],[W Inner]]>0,Table13[[#This Row],[W Inner]]<>"0"),Table13[[#This Row],[W Inner]],Table13[[#This Row],[W Outer]])) -> 20 | U109: =IF(ISERROR(Table13[[#This Row],[Zamówienie - Ilosc SKU '[Szt']]]), "", IF(MROUND(Table13[[#This Row],[Zamówienie - Ilosc SKU '[Szt']]],Table13[[#This Row],[Min. Ilość Zam. Sku]])<Table13[[#This Row],[Zamówienie - Ilosc SKU '[Szt']]],MROUND(Table13[[#This Row],[Zamówienie - Ilosc SKU '[Szt']]],Table13[[#This Row],[Min. Ilość Zam. Sku]])+Table13[[#This Row],[Min. Ilość Zam. Sku]],MROUND(Table13[[#This Row],[Zamówienie - Ilosc SKU '[Szt']]],Table13[[#This Row],[Min. Ilość Zam. Sku]]))) -> 0 | V109: =IF(Table13[[#This Row],[Zamówienie - Ilosc SKU '[Szt']]]=0,0,MOD(Table13[[#This Row],[Zamówienie - Ilosc SKU '[Szt']]],Table13[[#This Row],[Min. Ilość Zam. Sku]])-0.5) -> 0 | W109: =Table13[[#This Row],[Сena SKU Po Wszystkich Rabatach]]*U109 -> 0 | X109: =IF(Table13[[#This Row],[Zamówienie - Ilosc SKU '[Szt']]]=0,"Niezamówione produkty","Zamówione produkty") -> Niezamówione produkty | Y109: 0 | Z109: 20 | AA109: 560 | AB109: 5040 | AC109: =+Table13[[#This Row],[Na Palecie]]/Table13[[#This Row],[W Outer]] -> 252 | AD109: =+Table13[[#This Row],[Na Palecie]]/Table13[[#This Row],[Na Warstwie]] -> 9 | AE109: 0070330136670 | AF109: 0 | AG109: 03086128031253 | AH109: 03086124103978 | AJ109: 32.99.12.0 | AK109: 96081092 | AL109: =_xlfn.XLOOKUP(Table13[[#This Row],[Rabat Indywidualny]],'PC2 code'!A:A,'PC2 code'!B:B,0) -> 00
A110: 9021322 | B110: =TEXT(Table13[[#This Row],[Kod EAN (Sku)]],"0000000000000") -> 3086123307575 | C110: =IF(AND(Table13[[#This Row],[Kod EAN (Szt)]]<>0,Table13[[#This Row],[Kod EAN (Szt)]]<>"0"),TEXT(Table13[[#This Row],[Kod EAN (Szt)]],"0000000000000"),"") -> 0070330182813 | D110: BIC Atlantis Soft Długopis niebieski Pudełko 12szt | E110: PROD SZKOLNO BIUROWE | F110: ARTYKUŁY PIŚMIENNICZE | H110: 58.85 | J110: =Table13[[#This Row],[Cena Netto]]*(1-Table13[[#This Row],[Rabat Długoterminowy]]) -> 58.85 | K110: =IF(TRIM($D$8)='Payment Term'!A$1,1-(1-$D$9)*(1-2%),$D$9) -> 0.25 | L110: 0.1 | M110: =1-(1-Table13[[#This Row],[Rabat Długoterminowy]])*(1-Table13[[#This Row],[Dodatkowy rabat kwartału (składany)]]) -> 0.1 | N110: 0 | O110: =ROUND(Table13[[#This Row],[Cena Netto Po Rabacie Długoterminowym]]*(1-Table13[[#This Row],[Rabat Podstawowy]])*(1-Table13[[#This Row],[Dodatkowy rabat kwartału (składany)]])*(1-Table13[[#This Row],[Rabat Indywidualny]]),2) -> 39.72 | P110: =Table13[[#This Row],[Сena SKU Po Wszystkich Rabatach]]/Table13[[#This Row],[Szt/ Opak.]] -> 3.31 | Q110: 12 | R110: 1 | S110: =IF(ISERROR(Table13[[#This Row],[W Inner]]),Table13[[#This Row],[W Outer]],IF(AND(Table13[[#This Row],[W Inner]]>0,Table13[[#This Row],[W Inner]]<>"0"),Table13[[#This Row],[W Inner]],Table13[[#This Row],[W Outer]])) -> 18 | U110: =IF(ISERROR(Table13[[#This Row],[Zamówienie - Ilosc SKU '[Szt']]]), "", IF(MROUND(Table13[[#This Row],[Zamówienie - Ilosc SKU '[Szt']]],Table13[[#This Row],[Min. Ilość Zam. Sku]])<Table13[[#This Row],[Zamówienie - Ilosc SKU '[Szt']]],MROUND(Table13[[#This Row],[Zamówienie - Ilosc SKU '[Szt']]],Table13[[#This Row],[Min. Ilość Zam. Sku]])+Table13[[#This Row],[Min. Ilość Zam. Sku]],MROUND(Table13[[#This Row],[Zamówienie - Ilosc SKU '[Szt']]],Table13[[#This Row],[Min. Ilość Zam. Sku]]))) -> 0 | V110: =IF(Table13[[#This Row],[Zamówienie - Ilosc SKU '[Szt']]]=0,0,MOD(Table13[[#This Row],[Zamówienie - Ilosc SKU '[Szt']]],Table13[[#This Row],[Min. Ilość Zam. Sku]])-0.5) -> 0 | W110: =Table13[[#This Row],[Сena SKU Po Wszystkich Rabatach]]*U110 -> 0 | X110: =IF(Table13[[#This Row],[Zamówienie - Ilosc SKU '[Szt']]]=0,"Niezamówione produkty","Zamówione produkty") -> Niezamówione produkty | Y110: 0 | Z110: 18 | AA110: 306 | AB110: 1836 | AC110: =+Table13[[#This Row],[Na Palecie]]/Table13[[#This Row],[W Outer]] -> 102 | AD110: =+Table13[[#This Row],[Na Palecie]]/Table13[[#This Row],[Na Warstwie]] -> 6 | AE110: 3086123307575 | AF110: 0070330182813 | AG110: 03086129021321 | AH110: 03086127281833 | AJ110: 32.99.12.0 | AK110: 96081092 | AL110: =_xlfn.XLOOKUP(Table13[[#This Row],[Rabat Indywidualny]],'PC2 code'!A:A,'PC2 code'!B:B,0) -> 00
A111: 9021332 | B111: =TEXT(Table13[[#This Row],[Kod EAN (Sku)]],"0000000000000") -> 3086123307582 | C111: =IF(AND(Table13[[#This Row],[Kod EAN (Szt)]]<>0,Table13[[#This Row],[Kod EAN (Szt)]]<>"0"),TEXT(Table13[[#This Row],[Kod EAN (Szt)]],"0000000000000"),"") -> 0070330182806 | D111: BIC Atlantis Soft Długopis czarny Pudełko 12szt | E111: PROD SZKOLNO BIUROWE | F111: ARTYKUŁY PIŚMIENNICZE | H111: 58.85 | J111: =Table13[[#This Row],[Cena Netto]]*(1-Table13[[#This Row],[Rabat Długoterminowy]]) -> 58.85 | K111: =IF(TRIM($D$8)='Payment Term'!A$1,1-(1-$D$9)*(1-2%),$D$9) -> 0.25 | L111: 0.1 | M111: =1-(1-Table13[[#This Row],[Rabat Długoterminowy]])*(1-Table13[[#This Row],[Dodatkowy rabat kwartału (składany)]]) -> 0.1 | N111: 0 | O111: =ROUND(Table13[[#This Row],[Cena Netto Po Rabacie Długoterminowym]]*(1-Table13[[#This Row],[Rabat Podstawowy]])*(1-Table13[[#This Row],[Dodatkowy rabat kwartału (składany)]])*(1-Table13[[#This Row],[Rabat Indywidualny]]),2) -> 39.72 | P111: =Table13[[#This Row],[Сena SKU Po Wszystkich Rabatach]]/Table13[[#This Row],[Szt/ Opak.]] -> 3.31 | Q111: 12 | R111: 1 | S111: =IF(ISERROR(Table13[[#This Row],[W Inner]]),Table13[[#This Row],[W Outer]],IF(AND(Table13[[#This Row],[W Inner]]>0,Table13[[#This Row],[W Inner]]<>"0"),Table13[[#This Row],[W Inner]],Table13[[#This Row],[W Outer]])) -> 18 | U111: =IF(ISERROR(Table13[[#This Row],[Zamówienie - Ilosc SKU '[Szt']]]), "", IF(MROUND(Table13[[#This Row],[Zamówienie - Ilosc SKU '[Szt']]],Table13[[#This Row],[Min. Ilość Zam. Sku]])<Table13[[#This Row],[Zamówienie - Ilosc SKU '[Szt']]],MROUND(Table13[[#This Row],[Zamówienie - Ilosc SKU '[Szt']]],Table13[[#This Row],[Min. Ilość Zam. Sku]])+Table13[[#This Row],[Min. Ilość Zam. Sku]],MROUND(Table13[[#This Row],[Zamówienie - Ilosc SKU '[Szt']]],Table13[[#This Row],[Min. Ilość Zam. Sku]]))) -> 0 | V111: =IF(Table13[[#This Row],[Zamówienie - Ilosc SKU '[Szt']]]=0,0,MOD(Table13[[#This Row],[Zamówienie - Ilosc SKU '[Szt']]],Table13[[#This Row],[Min. Ilość Zam. Sku]])-0.5) -> 0 | W111: =Table13[[#This Row],[Сena SKU Po Wszystkich Rabatach]]*U111 -> 0 | X111: =IF(Table13[[#This Row],[Zamówienie - Ilosc SKU '[Szt']]]=0,"Niezamówione produkty","Zamówione produkty") -> Niezamówione produkty | Y111: 0 | Z111: 18 | AA111: 306 | AB111: 1836 | AC111: =+Table13[[#This Row],[Na Palecie]]/Table13[[#This Row],[W Outer]] -> 102 | AD111: =+Table13[[#This Row],[Na Palecie]]/Table13[[#This Row],[Na Warstwie]] -> 6 | AE111: 3086123307582 | AF111: 0070330182806 | AG111: 03086129021338 | AH111: 03086127281840 | AJ111: 32.99.12.0 | AK111: 96081092 | AL111: =_xlfn.XLOOKUP(Table13[[#This Row],[Rabat Indywidualny]],'PC2 code'!A:A,'PC2 code'!B:B,0) -> 00
A112: 893224 | B112: =TEXT(Table13[[#This Row],[Kod EAN (Sku)]],"0000000000000") -> 3086123256491 | C112: =IF(AND(Table13[[#This Row],[Kod EAN (Szt)]]<>0,Table13[[#This Row],[Kod EAN (Szt)]]<>"0"),TEXT(Table13[[#This Row],[Kod EAN (Szt)]],"0000000000000"),"") | D112: BIC Bu3 Grip Długopis niebieski Blister 2szt | E112: PROD SZKOLNO BIUROWE | F112: ARTYKUŁY PIŚMIENNICZE | H112: 6.72 | J112: =Table13[[#This Row],[Cena Netto]]*(1-Table13[[#This Row],[Rabat Długoterminowy]]) -> 6.72 | K112: =IF(TRIM($D$8)='Payment Term'!A$1,1-(1-$D$9)*(1-2%),$D$9) -> 0.25 | M112: =1-(1-Table13[[#This Row],[Rabat Długoterminowy]])*(1-Table13[[#This Row],[Dodatkowy rabat kwartału (składany)]]) -> 0 | N112: 0 | O112: =ROUND(Table13[[#This Row],[Cena Netto Po Rabacie Długoterminowym]]*(1-Table13[[#This Row],[Rabat Podstawowy]])*(1-Table13[[#This Row],[Dodatkowy rabat kwartału (składany)]])*(1-Table13[[#This Row],[Rabat Indywidualny]]),2) -> 5.04 | P112: =Table13[[#This Row],[Сena SKU Po Wszystkich Rabatach]]/Table13[[#This Row],[Szt/ Opak.]] -> 2.52 | Q112: 2 | R112: 20 | S112: =IF(ISERROR(Table13[[#This Row],[W Inner]]),Table13[[#This Row],[W Outer]],IF(AND(Table13[[#This Row],[W Inner]]>0,Table13[[#This Row],[W Inner]]<>"0"),Table13[[#This Row],[W Inner]],Table13[[#This Row],[W Outer]])) -> 20 | U112: =IF(ISERROR(Table13[[#This Row],[Zamówienie - Ilosc SKU '[Szt']]]), "", IF(MROUND(Table13[[#This Row],[Zamówienie - Ilosc SKU '[Szt']]],Table13[[#This Row],[Min. Ilość Zam. Sku]])<Table13[[#This Row],[Zamówienie - Ilosc SKU '[Szt']]],MROUND(Table13[[#This Row],[Zamówienie - Ilosc SKU '[Szt']]],Table13[[#This Row],[Min. Ilość Zam. Sku]])+Table13[[#This Row],[Min. Ilość Zam. Sku]],MROUND(Table13[[#This Row],[Zamówienie - Ilosc SKU '[Szt']]],Table13[[#This Row],[Min. Ilość Zam. Sku]]))) -> 0 | V112: =IF(Table13[[#This Row],[Zamówienie - Ilosc SKU '[Szt']]]=0,0,MOD(Table13[[#This Row],[Zamówienie - Ilosc SKU '[Szt']]],Table13[[#This Row],[Min. Ilość Zam. Sku]])-0.5) -> 0 | W112: =Table13[[#This Row],[Сena SKU Po Wszystkich Rabatach]]*U112 -> 0 | X112: =IF(Table13[[#This Row],[Zamówienie - Ilosc SKU '[Szt']]]=0,"Niezamówione produkty","Zamówione produkty") -> Niezamówione produkty | Y112: 0 | Z112: 20 | AA112: 400 | AB112: 2800 | AC112: =+Table13[[#This Row],[Na Palecie]]/Table13[[#This Row],[W Outer]] -> 140 | AD112: =+Table13[[#This Row],[Na Palecie]]/Table13[[#This Row],[Na Warstwie]] -> 7 | AE112: 3086123256491 | AF112: 0 | AG112: 03086128932246 | AH112: 03086127493328 | AJ112: 32.99.12.0 | AK112: 96081092 | AL112: =_xlfn.XLOOKUP(Table13[[#This Row],[Rabat Indywidualny]],'PC2 code'!A:A,'PC2 code'!B:B,0) -> 00
A113: 922577 | B113: =TEXT(Table13[[#This Row],[Kod EAN (Sku)]],"0000000000000") -> 3086123360396 | C113: =IF(AND(Table13[[#This Row],[Kod EAN (Szt)]]<>0,Table13[[#This Row],[Kod EAN (Szt)]]<>"0"),TEXT(Table13[[#This Row],[Kod EAN (Szt)]],"0000000000000"),"") | D113: BIC Bu3 Grip Długopis niebieski Blister 4szt | E113: PROD SZKOLNO BIUROWE | F113: ARTYKUŁY PIŚMIENNICZE | H113: 12.69 | J113: =Table13[[#This Row],[Cena Netto]]*(1-Table13[[#This Row],[Rabat Długoterminowy]]) -> 12.69 | K113: =IF(TRIM($D$8)='Payment Term'!A$1,1-(1-$D$9)*(1-2%),$D$9) -> 0.25 | M113: =1-(1-Table13[[#This Row],[Rabat Długoterminowy]])*(1-Table13[[#This Row],[Dodatkowy rabat kwartału (składany)]]) -> 0 | N113: 0 | O113: =ROUND(Table13[[#This Row],[Cena Netto Po Rabacie Długoterminowym]]*(1-Table13[[#This Row],[Rabat Podstawowy]])*(1-Table13[[#This Row],[Dodatkowy rabat kwartału (składany)]])*(1-Table13[[#This Row],[Rabat Indywidualny]]),2) -> 9.52 | P113: =Table13[[#This Row],[Сena SKU Po Wszystkich Rabatach]]/Table13[[#This Row],[Szt/ Opak.]] -> 2.38 | Q113: 4 | R113: 10 | S113: =IF(ISERROR(Table13[[#This Row],[W Inner]]),Table13[[#This Row],[W Outer]],IF(AND(Table13[[#This Row],[W Inner]]>0,Table13[[#This Row],[W Inner]]<>"0"),Table13[[#This Row],[W Inner]],Table13[[#This Row],[W Outer]])) -> 10 | U113: =IF(ISERROR(Table13[[#This Row],[Zamówienie - Ilosc SKU '[Szt']]]), "", IF(MROUND(Table13[[#This Row],[Zamówienie - Ilosc SKU '[Szt']]],Table13[[#This Row],[Min. Ilość Zam. Sku]])<Table13[[#This Row],[Zamówienie - Ilosc SKU '[Szt']]],MROUND(Table13[[#This Row],[Zamówienie - Ilosc SKU '[Szt']]],Table13[[#This Row],[Min. Ilość Zam. Sku]])+Table13[[#This Row],[Min. Ilość Zam. Sku]],MROUND(Table13[[#This Row],[Zamówienie - Ilosc SKU '[Szt']]],Table13[[#This Row],[Min. Ilość Zam. Sku]]))) -> 0 | V113: =IF(Table13[[#This Row],[Zamówienie - Ilosc SKU '[Szt']]]=0,0,MOD(Table13[[#This Row],[Zamówienie - Ilosc SKU '[Szt']]],Table13[[#This Row],[Min. Ilość Zam. Sku]])-0.5) -> 0 | W113: =Table13[[#This Row],[Сena SKU Po Wszystkich Rabatach]]*U113 -> 0 | X113: =IF(Table13[[#This Row],[Zamówienie - Ilosc SKU '[Szt']]]=0,"Niezamówione produkty","Zamówione produkty") -> Niezamówione produkty | Y113: 0 | Z113: 10 | AA113: 280 | AB113: 1680 | AC113: =+Table13[[#This Row],[Na Palecie]]/Table13[[#This Row],[W Outer]] -> 168 | AD113: =+Table13[[#This Row],[Na Palecie]]/Table13[[#This Row],[Na Warstwie]] -> 6 | AE113: 3086123360396 | AF113: 0 | AG113: 03086129225774 | AH113: 03086127333662 | AJ113: 32.99.12.0 | AK113: 96081092 | AL113: =_xlfn.XLOOKUP(Table13[[#This Row],[Rabat Indywidualny]],'PC2 code'!A:A,'PC2 code'!B:B,0) -> 00
A114: 919243 | B114: =TEXT(Table13[[#This Row],[Kod EAN (Sku)]],"0000000000000") -> 3086123342606 | C114: =IF(AND(Table13[[#This Row],[Kod EAN (Szt)]]<>0,Table13[[#This Row],[Kod EAN (Szt)]]<>"0"),TEXT(Table13[[#This Row],[Kod EAN (Szt)]],"0000000000000"),"") | D114: BIC Bu3 Grip Długopis czarny Blister 4szt | E114: PROD SZKOLNO BIUROWE | F114: ARTYKUŁY PIŚMIENNICZE | H114: 12.69 | J114: =Table13[[#This Row],[Cena Netto]]*(1-Table13[[#This Row],[Rabat Długoterminowy]]) -> 12.69 | K114: =IF(TRIM($D$8)='Payment Term'!A$1,1-(1-$D$9)*(1-2%),$D$9) -> 0.25 | M114: =1-(1-Table13[[#This Row],[Rabat Długoterminowy]])*(1-Table13[[#This Row],[Dodatkowy rabat kwartału (składany)]]) -> 0 | N114: 0 | O114: =ROUND(Table13[[#This Row],[Cena Netto Po Rabacie Długoterminowym]]*(1-Table13[[#This Row],[Rabat Podstawowy]])*(1-Table13[[#This Row],[Dodatkowy rabat kwartału (składany)]])*(1-Table13[[#This Row],[Rabat Indywidualny]]),2) -> 9.52 | P114: =Table13[[#This Row],[Сena SKU Po Wszystkich Rabatach]]/Table13[[#This Row],[Szt/ Opak.]] -> 2.38 | Q114: 4 | R114: 20 | S114: =IF(ISERROR(Table13[[#This Row],[W Inner]]),Table13[[#This Row],[W Outer]],IF(AND(Table13[[#This Row],[W Inner]]>0,Table13[[#This Row],[W Inner]]<>"0"),Table13[[#This Row],[W Inner]],Table13[[#This Row],[W Outer]])) -> 20 | U114: =IF(ISERROR(Table13[[#This Row],[Zamówienie - Ilosc SKU '[Szt']]]), "", IF(MROUND(Table13[[#This Row],[Zamówienie - Ilosc SKU '[Szt']]],Table13[[#This Row],[Min. Ilość Zam. Sku]])<Table13[[#This Row],[Zamówienie - Ilosc SKU '[Szt']]],MROUND(Table13[[#This Row],[Zamówienie - Ilosc SKU '[Szt']]],Table13[[#This Row],[Min. Ilość Zam. Sku]])+Table13[[#This Row],[Min. Ilość Zam. Sku]],MROUND(Table13[[#This Row],[Zamówienie - Ilosc SKU '[Szt']]],Table13[[#This Row],[Min. Ilość Zam. Sku]]))) -> 0 | V114: =IF(Table13[[#This Row],[Zamówienie - Ilosc SKU '[Szt']]]=0,0,MOD(Table13[[#This Row],[Zamówienie - Ilosc SKU '[Szt']]],Table13[[#This Row],[Min. Ilość Zam. Sku]])-0.5) -> 0 | W114: =Table13[[#This Row],[Сena SKU Po Wszystkich Rabatach]]*U114 -> 0 | X114: =IF(Table13[[#This Row],[Zamówienie - Ilosc SKU '[Szt']]]=0,"Niezamówione produkty","Zamówione produkty") -> Niezamówione produkty | Y114: 0 | Z114: 20 | AA114: 380 | AB114: 1900 | AC114: =+Table13[[#This Row],[Na Palecie]]/Table13[[#This Row],[W Outer]] -> 95 | AD114: =+Table13[[#This Row],[Na Palecie]]/Table13[[#This Row],[Na Warstwie]] -> 5 | AE114: 3086123342606 | AF114: 0 | AG114: 03086129192434 | AH114: 03086127316481 | AJ114: 32.99.12.0 | AK114: 96081092 | AL114: =_xlfn.XLOOKUP(Table13[[#This Row],[Rabat Indywidualny]],'PC2 code'!A:A,'PC2 code'!B:B,0) -> 00
