Workbook
Name colEan: 'WYPRZEDAŻ 2025'!$N:$N
Name colEan: 'Cennik 2025'!$N:$N
Name colEANsJM: 'WYPRZEDAŻ 2025'!$W:$Z
Name colEANsJM: 'Cennik 2025'!$W:$Z
Name colMarka: 'Cennik 2025'!$B:$B
Name colMarka: 'WYPRZEDAŻ 2025'!$B:$B
Name colSymbol: 'Cennik 2025'!$C:$C
Name colSymbol: 'WYPRZEDAŻ 2025'!$C:$C
Name Fragmentator_Marka: #N/A
Name RABAT: 'Cennik 2025'!$Q$6
Name RABAT: 'WYPRZEDAŻ 2025'!$Q$6
Name rngFolderZapisuJpg: Config!$A$1
Name rngIlosc: 'Cennik 2025'!$P:$P
Name rngIlosc: 'WYPRZEDAŻ 2025'!$P:$P
Name rngMarkaSort: Config!$D$1:$E$10
Name rngWartosc: 'Cennik 2025'!$Q:$Q
Name rngWartosc: 'WYPRZEDAŻ 2025'!$Q:$Q
Name rngWylaczPodgladTW: 'Cennik 2025'!$B$2
Name rngWylaczPodgladTW: 'WYPRZEDAŻ 2025'!$B$2
Name rowNagl: 'Cennik 2025'!$10:$10
Name rowNagl: 'WYPRZEDAŻ 2025'!$9:$9

Sheet Config
D1: Marka | E1: Sort
D2: HAPPY COLOR | E2: 100000
D3: STAEDTLER | E3: 200000
D4: STAEDTLER FIMO | E4: 300000
D5: M&G | E5: 400000
D6: FOLIA | E6: 500000
D7: LACO | E7: 600000
D8: MONUMI | E8: 700000
D9: YOUNG INTELLECT | E9: 800000
D10: MAR MAR | E10: 900000
D11: TOCHAIN | E11: 1000000
D12: AUREO | E12: 1100000
D13: YR | E13: 1200000

Sheet Instrukcja
A1: Instrukcja korzystania z Cennika z zamówieniami
A3: Plik MS Excel© "GDD cennik z zamówieniami" pozwala na wygodne przeglądanie listy towarów wraz z podglądem zdjęć.
A4: Aby opcja podglądania zdjęć była dostępna należy przy otwieraniu pliku MS Excel© włączyć obsługę makr, komputer musi mieć dostęp do internetu
A20: oraz opcja "Wyłącz podgląd produktów" (*1), znajdująca się w części nagłówka "ZAMÓWIENIE" (na arkuszu "Cennik"), musi być niezaznaczona.
A21: Jeżeli towar posiada więcej fotografii, to można je przeglądać za pomocą strzałek w oknie "GDD towar info." (*2)
A22: Wyświetlany obraz można zapisać za pomocą przycisku "Zapisz obraz" w oknie "GDD towar info" (*3), ze wskazaniem folderu, w którym ma być zapisany plik fotografii towaru.
A23: Można też w tym oknie zaznaczyć opcję "Zapisz w zapamiętanym folderze" (*4), aby po zapisaniu pierwszego pliku, okno wyboru folderu zapisu było pomijane
A24: , a pliki będą zapisywane we wcześniej wskazanym folderze.
A52: W sekcji "ZAMÓWIENIE" należy wprowadzić informacje o kliencie i miejscu dostawy oraz rabat, a następnie wprowadzić ilości w tabeli dla towarów, które chcemy zamówić.
A66: Po kliknięciu przycisku „Sortuj” w kolumnie „Marka” – wszystkie produkty w cenniku zostaną ustawione w kolejności wg marek. Po kliknięciu przycisku „Sortuj”wg kategorii
A67: w kolumnie „Kategoria” – wszystkie produkty w cenniku zostaną ustawione w kolejności
A73: Po kliknięciu w nazwę marki w cenniku widoczne będą tylko produkty wybranej marki.
... A77: POBIERANIE ZDJĘĆ PRZY POMOCY PRZYCISKÓW "Pobierz obrazy hurtowo Symbol" i "Pobierz obrazy hurtowo EAN"
C80: Po zaznaczeniu wybranych symboli i kliknięciu „Pobierz obrazy hurtowo Symbol” rozpocznie się proces pobierania zdjęć – zapisane zostaną pod nazwą symbolu produktu
C81: „Pobierz obrazy hurtowo EAN” oznacza zapisanie się zdęć po pobraniu pod nazwą kodu EAN.
A91: Przed rozpoczęciem pobierania pojawi się powyższy komunikat, należy kliknąć „Tak”. Następnie trzeba wybrać, gdzie dane zdjęcia będą zapisane.
A101: Raport pobierania to nowy arkusz excel, który pokazuje jakie zdjęcia zostały pobrane.
A112: Przykład raportu po kliknięciu „Pobierz obrazy hurtowo Symbol” | H112: Przykład raportu po kliknięciu „Pobierz obrazy hurtowo EAN”
A114: Podglą zdjęć przy pomocy linków w kolumnie SymKar
C116: Przy pomocy linku zawartego w numerze SymKar można podejżeć zdjęcie i je pobrać.
C117: Fukcja jest przydatna, kiedy nie działają makry.
C119: Po kliknięciu w SymKar zdjęcie otworzy się w przeglądarce
A148: Instrukcja włączenia makr dla wskazanej lokalizacji zaufanej w programie Excel
A150: Należy pamiętać aby podczas wykonywania poniższej instrukcji nie było otwarte żadne okno aplikacji MS Excel.
A152: Należy zacząć od zapisania cennika w lokalizacji lokalnej na komputerze klienta. Może to być na przykład pulpit bądź inne miejsce na dysku lokalnym. Dobrą praktyką jest aby był to folder, który zawiera jedynie zaufane pliki excel z makrami.
A176: Następnie należy uruchomić program excel. Nie ma potrzeby w tym miejscu otwierania pliku cennika. Należy uruchomić pusty dokument i postępować zgodnie ze wskazówkami poniżej:
A271: W jednym z ostatnich kroków wybieramy lokalizację gdzie zapisaliśmy plik cennika. Jeśli wybraliśmy pulpit jak w przykładzie poniżej to dobrą praktyką jest zaznaczenie checkbox-a (pkt 7) aby uwzględnić wszystkie foldery i podfoldery na pulpicie w liście zaufanych lokalizacji.
A301: Na koniec należy wszystkie okna zatwierdzić przyciskiem OK i zamknąć program MS Excel.
A303: Teram możemy uruchomić plik cennika i makra powinny działać

Sheet Cennik 2025
B2: TRUE | C2: Cennik 2025 | S2: Uwagi
C3: BIURO - SZKOŁA - HOBBY (aktualizacja na dzień 09.06.2025) | N3: Data: | P3: Nazwa płatnika:
B4: GDD spółka z ograniczoną odpowiedzialnością spółka komandytowa | N4: Nazwa odbiorcy: | P4: Adres płatnika:
B5: 00-552 Warszawa, Pl Konstytucji 4 lok. 28 | F5: Tel. centrala (22) 566 77 00, Obsługa Klienta (22) 566 77 21, Fax. (22) 566 77 50 | N5: NIP odbiorcy: | P5: NIP płatnika:
B6: BIURO I MAGAZYN: ul. Ogrodnicza 24, 05-830 Wolica k/Warszawy | F6: e-mail zamowienia@gdd.pl, www.gdd.pl | N6: Adres odbiorcy (dostawy): | P6: Rabat (%):
P7: Wartość netto zamówienia przed rabatem: | Q7: =SUMPRODUCT(J11:J4820,P11:P4820) -> 0
P8: Wartość netto zamówienia po rabacie: | Q8: =Q7*(1-RABAT) -> 0
B10: Marka | C10: Symbol | D10: SymKar | E10: Status | F10: Opis produktu | G10: Jm. Handl | H10: Minimalna ilość zamówienia lub wielokrotność | I10: Cena hurtowa netto od 13.01.2025 | J10: Cena hurtowa netto od 01.06.2025 | K10: Różnica procentowa | L10: Kolumna1 | M10: Uwagi PM | N10: Kod kreskowy | O10: VAT | P10: Ilość | Q10: Wartość netto po rabacie | R10: Strona w katalogu | S10: Kategoria | T10: Kod CN | U10: Marka_sort | V10: Marka_sort_plus | W10: szt_KodKres | X10: opk_KodKres | Y10: opk_z_KodKres | Z10: krt_KodKres
B11: HAPPY COLOR | C11: HA 4120 01HW-3 | D11: 018332 | E11: N | F11: Długopis wymazywalny, Holo Wave, z gripem, 0,5 mm, niebieski, Happy color | G11: szt | H11: 12 | I11: 4.19 | J11: 4.19 | K11: =Tabela1[ [#This Row],[Cena hurtowa netto od 01.06.2025] ]/Tabela1[[#This Row],[Cena hurtowa netto od 13.01.2025]]-1 -> 0 | L11: N | N11: 5902979029424 | O11: 0.23 | Q11: =J11*P11*(1-RABAT) -> 0 | S11: DŁUGOPISY WYMAZYWALNE | T11: 96086000 | U11: =VLOOKUP(Tabela1[[#This Row],[Marka]],Config!$D$2:$E$13,2,FALSE)+Tabela1[[#This Row],[Marka_sort_plus]] -> 101010 | V11: 1010 | W11: 5902979029424 | X11: 5902979029431 | Y11: 5902979029448
B12: HAPPY COLOR | C12: HA 4120 01HW-3 KP40 | D12: 018578 | E12: N | F12: Długopis wymazywalny, Holo Wave, z gripem, 0,5 mm, niebieski, 40 szt display Happy color | G12: szt | H12: 1 | I12: 167.6 | J12: 167.6 | K12: =Tabela1[ [#This Row],[Cena hurtowa netto od 01.06.2025] ]/Tabela1[[#This Row],[Cena hurtowa netto od 13.01.2025]]-1 -> 0 | L12: N | N12: 5902979031984 | O12: 0.23 | Q12: =J12*P12*(1-RABAT) -> 0 | S12: DŁUGOPISY WYMAZYWALNE | T12: 96086000 | U12: =VLOOKUP(Tabela1[[#This Row],[Marka]],Config!$D$2:$E$13,2,FALSE)+Tabela1[[#This Row],[Marka_sort_plus]] -> 101010 | V12: 1010 | W12: 5902979031984
B13: HAPPY COLOR | C13: HA 4120 01PF-3 | D13: 017796 | E13: A | F13: Długopis wymazywalny Pearl Flower, 0,5 mm, niebieski, Happy Color | G13: szt | H13: 12 | I13: 4.59 | J13: 4.59 | K13: =Tabela1[ [#This Row],[Cena hurtowa netto od 01.06.2025] ]/Tabela1[[#This Row],[Cena hurtowa netto od 13.01.2025]]-1 -> 0 | L13: A | N13: 5902979022609 | O13: 0.23 | Q13: =J13*P13*(1-RABAT) -> 0 | R13: GDD News 2/76 | S13: DŁUGOPISY WYMAZYWALNE | T13: 96086000 | U13: =VLOOKUP(Tabela1[[#This Row],[Marka]],Config!$D$2:$E$13,2,FALSE)+Tabela1[[#This Row],[Marka_sort_plus]] -> 101010 | V13: 1010 | W13: 5902979022609
B14: HAPPY COLOR | C14: HA 4120 01PF-3 KP36 | D14: 017883 | E14: A | F14: Długopis wymazywalny Pearl Flower, 0,5 mm, niebieski, 36 szt. w displayu, Happy Color | G14: szt | H14: 1 | I14: 165.24 | J14: 165.24 | K14: =Tabela1[ [#This Row],[Cena hurtowa netto od 01.06.2025] ]/Tabela1[[#This Row],[Cena hurtowa netto od 13.01.2025]]-1 -> 0 | L14: A | N14: 5902979023279 | O14: 0.23 | Q14: =J14*P14*(1-RABAT) -> 0 | R14: GDD News 2/76 | S14: DŁUGOPISY WYMAZYWALNE | T14: 96086000 | U14: =VLOOKUP(Tabela1[[#This Row],[Marka]],Config!$D$2:$E$13,2,FALSE)+Tabela1[[#This Row],[Marka_sort_plus]] -> 101010 | V14: 1010 | W14: 5902979023279
B15: HAPPY COLOR | C15: HA 4120 01BW KP40 | D15: 017163 | E15: A | F15: Display - Długopis wymazywalny Black&white, 0.5mm, niebieski, 40 szt., Happy Color | G15: szt | H15: 1 | I15: 167.6 | J15: 167.6 | K15: =Tabela1[ [#This Row],[Cena hurtowa netto od 01.06.2025] ]/Tabela1[[#This Row],[Cena hurtowa netto od 13.01.2025]]-1 -> 0 | L15: A | N15: 5902979015144 | O15: 0.23 | Q15: =J15*P15*(1-RABAT) -> 0 | R15: 86 | S15: DŁUGOPISY WYMAZYWALNE | T15: 39232990 | U15: =VLOOKUP(Tabela1[[#This Row],[Marka]],Config!$D$2:$E$13,2,FALSE)+Tabela1[[#This Row],[Marka_sort_plus]] -> 101015 | V15: 1015 | W15: 5902979015144 | X15: 5902979015144
B16: HAPPY COLOR | C16: HA 4120 01BW-3 | D16: 017088 | E16: DW | F16: Długopis wymazywalny Black&White, 0,5 mm, niebieski, Happy Color | G16: szt | H16: 12 | I16: 4.19 | J16: 4.19 | K16: =Tabela1[ [#This Row],[Cena hurtowa netto od 01.06.2025] ]/Tabela1[[#This Row],[Cena hurtowa netto od 13.01.2025]]-1 -> 0 | L16: DW | N16: 5902979014673 | O16: 0.23 | Q16: =J16*P16*(1-RABAT) -> 0 | R16: 86 | S16: DŁUGOPISY WYMAZYWALNE | T16: 96081092 | U16: =VLOOKUP(Tabela1[[#This Row],[Marka]],Config!$D$2:$E$13,2,FALSE)+Tabela1[[#This Row],[Marka_sort_plus]] -> 101015 | V16: 1015 | W16: 5902979014673
B17: HAPPY COLOR | C17: HA 4120 01BW-3 BK4 | D17: 017638 | E17: A | F17: Długopis wymazywalny Black&white, 0.5mm, niebieski, 4 szt. na blistrze, Happy Color | G17: szt | H17: 1 | I17: 17.19 | J17: 17.19 | K17: =Tabela1[ [#This Row],[Cena hurtowa netto od 01.06.2025] ]/Tabela1[[#This Row],[Cena hurtowa netto od 13.01.2025]]-1 -> 0 | L17: A | N17: 5902979021145 | O17: 0.23 | Q17: =J17*P17*(1-RABAT) -> 0 | S17: DŁUGOPISY WYMAZYWALNE | T17: 96081092 | U17: =VLOOKUP(Tabela1[[#This Row],[Marka]],Config!$D$2:$E$13,2,FALSE)+Tabela1[[#This Row],[Marka_sort_plus]] -> 101015 | V17: 1015 | W17: 5902979021145
B18: HAPPY COLOR | C18: HA 4120 01BW-3 BK2 | D18: 017104 | E18: DW | F18: Długopis wymazywalny Black&White, 0.5mm, niebieski, 2 szt. na blistrze, Happy Color | G18: szt | H18: 1 | I18: 9.99 | J18: 9.99 | K18: =Tabela1[ [#This Row],[Cena hurtowa netto od 01.06.2025] ]/Tabela1[[#This Row],[Cena hurtowa netto od 13.01.2025]]-1 -> 0 | L18: DW | N18: 5902979014826 | O18: 0.23 | Q18: =J18*P18*(1-RABAT) -> 0 | S18: DŁUGOPISY WYMAZYWALNE | T18: 96081092 | U18: =VLOOKUP(Tabela1[[#This Row],[Marka]],Config!$D$2:$E$13,2,FALSE)+Tabela1[[#This Row],[Marka_sort_plus]] -> 101016 | V18: 1016 | W18: 5902979014826
B19: HAPPY COLOR | C19: HA 4120 01ML-3 | D19: 018145 | E19: A | F19: Długopis wymazywalny My Love, 0,5 mm, niebieski, Happy Color | G19: szt | H19: 12 | I19: 4.19 | J19: 4.19 | K19: =Tabela1[ [#This Row],[Cena hurtowa netto od 01.06.2025] ]/Tabela1[[#This Row],[Cena hurtowa netto od 13.01.2025]]-1 -> 0 | L19: A | N19: 5902979026294 | O19: 0.23 | Q19: =J19*P19*(1-RABAT) -> 0 | R19: GDD News nr 1/74 | 2 | S19: DŁUGOPISY WYMAZYWALNE | T19: 96086000 | U19: =VLOOKUP(Tabela1[[#This Row],[Marka]],Config!$D$2:$E$13,2,FALSE)+Tabela1[[#This Row],[Marka_sort_plus]] -> 101016 | V19: 1016 | W19: 5902979026294
B20: HAPPY COLOR | C20: HA 4120 01ML-3 KP40 | D20: 018146 | E20: A | F20: Display - Długopis wymazywalny My Love, 0.5mm, niebieski, 40 szt., Happy Color | G20: szt | H20: 1 | I20: 167.6 | J20: 167.6 | K20: =Tabela1[ [#This Row],[Cena hurtowa netto od 01.06.2025] ]/Tabela1[[#This Row],[Cena hurtowa netto od 13.01.2025]]-1 -> 0 | L20: A | N20: 5902979026331 | O20: 0.23 | Q20: =J20*P20*(1-RABAT) -> 0 | R20: GDD News nr 1/74 | 2 | S20: DŁUGOPISY WYMAZYWALNE | T20: 96086000 | U20: =VLOOKUP(Tabela1[[#This Row],[Marka]],Config!$D$2:$E$13,2,FALSE)+Tabela1[[#This Row],[Marka_sort_plus]] -> 101016 | V20: 1016 | W20: 5902979026331 | X20: 5902979026300 | Y20: 5902979026317
B21: HAPPY COLOR | C21: HA 4120 01PL-3 | D21: 017795 | E21: DW | F21: Długopis wymazywalny Pink Love, 0,5 mm, niebieski, Happy Color | G21: szt | H21: 12 | I21: 4.19 | J21: 4.19 | K21: =Tabela1[ [#This Row],[Cena hurtowa netto od 01.06.2025] ]/Tabela1[[#This Row],[Cena hurtowa netto od 13.01.2025]]-1 -> 0 | L21: DW | N21: 5902979022593 | O21: 0.23 | Q21: =J21*P21*(1-RABAT) -> 0 | R21: GDD News 2/76 | S21: DŁUGOPISY WYMAZYWALNE | T21: 96086000 | U21: =VLOOKUP(Tabela1[[#This Row],[Marka]],Config!$D$2:$E$13,2,FALSE)+Tabela1[[#This Row],[Marka_sort_plus]] -> 101016 | V21: 1016 | W21: 5902979022593
B22: HAPPY COLOR | C22: HA 4120 01AL-3 | D22: 018265 | E22: N | F22: Długopis wymazywalny Go Alien, 0.5mm, niebieski, Happy Color | G22: szt | H22: 12 | I22: 4.19 | J22: 4.19 | K22: =Tabela1[ [#This Row],[Cena hurtowa netto od 01.06.2025] ]/Tabela1[[#This Row],[Cena hurtowa netto od 13.01.2025]]-1 -> 0 | L22: N | N22: 5902979028731 | O22: 0.23 | Q22: =J22*P22*(1-RABAT) -> 0 | R22: GDD News nr 3/73 | 4 | S22: DŁUGOPISY WYMAZYWALNE | T22: 96081092 | U22: =VLOOKUP(Tabela1[[#This Row],[Marka]],Config!$D$2:$E$13,2,FALSE)+Tabela1[[#This Row],[Marka_sort_plus]] -> 101017 | V22: 1017 | W22: 5902979028731 | X22: 5902979028762 | Y22: 5902979028793
B23: HAPPY COLOR | C23: HA 4120 01AL-3 KP40 | D23: 018319 | E23: N | F23: Display - Długopis wymazywalny Go Alien, 0,5 mm, niebieski, 40 szt., Happy Color | G23: szt | H23: 1 | I23: 167.6 | J23: 167.6 | K23: =Tabela1[ [#This Row],[Cena hurtowa netto od 01.06.2025] ]/Tabela1[[#This Row],[Cena hurtowa netto od 13.01.2025]]-1 -> 0 | L23: N | N23: 5902979029264 | O23: 0.23 | Q23: =J23*P23*(1-RABAT) -> 0 | R23: GDD News nr 3/73 | 4 | S23: DŁUGOPISY WYMAZYWALNE | T23: 96081092 | U23: =VLOOKUP(Tabela1[[#This Row],[Marka]],Config!$D$2:$E$13,2,FALSE)+Tabela1[[#This Row],[Marka_sort_plus]] -> 101017 | V23: 1017 | W23: 5902979029264
B24: HAPPY COLOR | C24: HA 4120 01SK-3 | D24: 017202 | E24: A | F24: Długopis wymazywalny Skate, 0,5 mm, niebieski, Happy Color | G24: szt | H24: 12 | I24: 4.19 | J24: 4.19 | K24: =Tabela1[ [#This Row],[Cena hurtowa netto od 01.06.2025] ]/Tabela1[[#This Row],[Cena hurtowa netto od 13.01.2025]]-1 -> 0 | L24: A | N24: 5902979015380 | O24: 0.23 | Q24: =J24*P24*(1-RABAT) -> 0 | R24: GDD News nr 3/73 | 4 | S24: DŁUGOPISY WYMAZYWALNE | T24: 96081092 | U24: =VLOOKUP(Tabela1[[#This Row],[Marka]],Config!$D$2:$E$13,2,FALSE)+Tabela1[[#This Row],[Marka_sort_plus]] -> 101017 | V24: 1017 | W24: 5902979015380 | X24: 5902979015397 | Y24: 5902979015403
B25: HAPPY COLOR | C25: HA 4120 01SK-3 BK2 | D25: 017204 | E25: A | F25: Długopis wymazywalny Skate, 0.5mm, niebieski, 2 szt. na blistrze, Happy Color | G25: szt | H25: 1 | I25: 9.99 | J25: 9.99 | K25: =Tabela1[ [#This Row],[Cena hurtowa netto od 01.06.2025] ]/Tabela1[[#This Row],[Cena hurtowa netto od 13.01.2025]]-1 -> 0 | L25: A | N25: 5902979015434 | O25: 0.23 | Q25: =J25*P25*(1-RABAT) -> 0 | R25: GDD News nr 3/73 | 4 | S25: DŁUGOPISY WYMAZYWALNE | T25: 96081092 | U25: =VLOOKUP(Tabela1[[#This Row],[Marka]],Config!$D$2:$E$13,2,FALSE)+Tabela1[[#This Row],[Marka_sort_plus]] -> 101017 | V25: 1017 | W25: 5902979015434
B26: HAPPY COLOR | C26: HA 4120 01SK-3 KP40 | D26: 017203 | E26: A | F26: Display - Długopis wymazywalny Skate, 0.5mm, niebieski, 40 szt., Happy Color | G26: szt | H26: 1 | I26: 167.6 | J26: 167.6 | K26: =Tabela1[ [#This Row],[Cena hurtowa netto od 01.06.2025] ]/Tabela1[[#This Row],[Cena hurtowa netto od 13.01.2025]]-1 -> 0 | L26: A | N26: 5902979015427 | O26: 0.23 | Q26: =J26*P26*(1-RABAT) -> 0 | R26: GDD News nr 3/73 | 4 | S26: DŁUGOPISY WYMAZYWALNE | T26: 96081092 | U26: =VLOOKUP(Tabela1[[#This Row],[Marka]],Config!$D$2:$E$13,2,FALSE)+Tabela1[[#This Row],[Marka_sort_plus]] -> 101017 | V26: 1017 | W26: 5902979015427
B27: HAPPY COLOR | C27: HA 4120 01TM-3 | D27: 017997 | E27: N | F27: Długopis wymazywalny, Tabliczka mnożenia, 0.5mm, niebieski, Happy Color | G27: szt | H27: 1 | I27: 4.19 | J27: 4.19 | K27: =Tabela1[ [#This Row],[Cena hurtowa netto od 01.06.2025] ]/Tabela1[[#This Row],[Cena hurtowa netto od 13.01.2025]]-1 -> 0 | L27: N | N27: 5902979024269 | O27: 0.23 | Q27: =J27*P27*(1-RABAT) -> 0 | R27: GDD News nr 3/73 | 5 | S27: DŁUGOPISY WYMAZYWALNE | T27: 96081092 | U27: =VLOOKUP(Tabela1[[#This Row],[Marka]],Config!$D$2:$E$13,2,FALSE)+Tabela1[[#This Row],[Marka_sort_plus]] -> 101017 | V27: 1017 | W27: 5902979024269
B28: HAPPY COLOR | C28: HA 4120 01TM-3 KP40 | D28: 018318 | E28: N | F28: Display - Długopis wymazywalny Tabliczka mnożenia, 0,5 mm, niebieski, 40 szt., Happy Color | G28: szt | H28: 1 | I28: 167.6 | J28: 167.6 | K28: =Tabela1[ [#This Row],[Cena hurtowa netto od 01.06.2025] ]/Tabela1[[#This Row],[Cena hurtowa netto od 13.01.2025]]-1 -> 0 | L28: N | N28: 5902979029257 | O28: 0.23 | Q28: =J28*P28*(1-RABAT) -> 0 | R28: GDD News nr 3/73 | 6 | S28: DŁUGOPISY WYMAZYWALNE | T28: 96081092 | U28: =VLOOKUP(Tabela1[[#This Row],[Marka]],Config!$D$2:$E$13,2,FALSE)+Tabela1[[#This Row],[Marka_sort_plus]] -> 101017 | V28: 1017 | W28: 5902979029257
B29: HAPPY COLOR | C29: HA 4120 01KI-3 | D29: 018253 | E29: A | F29: Długopis wymazywalny Kitty, 0,5 mm, niebieski, Happy Color | G29: szt | H29: 12 | I29: 4.19 | J29: 4.19 | K29: =Tabela1[ [#This Row],[Cena hurtowa netto od 01.06.2025] ]/Tabela1[[#This Row],[Cena hurtowa netto od 13.01.2025]]-1 -> 0 | L29: A | N29: 5902979028526 | O29: 0.23 | Q29: =J29*P29*(1-RABAT) -> 0 | S29: DŁUGOPISY WYMAZYWALNE | T29: 96081092 | U29: =VLOOKUP(Tabela1[[#This Row],[Marka]],Config!$D$2:$E$13,2,FALSE)+Tabela1[[#This Row],[Marka_sort_plus]] -> 101018 | V29: 1018 | W29: 5902979028526 | X29: 5902979028533 | Y29: 5902979028540
B30: HAPPY COLOR | C30: HA 4120 01KI-3 KP40 | D30: 018317 | E30: N | F30: Display - Długopis wymazywalny Kitty, 0,5 mm, niebieski, 40 szt., Happy Color | G30: szt | H30: 1 | I30: 167.6 | J30: 167.6 | K30: =Tabela1[ [#This Row],[Cena hurtowa netto od 01.06.2025] ]/Tabela1[[#This Row],[Cena hurtowa netto od 13.01.2025]]-1 -> 0 | L30: N | N30: 5902979029240 | O30: 0.23 | Q30: =J30*P30*(1-RABAT) -> 0 | S30: DŁUGOPISY WYMAZYWALNE | T30: 96081092 | U30: =VLOOKUP(Tabela1[[#This Row],[Marka]],Config!$D$2:$E$13,2,FALSE)+Tabela1[[#This Row],[Marka_sort_plus]] -> 101018 | V30: 1018 | W30: 5902979029240
B31: HAPPY COLOR | C31: HA 4120 01MA-3 | D31: 017848 | E31: A | F31: Długopis wymazywalny Miaow!, 0.5 mm, niebieski, Happy Color | G31: szt | H31: 12 | I31: 4.19 | J31: 4.19 | K31: =Tabela1[ [#This Row],[Cena hurtowa netto od 01.06.2025] ]/Tabela1[[#This Row],[Cena hurtowa netto od 13.01.2025]]-1 -> 0 | L31: A | N31: 5902979023026 | O31: 0.23 | Q31: =J31*P31*(1-RABAT) -> 0 | S31: DŁUGOPISY WYMAZYWALNE | T31: 96081092 | U31: =VLOOKUP(Tabela1[[#This Row],[Marka]],Config!$D$2:$E$13,2,FALSE)+Tabela1[[#This Row],[Marka_sort_plus]] -> 101019 | V31: 1019 | W31: 5902979023026
B32: HAPPY COLOR | C32: HA 4120 01MA-3 KP40 | D32: 017850 | E32: A | F32: Długopis wymazywalny Miaow!, 0.5mm, niebieski, 40 szt. w displayu, Happy Color | G32: szt | H32: 1 | I32: 167.6 | J32: 167.6 | K32: =Tabela1[ [#This Row],[Cena hurtowa netto od 01.06.2025] ]/Tabela1[[#This Row],[Cena hurtowa netto od 13.01.2025]]-1 -> 0 | L32: A | N32: 5902979023095 | O32: 0.23 | Q32: =J32*P32*(1-RABAT) -> 0 | S32: DŁUGOPISY WYMAZYWALNE | T32: 96081092 | U32: =VLOOKUP(Tabela1[[#This Row],[Marka]],Config!$D$2:$E$13,2,FALSE)+Tabela1[[#This Row],[Marka_sort_plus]] -> 101019 | V32: 1019 | W32: 5902979023095
B33: HAPPY COLOR | C33: HA 4120 02AF-3 | D33: 016677 | E33: DW | F33: Długopis wymazywalny Afrykanki Boho, 0.5mm, niebieski, Happy Color | G33: szt | H33: 12 | I33: 4.19 | J33: 4.19 | K33: =Tabela1[ [#This Row],[Cena hurtowa netto od 01.06.2025] ]/Tabela1[[#This Row],[Cena hurtowa netto od 13.01.2025]]-1 -> 0 | L33: DW | N33: 5902979011832 | O33: 0.23 | Q33: =J33*P33*(1-RABAT) -> 0 | R33: 88 | S33: DŁUGOPISY WYMAZYWALNE | T33: 96081092 | U33: =VLOOKUP(Tabela1[[#This Row],[Marka]],Config!$D$2:$E$13,2,FALSE)+Tabela1[[#This Row],[Marka_sort_plus]] -> 101022 | V33: 1022 | W33: 5902979011832 | X33: 5902979011917 | Y33: 5902979011931 | Z33: 5902979012013
B34: HAPPY COLOR | C34: HA 4120 02MS-3 | D34: 018281 | E34: N | F34: Długopis wymazywalny Magic Sky (Uszaki), 0.5mm, niebieski, Happy Color | G34: szt | H34: 12 | I34: 4.19 | J34: 4.19 | K34: =Tabela1[ [#This Row],[Cena hurtowa netto od 01.06.2025] ]/Tabela1[[#This Row],[Cena hurtowa netto od 13.01.2025]]-1 -> 0 | L34: N | N34: 5902979029004 | O34: 0.23 | Q34: =J34*P34*(1-RABAT) -> 0 | S34: DŁUGOPISY WYMAZYWALNE | T34: 96081092 | U34: =VLOOKUP(Tabela1[[#This Row],[Marka]],Config!$D$2:$E$13,2,FALSE)+Tabela1[[#This Row],[Marka_sort_plus]] -> 101040 | V34: 1040 | W34: 5902979029004
B35: HAPPY COLOR | C35: HA 4120 02MS-3 KP40 | D35: 018335 | E35: N | F35: Display - Długopis wymazywalny Magic Sky (Uszaki), 0.5mm, niebieski, 40 szt, Happy Color | G35: szt | H35: 1 | I35: 167.6 | J35: 167.6 | K35: =Tabela1[ [#This Row],[Cena hurtowa netto od 01.06.2025] ]/Tabela1[[#This Row],[Cena hurtowa netto od 13.01.2025]]-1 -> 0 | L35: N | N35: 5902979029493 | O35: 0.23 | Q35: =J35*P35*(1-RABAT) -> 0 | R35: 96 | S35: DŁUGOPISY WYMAZYWALNE | T35: 96081092 | U35: =VLOOKUP(Tabela1[[#This Row],[Marka]],Config!$D$2:$E$13,2,FALSE)+Tabela1[[#This Row],[Marka_sort_plus]] -> 101040 | V35: 1040 | W35: 5902979029493 | X35: 5902979029042 | Y35: 5902979029080
B36: HAPPY COLOR | C36: HA 4121 XM01-3 | D36: 018072 | E36: DW | F36: Długopis wymazywalny XMAS 1, automatyczny, 0.5mm, niebieski, Happy Color | G36: szt | H36: 12 | I36: 4.59 | J36: 4.59 | K36: =Tabela1[ [#This Row],[Cena hurtowa netto od 01.06.2025] ]/Tabela1[[#This Row],[Cena hurtowa netto od 13.01.2025]]-1 -> 0 | L36: DW | N36: 5902979026065 | O36: 0.23 | Q36: =J36*P36*(1-RABAT) -> 0 | R36: 88 | S36: DŁUGOPISY WYMAZYWALNE | T36: 96081092 | U36: =VLOOKUP(Tabela1[[#This Row],[Marka]],Config!$D$2:$E$13,2,FALSE)+Tabela1[[#This Row],[Marka_sort_plus]] -> 101050 | V36: 1050 | W36: 5902979026065
B37: HAPPY COLOR | C37: HA 4121 XM02-3 | D37: 018075 | E37: DW | F37: Długopis wymazywalny XMAS 2, automatyczny, 0.5mm, niebieski, Happy Color | G37: szt | H37: 12 | I37: 4.59 | J37: 4.59 | K37: =Tabela1[ [#This Row],[Cena hurtowa netto od 01.06.2025] ]/Tabela1[[#This Row],[Cena hurtowa netto od 13.01.2025]]-1 -> 0 | L37: DW | N37: 5902979026089 | O37: 0.23 | Q37: =J37*P37*(1-RABAT) -> 0 | R37: 88 | S37: DŁUGOPISY WYMAZYWALNE | T37: 96081092 | U37: =VLOOKUP(Tabela1[[#This Row],[Marka]],Config!$D$2:$E$13,2,FALSE)+Tabela1[[#This Row],[Marka_sort_plus]] -> 101050 | V37: 1050 | W37: 5902979026089
B38: HAPPY COLOR | C38: HA 4120 01C1 S1BK | D38: 015947 | E38: DW | F38: Długopis wymazywalny Cool Gang, 0,5 mm, niebieski, 1 szt + 3 skuwki na blistrze, Happy Color | G38: szt | H38: 1 | I38: 8.69 | J38: 8.69 | K38: =Tabela1[ [#This Row],[Cena hurtowa netto od 01.06.2025] ]/Tabela1[[#This Row],[Cena hurtowa netto od 13.01.2025]]-1 -> 0 | L38: DW | N38: 5902979005848 | O38: 0.23 | Q38: =J38*P38*(1-RABAT) -> 0 | R38: 97 | S38: DŁUGOPISY WYMAZYWALNE | T38: 96081092 | U38: =VLOOKUP(Tabela1[[#This Row],[Marka]],Config!$D$2:$E$13,2,FALSE)+Tabela1[[#This Row],[Marka_sort_plus]] -> 101056 | V38: 1056 | W38: 5902979005848 | X38: 5902979005879 | Z38: 5902979007330
B39: HAPPY COLOR | C39: HA 4120 21C1 BK3 | D39: 015948 | E39: A | F39: Gumki-skuwki do długopisów wymazywalnych Cool Gang, miks 3 szt. na blistrze, Happy Color | G39: szt | H39: 20 | I39: 2.99 | J39: 2.99 | K39: =Tabela1[ [#This Row],[Cena hurtowa netto od 01.06.2025] ]/Tabela1[[#This Row],[Cena hurtowa netto od 13.01.2025]]-1 -> 0 | L39: R | N39: 5902979005855 | O39: 0.23 | Q39: =J39*P39*(1-RABAT) -> 0 | R39: 97 | S39: DŁUGOPISY WYMAZYWALNE | T39: 96089900 | U39: =VLOOKUP(Tabela1[[#This Row],[Marka]],Config!$D$2:$E$13,2,FALSE)+Tabela1[[#This Row],[Marka_sort_plus]] -> 101056 | V39: 1056 | W39: 5902979005855 | X39: 5902979005886 | Z39: 5902979007347
B40: HAPPY COLOR | C40: HA 4120 01PT-3 | D40: 017526 | E40: DW | F40: Długopis wymazywalny Pastel Twist (Uszaki), 0.5mm, niebieski, Happy Color | G40: szt | H40: 12 | I40: 4.19 | J40: 4.19 | K40: =Tabela1[ [#This Row],[Cena hurtowa netto od 01.06.2025] ]/Tabela1[[#This Row],[Cena hurtowa netto od 13.01.2025]]-1 -> 0 | L40: DW | N40: 5902979019548 | O40: 0.23 | Q40: =J40*P40*(1-RABAT) -> 0 | R40: GDD News nr 1/74 | 2 | S40: DŁUGOPISY WYMAZYWALNE | T40: 96081092 | U40: =VLOOKUP(Tabela1[[#This Row],[Marka]],Config!$D$2:$E$13,2,FALSE)+Tabela1[[#This Row],[Marka_sort_plus]] -> 101057 | V40: 1057 | W40: 5902979019548 | X40: 5902979019616 | Y40: 5902979019661
B41: HAPPY COLOR | C41: HA 4120 01UB-3 | D41: 018451 | E41: N | F41: Długopis wymazywalny Uszaki Babe, 0.5mm, niebieski, Happy Color | G41: szt | H41: 12 | I41: 4.19 | J41: 4.19 | K41: =Tabela1[ [#This Row],[Cena hurtowa netto od 01.06.2025] ]/Tabela1[[#This Row],[Cena hurtowa netto od 13.01.2025]]-1 -> 0 | L41: N | N41: 5902979030482 | O41: 0.23 | Q41: =J41*P41*(1-RABAT) -> 0 | S41: DŁUGOPISY WYMAZYWALNE | T41: 96081092 | U41: =VLOOKUP(Tabela1[[#This Row],[Marka]],Config!$D$2:$E$13,2,FALSE)+Tabela1[[#This Row],[Marka_sort_plus]] -> 101057 | V41: 1057 | W41: 5902979030482
B42: HAPPY COLOR | C42: HA 4120 01UB-3 KP40 | D42: 018577 | E42: N | F42: Długopis wymazywalny Uszaki Babe, 0.5mm, niebieski, 40 szt display, Happy Color | G42: szt | H42: 1 | I42: 167.6 | J42: 167.6 | K42: =Tabela1[ [#This Row],[Cena hurtowa netto od 01.06.2025] ]/Tabela1[[#This Row],[Cena hurtowa netto od 13.01.2025]]-1 -> 0 | L42: N | N42: 5902979031977 | O42: 0.23 | Q42: =J42*P42*(1-RABAT) -> 0 | S42: DŁUGOPISY WYMAZYWALNE | T42: 96081092 | U42: =VLOOKUP(Tabela1[[#This Row],[Marka]],Config!$D$2:$E$13,2,FALSE)+Tabela1[[#This Row],[Marka_sort_plus]] -> 101057 | V42: 1057 | W42: 5902979031977
...

Sheet WYPRZEDAŻ 2025
B2: TRUE | C2: WYPRZEDAŻ 2025 | S2: Uwagi
C3: BIURO - SZKOŁA - HOBBY (aktualizacja na dzień 09.06.2025) | N3: Data: | P3: Nazwa płatnika:
B4: GDD spółka z ograniczoną odpowiedzialnością spółka komandytowa | N4: Nazwa odbiorcy: | P4: Adres płatnika:
B5: 00-552 Warszawa, Pl Konstytucji 4 lok. 28 | F5: Tel. centrala (22) 566 77 00, Obsługa Klienta (22) 566 77 21, Fax. (22) 566 77 50 | N5: NIP odbiorcy: | P5: NIP płatnika:
B6: BIURO I MAGAZYN: ul. Ogrodnicza 24, 05-830 Wolica k/Warszawy | F6: e-mail zamowienia@gdd.pl, www.gdd.pl | N6: Adres odbiorcy (dostawy): | P6: Rabat (%):
P7: Wartość netto zamówienia przed rabatem: | Q7: =SUMPRODUCT(J10:J2694,P10:P2694) -> 0
P8: Wartość netto zamówienia po rabacie: | Q8: =Q7*(1-RABAT) -> 0
B9: Marka | C9: Symbol | D9: SymKar | E9: Status | F9: Opis produktu | G9: Jm. Handl | H9: Minimalna ilość zamówienia lub wielokrotność | I9: Cena hurtowa netto od 13.01.2025 | J9: Cena hurtowa netto od 10.03.2025 | K9: Różnica procentowa | L9: Kolumna1 | M9: Uwagi PM | N9: Kod kreskowy | O9: VAT | P9: Ilość | Q9: Wartość netto po rabacie | R9: Strona w katalogu | S9: Kategoria | T9: Kod CN | U9: Marka_sort | V9: Marka_sort_plus | W9: szt_KodKres | X9: opk_KodKres | Y9: opk_z_KodKres | Z9: krt_KodKres
B10: HAPPY COLOR | C10: HA 2211 0810-JU1 | D10: 015790 | E10: DW | F10: Piórnik saszetka tuba z 1 zamkiem, JUST 1, Happy Color | G10: szt | H10: 1 | J10: 7.99 | K10: #VALUE! | L10: 354 | N10: 5902979002793 | O10: 0.23 | Q10: 0 | S10: PIÓRNIKI | T10: 42023900 | W10: 5902979002793
B11: HAPPY COLOR | C11: HA 2211 0810-JU2 | D11: 015791 | E11: DW | F11: Piórnik saszetka tuba z 1 zamkiem, JUST 2, Happy Color | G11: szt | H11: 1 | I11: 12.99 | J11: 7.99 | K11: #VALUE! | L11: 115 | N11: 5902979002809 | O11: 0.23 | Q11: 0 | R11: 106 | S11: PIÓRNIKI | T11: 42023900 | W11: 5902979002809 | X11: 5902979003196 | Z11: 5902979003585
B12: HAPPY COLOR | C12: HA 2211 0810-JU3 | D12: 015792 | E12: DW | F12: Piórnik saszetka tuba z 1 zamkiem, JUST 3, Happy Color | G12: szt | H12: 1 | I12: 12.99 | J12: 7.99 | K12: #VALUE! | L12: 500 | N12: 5902979002816 | O12: 0.23 | Q12: 0 | R12: 106 | S12: PIÓRNIKI | T12: 42023900 | W12: 5902979002816 | X12: 5902979003202 | Z12: 5902979003592
B13: HAPPY COLOR | C13: HA 2211 0810-JU4 | D13: 015793 | E13: DW | F13: Piórnik saszetka tuba z 1 zamkiem, JUST 4, Happy Color | G13: szt | H13: 1 | I13: 12.99 | J13: 7.99 | K13: #VALUE! | L13: 220 | N13: 5902979002823 | O13: 0.23 | Q13: 0 | R13: 106 | S13: PIÓRNIKI | T13: 42023900 | W13: 5902979002823 | X13: 5902979003219 | Z13: 5902979003608
B14: HAPPY COLOR | C14: HA 2211 0810-PI1 | D14: 015787 | E14: DW | F14: Piórnik saszetka tuba z 1 zamkiem, PIXI blue, Happy Color | G14: szt | H14: 1 | I14: 12.99 | J14: 7.99 | K14: #VALUE! | L14: 939 | N14: 5902979002762 | O14: 0.23 | Q14: 0 | R14: 107 | S14: PIÓRNIKI | T14: 42023900 | W14: 5902979002762 | X14: 5902979003158 | Z14: 5902979003547
B15: HAPPY COLOR | C15: HA 2211 0810-PI2 | D15: 015788 | E15: DW | F15: Piórnik saszetka tuba z 1 zamkiem, PIXI violet, Happy Color | G15: szt | H15: 1 | I15: 12.99 | J15: 7.99 | K15: #VALUE! | L15: 990 | N15: 5902979002779 | O15: 0.23 | Q15: 0 | R15: 106 | S15: PIÓRNIKI | T15: 42023900 | W15: 5902979002779 | X15: 5902979003165 | Z15: 5902979003554
B16: HAPPY COLOR | C16: HA 2212 4510-JU3 | D16: 015806 | E16: DW | F16: Piórnik saszetka mały prostokątny z 1 zamkiem, JUST 3, Happy Color | G16: szt | H16: 1 | I16: 8.19 | J16: 4.99 | K16: #VALUE! | L16: #N/A | N16: 5902979002953 | O16: 0.23 | Q16: 0 | R16: 108 | S16: PIÓRNIKI | T16: 42023900 | W16: 5902979002953 | X16: 5902979003349 | Z16: 5902979003738
B17: HAPPY COLOR | C17: HA 2212 4510-JU4 | D17: 015807 | E17: DW | F17: Piórnik saszetka mały prostokątny z 1 zamkiem, JUST 4, Happy Color | G17: szt | H17: 1 | I17: 8.19 | J17: 4.99 | K17: #VALUE! | L17: #N/A | N17: 5902979002960 | O17: 0.23 | Q17: 0 | R17: 108 | S17: PIÓRNIKI | T17: 42023900 | W17: 5902979002960 | X17: 5902979003356 | Z17: 5902979003745
B18: HAPPY COLOR | C18: HA 2212 4510-PI1 | D18: 015808 | E18: DW | F18: Piórnik saszetka mały prostokątny z 1 zamkiem, PIXI blue, Happy Color | G18: szt | H18: 1 | I18: 8.19 | J18: 4.99 | K18: #VALUE! | L18: #N/A | N18: 5902979002977 | O18: 0.23 | Q18: 0 | R18: 104 | S18: PIÓRNIKI | T18: 42023900 | W18: 5902979002977 | X18: 5902979003363 | Z18: 5902979003752
B19: HAPPY COLOR | C19: HA 2212 4510-PI2 | D19: 015809 | E19: DW | F19: Piórnik saszetka mały prostokątny z 1 zamkiem, PIXI violet, Happy Color | G19: szt | H19: 1 | I19: 8.19 | J19: 4.99 | K19: 0 | L19: #N/A | N19: 5902979002984 | O19: 0.23 | Q19: 0 | R19: 104 | S19: PIÓRNIKI | T19: 42023900 | W19: 5902979002984 | X19: 5902979003370 | Z19: 5902979003769
B20: HAPPY COLOR | C20: HA 2212 4585-PI4 | D20: 017231 | E20: DW | F20: Piórnik saszetka trójkątny z 1 zamkiem, PIXI rainbow, Happy Color | G20: szt | H20: 1 | I20: 8.99 | J20: 8.99 | K20: 0 | L20: 2220 | N20: 5902979015779 | O20: 0.23 | Q20: 0 | R20: GDD News nr 3/73 | 2 | S20: PIÓRNIKI | T20: 42023900 | W20: 5902979015779 | X20: 5902979015984 | Y20: 5902979015984
B21: HAPPY COLOR | C21: HA 2212 5910-AF1 | D21: 015780 | E21: DW | F21: Piórnik saszetka z 1 zamkiem, Afrykanki 1, Happy Color | G21: szt | H21: 1 | I21: 8.99 | J21: 7.99 | K21: 0 | L21: 2124 | N21: 5902979002694 | O21: 0.23 | Q21: 0 | R21: 109 | S21: PIÓRNIKI | T21: 42023900 | W21: 5902979002694 | X21: 5902979003080 | Z21: 5902979003479
B22: HAPPY COLOR | C22: HA 2212 5910-AF2 | D22: 015781 | E22: DW | F22: Piórnik saszetka z 1 zamkiem, Afrykanki 2, Happy Color | G22: szt | H22: 1 | I22: 8.99 | J22: 7.99 | K22: 0 | L22: 2476 | N22: 5902979002700 | O22: 0.23 | Q22: 0 | R22: 109 | S22: PIÓRNIKI | T22: 42023900 | W22: 5902979002700 | X22: 5902979003097 | Z22: 5902979003486
B23: HAPPY COLOR | C23: HA 2212 5910-AF3 | D23: 015782 | E23: DW | F23: Piórnik saszetka z 1 zamkiem, Afrykanki 3, Happy Color | G23: szt | H23: 1 | I23: 8.99 | J23: 7.99 | K23: 0 | L23: 1451 | N23: 5902979002717 | O23: 0.23 | Q23: 0 | R23: 109 | S23: PIÓRNIKI | T23: 42023900 | W23: 5902979002717 | X23: 5902979003103 | Z23: 5902979003493
B24: HAPPY COLOR | C24: HA 2212 5910-JU1 | D24: 015783 | E24: DW | F24: Piórnik saszetka z 1 zamkiem, JUST 1, Happy Color | G24: szt | H24: 1 | I24: 8.99 | J24: 7.99 | K24: 0 | L24: 1808 | N24: 5902979002724 | O24: 0.23 | Q24: 0 | R24: 107 | S24: PIÓRNIKI | T24: 42023900 | W24: 5902979002724 | X24: 5902979003110 | Z24: 5902979003509
B25: HAPPY COLOR | C25: HA 2212 5910-JU2 | D25: 015784 | E25: DW | F25: Piórnik saszetka z 1 zamkiem, JUST 2, Happy Color | G25: szt | H25: 1 | I25: 8.99 | J25: 7.99 | K25: 0 | L25: 1483 | N25: 5902979002731 | O25: 0.23 | Q25: 0 | R25: 107 | S25: PIÓRNIKI | T25: 42023900 | W25: 5902979002731 | X25: 5902979003127 | Z25: 5902979003516
B26: HAPPY COLOR | C26: HA 2212 5910-JU3 | D26: 015785 | E26: DW | F26: Piórnik saszetka z 1 zamkiem, JUST 3, Happy Color | G26: szt | H26: 1 | I26: 8.99 | J26: 7.99 | K26: 0 | L26: 2028 | N26: 5902979002748 | O26: 0.23 | Q26: 0 | R26: 107 | S26: PIÓRNIKI | T26: 42023900 | W26: 5902979002748 | X26: 5902979003134 | Z26: 5902979003523
B27: HAPPY COLOR | C27: HA 2212 5910-JU4 | D27: 015786 | E27: DW | F27: Piórnik saszetka z 1 zamkiem, JUST 4, Happy Color | G27: szt | H27: 1 | I27: 8.99 | J27: 7.99 | K27: 0 | L27: 2009 | N27: 5902979002755 | O27: 0.23 | Q27: 0 | R27: 107 | S27: PIÓRNIKI | T27: 42023900 | W27: 5902979002755 | X27: 5902979003141 | Z27: 5902979003530
B28: HAPPY COLOR | C28: HA 2213 4510-PI1 | D28: 015794 | E28: DW | F28: Piórnik saszetka z 1 zamkiem i klapką wewnętrzną, owalny, PIXI blue, Happy Color | G28: szt | H28: 1 | I28: 20.99 | J28: 14.99 | K28: 0 | L28: #N/A | N28: 5902979002830 | O28: 0.23 | Q28: 0 | R28: 105 | S28: PIÓRNIKI | T28: 42023900 | W28: 5902979002830 | X28: 5902979003226 | Z28: 5902979003615
B29: HAPPY COLOR | C29: HA 2213 4510-PI2 | D29: 015795 | E29: DW | F29: Piórnik saszetka z 1 zamkiem i klapką wewnętrzną, owalny, PIXI violet, Happy Color | G29: szt | H29: 1 | I29: 20.99 | J29: 14.99 | K29: 0 | L29: #N/A | N29: 5902979002847 | O29: 0.23 | Q29: 0 | R29: 105 | S29: PIÓRNIKI | T29: 42023900 | W29: 5902979002847 | X29: 5902979003233 | Z29: 5902979003622
B30: HAPPY COLOR | C30: HA 2213 4610-JU1 | D30: 015800 | E30: DW | F30: Piórnik saszetka z 1 zamkiem i klapką wewnętrzną, prostokątny, JUST 1, Happy Color | G30: szt | H30: 1 | I30: 16.99 | J30: 14.99 | K30: 0 | L30: 1429 | N30: 5902979002892 | O30: 0.23 | Q30: 0 | R30: 107 | S30: PIÓRNIKI | T30: 42023900 | W30: 5902979002892 | X30: 5902979003288 | Z30: 5902979003677
B31: HAPPY COLOR | C31: HA 2213 4610-JU2 | D31: 015801 | E31: DW | F31: Piórnik saszetka z 1 zamkiem i klapką wewnętrzną, prostokątny, JUST 2, Happy Color | G31: szt | H31: 1 | I31: 16.99 | J31: 14.99 | K31: 0 | L31: 2279 | N31: 5902979002908 | O31: 0.23 | Q31: 0 | R31: 107 | S31: PIÓRNIKI | T31: 42023900 | W31: 5902979002908 | X31: 5902979003295 | Z31: 5902979003684
B32: HAPPY COLOR | C32: HA 2213 4610-JU3 | D32: 015802 | E32: DW | F32: Piórnik saszetka z 1 zamkiem i klapką wewnętrzną, prostokątny, JUST 3, Happy Color | G32: szt | H32: 1 | I32: 16.99 | J32: 14.99 | K32: 0 | L32: 2084 | N32: 5902979002915 | O32: 0.23 | Q32: 0 | R32: 107 | S32: PIÓRNIKI | T32: 42023900 | W32: 5902979002915 | X32: 5902979003301 | Z32: 5902979003691
B33: HAPPY COLOR | C33: HA 2213 4610-JU4 | D33: 015803 | E33: DW | F33: Piórnik saszetka z 1 zamkiem i klapką wewnętrzną, prostokątny, JUST 4, Happy Color | G33: szt | H33: 1 | I33: 16.99 | J33: 14.99 | K33: 0 | L33: 1853 | N33: 5902979002922 | O33: 0.23 | Q33: 0 | R33: 107 | S33: PIÓRNIKI | T33: 42023900 | W33: 5902979002922 | X33: 5902979003318 | Z33: 5902979003707
B34: HAPPY COLOR | C34: HA 2213 4610-PI1 | D34: 015797 | E34: DW | F34: Piórnik saszetka z 1 zamkiem i klapką wewnętrzną, prostokątny, PIXI blue, Happy Color | G34: szt | H34: 1 | I34: 20.99 | J34: 14.99 | K34: 0 | L34: #N/A | N34: 5902979002861 | O34: 0.23 | Q34: 0 | R34: 105 | S34: PIÓRNIKI | T34: 42023900 | W34: 5902979002861 | X34: 5902979003257 | Z34: 5902979003646
B35: HAPPY COLOR | C35: HA 2213 4610-PI2 | D35: 015798 | E35: DW | F35: Piórnik saszetka z 1 zamkiem i klapką wewnętrzną, prostokątny, PIXI violet, Happy Color | G35: szt | H35: 1 | I35: 20.99 | J35: 14.99 | K35: 0 | L35: #N/A | N35: 5902979002878 | O35: 0.23 | Q35: 0 | R35: 105 | S35: PIÓRNIKI | T35: 42023900 | W35: 5902979002878 | X35: 5902979003264 | Z35: 5902979003653
B36: HAPPY COLOR | C36: HA 2214 9910-JU1 | D36: 015812 | E36: DW | F36: Piórnik saszetka płaski z 1 zamkiem, JUST 1, Happy Color | G36: szt | H36: 1 | I36: 6.99 | J36: 4.99 | K36: 0 | L36: 2458 | N36: 5902979003011 | O36: 0.23 | Q36: 0 | R36: 107 | S36: PIÓRNIKI | T36: 42023900 | W36: 5902979003011 | Z36: 5902979003400
B37: HAPPY COLOR | C37: HA 2216 0810-CG01 | D37: 016245 | E37: DW | F37: Piórnik saszetka wysuwana, Cool Gang - Driver, czerwony, Happy Color | G37: szt | H37: 1 | I37: 14.99 | J37: 14.99 | K37: 0 | L37: 2458 | N37: 5902979008696 | O37: 0.23 | Q37: 0 | R37: 103 | S37: PIÓRNIKI | T37: 42023900 | W37: 5902979008696 | Z37: 5902979008771
B38: HAPPY COLOR | C38: HA 2216 0810-CG02 | D38: 016246 | E38: DW | F38: Piórnik saszetka wysuwana, Cool Gang - Dreamer, turkusowy, Happy Color | G38: szt | H38: 1 | I38: 14.99 | J38: 14.99 | K38: 0 | L38: 2215 | N38: 5902979008702 | O38: 0.23 | Q38: 0 | R38: 103 | S38: PIÓRNIKI | T38: 42023900 | W38: 5902979008702 | Z38: 5902979008788
B39: HAPPY COLOR | C39: HA 2216 0810-CG03 | D39: 016247 | E39: DW | F39: Piórnik saszetka wysuwana, Cool Gang - Volt, niebieski, Happy Color | G39: szt | H39: 1 | I39: 14.99 | J39: 14.99 | K39: 0 | L39: 2197 | N39: 5902979008719 | O39: 0.23 | Q39: 0 | R39: 103 | S39: PIÓRNIKI | T39: 42023900 | W39: 5902979008719 | Z39: 5902979008795
B40: HAPPY COLOR | C40: HA 2216 0810-CG03P1 | D40: 017301 | E40: DW | F40: Piórnik saszetka wysuwana, Cool Gang - Volt + gratisy, Happy Color | G40: szt | H40: 1 | I40: 20.99 | J40: 14.99 | K40: 0 | L40: 9 | N40: 5902979016776 | O40: 0.23 | Q40: 0 | S40: PIÓRNIKI | T40: 42023900 | W40: 5902979016776
B41: HAPPY COLOR | C41: HA 2216 0810-CG04 | D41: 016248 | E41: DW | F41: Piórnik saszetka wysuwana, Cool Gang - Uni, ciemny róż, Happy Color | G41: szt | H41: 1 | I41: 14.99 | J41: 14.99 | K41: 0 | L41: 1613 | N41: 5902979008726 | O41: 0.23 | Q41: 0 | R41: 103 | S41: PIÓRNIKI | T41: 42023900 | W41: 5902979008726 | Z41: 5902979008801
...
