Workbook
Name colEan: 'WYPRZEDAŻ 2025'!$N:$N
Name colEan: 'Cennik 2025'!$N:$N
Name colEANsJM: 'WYPRZEDAŻ 2025'!$W:$Z
Name colEANsJM: 'Cennik 2025'!$W:$Z
Name colMarka: 'Cennik 2025'!$B:$B
Name colMarka: 'WYPRZEDAŻ 2025'!$B:$B
Name colSymbol: 'Cennik 2025'!$C:$C
Name colSymbol: 'WYPRZEDAŻ 2025'!$C:$C
Name Fragmentator_Marka: #N/A
Name RABAT: 'Cennik 2025'!$Q$6
Name RABAT: 'WYPRZEDAŻ 2025'!$Q$6
Name rngFolderZapisuJpg: Config!$A$1
Name rngIlosc: 'Cennik 2025'!$P:$P
Name rngIlosc: 'WYPRZEDAŻ 2025'!$P:$P
Name rngMarkaSort: Config!$D$1:$E$10
Name rngWartosc: 'Cennik 2025'!$Q:$Q
Name rngWartosc: 'WYPRZEDAŻ 2025'!$Q:$Q
Name rngWylaczPodgladTW: 'Cennik 2025'!$B$2
Name rngWylaczPodgladTW: 'WYPRZEDAŻ 2025'!$B$2
Name rowNagl: 'Cennik 2025'!$10:$10
Name rowNagl: 'WYPRZEDAŻ 2025'!$9:$9

Sheet Config
D1: Marka | E1: Sort
D2: HAPPY COLOR | E2: 100000
D3: STAEDTLER | E3: 200000
D4: STAEDTLER FIMO | E4: 300000
D5: M&G | E5: 400000
D6: FOLIA | E6: 500000
D7: LACO | E7: 600000
D8: MONUMI | E8: 700000
D9: YOUNG INTELLECT | E9: 800000
D10: MAR MAR | E10: 900000
D11: TOCHAIN | E11: 1000000
D12: AUREO | E12: 1100000
D13: YR | E13: 1200000

Sheet Instrukcja
A1: Instrukcja korzystania z Cennika z zamówieniami
A3: Plik MS Excel© "GDD cennik z zamówieniami" pozwala na wygodne przeglądanie listy towarów wraz z podglądem zdjęć.
A4: Aby opcja podglądania zdjęć była dostępna należy przy otwieraniu pliku MS Excel© włączyć obsługę makr, komputer musi mieć dostęp do internetu
A20: oraz opcja "Wyłącz podgląd produktów" (*1), znajdująca się w części nagłówka "ZAMÓWIENIE" (na arkuszu "Cennik"), musi być niezaznaczona.
A21: Jeżeli towar posiada więcej fotografii, to można je przeglądać za pomocą strzałek w oknie "GDD towar info." (*2)
A22: Wyświetlany obraz można zapisać za pomocą przycisku "Zapisz obraz" w oknie "GDD towar info" (*3), ze wskazaniem folderu, w którym ma być zapisany plik fotografii towaru.
A23: Można też w tym oknie zaznaczyć opcję "Zapisz w zapamiętanym folderze" (*4), aby po zapisaniu pierwszego pliku, okno wyboru folderu zapisu było pomijane
A24: , a pliki będą zapisywane we wcześniej wskazanym folderze.
A52: W sekcji "ZAMÓWIENIE" należy wprowadzić informacje o kliencie i miejscu dostawy oraz rabat, a następnie wprowadzić ilości w tabeli dla towarów, które chcemy zamówić.
A66: Po kliknięciu przycisku „Sortuj” w kolumnie „Marka” – wszystkie produkty w cenniku zostaną ustawione w kolejności wg marek. Po kliknięciu przycisku „Sortuj”wg kategorii
A67: w kolumnie „Kategoria” – wszystkie produkty w cenniku zostaną ustawione w kolejności
A73: Po kliknięciu w nazwę marki w cenniku widoczne będą tylko produkty wybranej marki.
... A77: POBIERANIE ZDJĘĆ PRZY POMOCY PRZYCISKÓW "Pobierz obrazy hurtowo Symbol" i "Pobierz obrazy hurtowo EAN"
C80: Po zaznaczeniu wybranych symboli i kliknięciu „Pobierz obrazy hurtowo Symbol” rozpocznie się proces pobierania zdjęć – zapisane zostaną pod nazwą symbolu produktu
C81: „Pobierz obrazy hurtowo EAN” oznacza zapisanie się zdęć po pobraniu pod nazwą kodu EAN.
A91: Przed rozpoczęciem pobierania pojawi się powyższy komunikat, należy kliknąć „Tak”. Następnie trzeba wybrać, gdzie dane zdjęcia będą zapisane.
A101: Raport pobierania to nowy arkusz excel, który pokazuje jakie zdjęcia zostały pobrane.
A112: Przykład raportu po kliknięciu „Pobierz obrazy hurtowo Symbol” | H112: Przykład raportu po kliknięciu „Pobierz obrazy hurtowo EAN”
A114: Podglą zdjęć przy pomocy linków w kolumnie SymKar
C116: Przy pomocy linku zawartego w numerze SymKar można podejżeć zdjęcie i je pobrać.
C117: Fukcja jest przydatna, kiedy nie działają makry.
C119: Po kliknięciu w SymKar zdjęcie otworzy się w przeglądarce
A148: Instrukcja włączenia makr dla wskazanej lokalizacji zaufanej w programie Excel
A150: Należy pamiętać aby podczas wykonywania poniższej instrukcji nie było otwarte żadne okno aplikacji MS Excel.
A152: Należy zacząć od zapisania cennika w lokalizacji lokalnej na komputerze klienta. Może to być na przykład pulpit bądź inne miejsce na dysku lokalnym. Dobrą praktyką jest aby był to folder, który zawiera jedynie zaufane pliki excel z makrami.
A176: Następnie należy uruchomić program excel. Nie ma potrzeby w tym miejscu otwierania pliku cennika. Należy uruchomić pusty dokument i postępować zgodnie ze wskazówkami poniżej:
A271: W jednym z ostatnich kroków wybieramy lokalizację gdzie zapisaliśmy plik cennika. Jeśli wybraliśmy pulpit jak w przykładzie poniżej to dobrą praktyką jest zaznaczenie checkbox-a (pkt 7) aby uwzględnić wszystkie foldery i podfoldery na pulpicie w liście zaufanych lokalizacji.
A301: Na koniec należy wszystkie okna zatwierdzić przyciskiem OK i zamknąć program MS Excel.
A303: Teram możemy uruchomić plik cennika i makra powinny działać

Sheet Cennik 2025
B2: TRUE | C2: Cennik 2025 | S2: Uwagi
C3: BIURO - SZKOŁA - HOBBY (aktualizacja na dzień 09.06.2025) | N3: Data: | P3: Nazwa płatnika:
B4: GDD spółka z ograniczoną odpowiedzialnością spółka komandytowa | N4: Nazwa odbiorcy: | P4: Adres płatnika:
B5: 00-552 Warszawa, Pl Konstytucji 4 lok. 28 | F5: Tel. centrala (22) 566 77 00, Obsługa Klienta (22) 566 77 21, Fax. (22) 566 77 50 | N5: NIP odbiorcy: | P5: NIP płatnika:
B6: BIURO I MAGAZYN: ul. Ogrodnicza 24, 05-830 Wolica k/Warszawy | F6: e-mail zamowienia@gdd.pl, www.gdd.pl | N6: Adres odbiorcy (dostawy): | P6: Rabat (%):
P7: Wartość netto zamówienia przed rabatem: | Q7: =SUMPRODUCT(J11:J4820,P11:P4820) -> 0
P8: Wartość netto zamówienia po rabacie: | Q8: =Q7*(1-RABAT) -> 0
B10: Marka | C10: Symbol | D10: SymKar | E10: Status | F10: Opis produktu | G10: Jm. Handl | H10: Minimalna ilość zamówienia lub wielokrotność | I10: Cena hurtowa netto od 13.01.2025 | J10: Cena hurtowa netto od 01.06.2025 | K10: Różnica procentowa | L10: Kolumna1 | M10: Uwagi PM | N10: Kod kreskowy | O10: VAT | P10: Ilość | Q10: Wartość netto po rabacie | R10: Strona w katalogu | S10: Kategoria | T10: Kod CN | U10: Marka_sort | V10: Marka_sort_plus | W10: szt_KodKres | X10: opk_KodKres | Y10: opk_z_KodKres | Z10: krt_KodKres
B11: HAPPY COLOR | C11: HA 4120 01HW-3 | D11: 018332 | E11: N | F11: Długopis wymazywalny, Holo Wave, z gripem, 0,5 mm, niebieski, Happy color | G11: szt | H11: 12 | I11: 4.19 | J11: 4.19 | K11: =Tabela1[ [#This Row],[Cena hurtowa netto od 01.06.2025] ]/Tabela1[[#This Row],[Cena hurtowa netto od 13.01.2025]]-1 -> 0 | L11: N | N11: 5902979029424 | O11: 0.23 | Q11: =J11*P11*(1-RABAT) -> 0 | S11: DŁUGOPISY WYMAZYWALNE | T11: 96086000 | U11: =VLOOKUP(Tabela1[[#This Row],[Marka]],Config!$D$2:$E$13,2,FALSE)+Tabela1[[#This Row],[Marka_sort_plus]] -> 101010 | V11: 1010 | W11: 5902979029424 | X11: 5902979029431 | Y11: 5902979029448
B12: HAPPY COLOR | C12: HA 4120 01HW-3 KP40 | D12: 018578 | E12: N | F12: Długopis wymazywalny, Holo Wave, z gripem, 0,5 mm, niebieski, 40 szt display Happy color | G12: szt | H12: 1 | I12: 167.6 | J12: 167.6 | K12: =Tabela1[ [#This Row],[Cena hurtowa netto od 01.06.2025] ]/Tabela1[[#This Row],[Cena hurtowa netto od 13.01.2025]]-1 -> 0 | L12: N | N12: 5902979031984 | O12: 0.23 | Q12: =J12*P12*(1-RABAT) -> 0 | S12: DŁUGOPISY WYMAZYWALNE | T12: 96086000 | U12: =VLOOKUP(Tabela1[[#This Row],[Marka]],Config!$D$2:$E$13,2,FALSE)+Tabela1[[#This Row],[Marka_sort_plus]] -> 101010 | V12: 1010 | W12: 5902979031984
B13: HAPPY COLOR | C13: HA 4120 01PF-3 | D13: 017796 | E13: A | F13: Długopis wymazywalny Pearl Flower, 0,5 mm, niebieski, Happy Color | G13: szt | H13: 12 | I13: 4.59 | J13: 4.59 | K13: =Tabela1[ [#This Row],[Cena hurtowa netto od 01.06.2025] ]/Tabela1[[#This Row],[Cena hurtowa netto od 13.01.2025]]-1 -> 0 | L13: A | N13: 5902979022609 | O13: 0.23 | Q13: =J13*P13*(1-RABAT) -> 0 | R13: GDD News 2/76 | S13: DŁUGOPISY WYMAZYWALNE | T13: 96086000 | U13: =VLOOKUP(Tabela1[[#This Row],[Marka]],Config!$D$2:$E$13,2,FALSE)+Tabela1[[#This Row],[Marka_sort_plus]] -> 101010 | V13: 1010 | W13: 5902979022609
B14: HAPPY COLOR | C14: HA 4120 01PF-3 KP36 | D14: 017883 | E14: A | F14: Długopis wymazywalny Pearl Flower, 0,5 mm, niebieski, 36 szt. w displayu, Happy Color | G14: szt | H14: 1 | I14: 165.24 | J14: 165.24 | K14: =Tabela1[ [#This Row],[Cena hurtowa netto od 01.06.2025] ]/Tabela1[[#This Row],[Cena hurtowa netto od 13.01.2025]]-1 -> 0 | L14: A | N14: 5902979023279 | O14: 0.23 | Q14: =J14*P14*(1-RABAT) -> 0 | R14: GDD News 2/76 | S14: DŁUGOPISY WYMAZYWALNE | T14: 96086000 | U14: =VLOOKUP(Tabela1[[#This Row],[Marka]],Config!$D$2:$E$13,2,FALSE)+Tabela1[[#This Row],[Marka_sort_plus]] -> 101010 | V14: 1010 | W14: 5902979023279
B15: HAPPY COLOR | C15: HA 4120 01BW KP40 | D15: 017163 | E15: A | F15: Display - Długopis wymazywalny Black&white, 0.5mm, niebieski, 40 szt., Happy Color | G15: szt | H15: 1 | I15: 167.6 | J15: 167.6 | K15: =Tabela1[ [#This Row],[Cena hurtowa netto od 01.06.2025] ]/Tabela1[[#This Row],[Cena hurtowa netto od 13.01.2025]]-1 -> 0 | L15: A | N15: 5902979015144 | O15: 0.23 | Q15: =J15*P15*(1-RABAT) -> 0 | R15: 86 | S15: DŁUGOPISY WYMAZYWALNE | T15: 39232990 | U15: =VLOOKUP(Tabela1[[#This Row],[Marka]],Config!$D$2:$E$13,2,FALSE)+Tabela1[[#This Row],[Marka_sort_plus]] -> 101015 | V15: 1015 | W15: 5902979015144 | X15: 5902979015144
B16: HAPPY COLOR | C16: HA 4120 01BW-3 | D16: 017088 | E16: DW | F16: Długopis wymazywalny Black&White, 0,5 mm, niebieski, Happy Color | G16: szt | H16: 12 | I16: 4.19 | J16: 4.19 | K16: =Tabela1[ [#This Row],[Cena hurtowa netto od 01.06.2025] ]/Tabela1[[#This Row],[Cena hurtowa netto od 13.01.2025]]-1 -> 0 | L16: DW | N16: 5902979014673 | O16: 0.23 | Q16: =J16*P16*(1-RABAT) -> 0 | R16: 86 | S16: DŁUGOPISY WYMAZYWALNE | T16: 96081092 | U16: =VLOOKUP(Tabela1[[#This Row],[Marka]],Config!$D$2:$E$13,2,FALSE)+Tabela1[[#This Row],[Marka_sort_plus]] -> 101015 | V16: 1015 | W16: 5902979014673
B17: HAPPY COLOR | C17: HA 4120 01BW-3 BK4 | D17: 017638 | E17: A | F17: Długopis wymazywalny Black&white, 0.5mm, niebieski, 4 szt. na blistrze, Happy Color | G17: szt | H17: 1 | I17: 17.19 | J17: 17.19 | K17: =Tabela1[ [#This Row],[Cena hurtowa netto od 01.06.2025] ]/Tabela1[[#This Row],[Cena hurtowa netto od 13.01.2025]]-1 -> 0 | L17: A | N17: 5902979021145 | O17: 0.23 | Q17: =J17*P17*(1-RABAT) -> 0 | S17: DŁUGOPISY WYMAZYWALNE | T17: 96081092 | U17: =VLOOKUP(Tabela1[[#This Row],[Marka]],Config!$D$2:$E$13,2,FALSE)+Tabela1[[#This Row],[Marka_sort_plus]] -> 101015 | V17: 1015 | W17: 5902979021145
B18: HAPPY COLOR | C18: HA 4120 01BW-3 BK2 | D18: 017104 | E18: DW | F18: Długopis wymazywalny Black&White, 0.5mm, niebieski, 2 szt. na blistrze, Happy Color | G18: szt | H18: 1 | I18: 9.99 | J18: 9.99 | K18: =Tabela1[ [#This Row],[Cena hurtowa netto od 01.06.2025] ]/Tabela1[[#This Row],[Cena hurtowa netto od 13.01.2025]]-1 -> 0 | L18: DW | N18: 5902979014826 | O18: 0.23 | Q18: =J18*P18*(1-RABAT) -> 0 | S18: DŁUGOPISY WYMAZYWALNE | T18: 96081092 | U18: =VLOOKUP(Tabela1[[#This Row],[Marka]],Config!$D$2:$E$13,2,FALSE)+Tabela1[[#This Row],[Marka_sort_plus]] -> 101016 | V18: 1016 | W18: 5902979014826
B19: HAPPY COLOR | C19: HA 4120 01ML-3 | D19: 018145 | E19: A | F19: Długopis wymazywalny My Love, 0,5 mm, niebieski, Happy Color | G19: szt | H19: 12 | I19: 4.19 | J19: 4.19 | K19: =Tabela1[ [#This Row],[Cena hurtowa netto od 01.06.2025] ]/Tabela1[[#This Row],[Cena hurtowa netto od 13.01.2025]]-1 -> 0 | L19: A | N19: 5902979026294 | O19: 0.23 | Q19: =J19*P19*(1-RABAT) -> 0 | R19: GDD News nr 1/74 | 2 | S19: DŁUGOPISY WYMAZYWALNE | T19: 96086000 | U19: =VLOOKUP(Tabela1[[#This Row],[Marka]],Config!$D$2:$E$13,2,FALSE)+Tabela1[[#This Row],[Marka_sort_plus]] -> 101016 | V19: 1016 | W19: 5902979026294
B20: HAPPY COLOR | C20: HA 4120 01ML-3 KP40 | D20: 018146 | E20: A | F20: Display - Długopis wymazywalny My Love, 0.5mm, niebieski, 40 szt., Happy Color | G20: szt | H20: 1 | I20: 167.6 | J20: 167.6 | K20: =Tabela1[ [#This Row],[Cena hurtowa netto od 01.06.2025] ]/Tabela1[[#This Row],[Cena hurtowa netto od 13.01.2025]]-1 -> 0 | L20: A | N20: 5902979026331 | O20: 0.23 | Q20: =J20*P20*(1-RABAT) -> 0 | R20: GDD News nr 1/74 | 2 | S20: DŁUGOPISY WYMAZYWALNE | T20: 96086000 | U20: =VLOOKUP(Tabela1[[#This Row],[Marka]],Config!$D$2:$E$13,2,FALSE)+Tabela1[[#This Row],[Marka_sort_plus]] -> 101016 | V20: 1016 | W20: 5902979026331 | X20: 5902979026300 | Y20: 5902979026317
B21: HAPPY COLOR | C21: HA 4120 01PL-3 | D21: 017795 | E21: DW | F21: Długopis wymazywalny Pink Love, 0,5 mm, niebieski, Happy Color | G21: szt | H21: 12 | I21: 4.19 | J21: 4.19 | K21: =Tabela1[ [#This Row],[Cena hurtowa netto od 01.06.2025] ]/Tabela1[[#This Row],[Cena hurtowa netto od 13.01.2025]]-1 -> 0 | L21: DW | N21: 5902979022593 | O21: 0.23 | Q21: =J21*P21*(1-RABAT) -> 0 | R21: GDD News 2/76 | S21: DŁUGOPISY WYMAZYWALNE | T21: 96086000 | U21: =VLOOKUP(Tabela1[[#This Row],[Marka]],Config!$D$2:$E$13,2,FALSE)+Tabela1[[#This Row],[Marka_sort_plus]] -> 101016 | V21: 1016 | W21: 5902979022593
B22: HAPPY COLOR | C22: HA 4120 01AL-3 | D22: 018265 | E22: N | F22: Długopis wymazywalny Go Alien, 0.5mm, niebieski, Happy Color | G22: szt | H22: 12 | I22: 4.19 | J22: 4.19 | K22: =Tabela1[ [#This Row],[Cena hurtowa netto od 01.06.2025] ]/Tabela1[[#This Row],[Cena hurtowa netto od 13.01.2025]]-1 -> 0 | L22: N | N22: 5902979028731 | O22: 0.23 | Q22: =J22*P22*(1-RABAT) -> 0 | R22: GDD News nr 3/73 | 4 | S22: DŁUGOPISY WYMAZYWALNE | T22: 96081092 | U22: =VLOOKUP(Tabela1[[#This Row],[Marka]],Config!$D$2:$E$13,2,FALSE)+Tabela1[[#This Row],[Marka_sort_plus]] -> 101017 | V22: 1017 | W22: 5902979028731 | X22: 5902979028762 | Y22: 5902979028793
B23: HAPPY COLOR | C23: HA 4120 01AL-3 KP40 | D23: 018319 | E23: N | F23: Display - Długopis wymazywalny Go Alien, 0,5 mm, niebieski, 40 szt., Happy Color | G23: szt | H23: 1 | I23: 167.6 | J23: 167.6 | K23: =Tabela1[ [#This Row],[Cena hurtowa netto od 01.06.2025] ]/Tabela1[[#This Row],[Cena hurtowa netto od 13.01.2025]]-1 -> 0 | L23: N | N23: 5902979029264 | O23: 0.23 | Q23: =J23*P23*(1-RABAT) -> 0 | R23: GDD News nr 3/73 | 4 | S23: DŁUGOPISY WYMAZYWALNE | T23: 96081092 | U23: =VLOOKUP(Tabela1[[#This Row],[Marka]],Config!$D$2:$E$13,2,FALSE)+Tabela1[[#This Row],[Marka_sort_plus]] -> 101017 | V23: 1017 | W23: 5902979029264
B24: HAPPY COLOR | C24: HA 4120 01SK-3 | D24: 017202 | E24: A | F24: Długopis wymazywalny Skate, 0,5 mm, niebieski, Happy Color | G24: szt | H24: 12 | I24: 4.19 | J24: 4.19 | K24: =Tabela1[ [#This Row],[Cena hurtowa netto od 01.06.2025] ]/Tabela1[[#This Row],[Cena hurtowa netto od 13.01.2025]]-1 -> 0 | L24: A | N24: 5902979015380 | O24: 0.23 | Q24: =J24*P24*(1-RABAT) -> 0 | R24: GDD News nr 3/73 | 4 | S24: DŁUGOPISY WYMAZYWALNE | T24: 96081092 | U24: =VLOOKUP(Tabela1[[#This Row],[Marka]],Config!$D$2:$E$13,2,FALSE)+Tabela1[[#This Row],[Marka_sort_plus]] -> 101017 | V24: 1017 | W24: 5902979015380 | X24: 5902979015397 | Y24: 5902979015403
B25: HAPPY COLOR | C25: HA 4120 01SK-3 BK2 | D25: 017204 | E25: A | F25: Długopis wymazywalny Skate, 0.5mm, niebieski, 2 szt. na blistrze, Happy Color | G25: szt | H25: 1 | I25: 9.99 | J25: 9.99 | K25: =Tabela1[ [#This Row],[Cena hurtowa netto od 01.06.2025] ]/Tabela1[[#This Row],[Cena hurtowa netto od 13.01.2025]]-1 -> 0 | L25: A | N25: 5902979015434 | O25: 0.23 | Q25: =J25*P25*(1-RABAT) -> 0 | R25: GDD News nr 3/73 | 4 | S25: DŁUGOPISY WYMAZYWALNE | T25: 96081092 | U25: =VLOOKUP(Tabela1[[#This Row],[Marka]],Config!$D$2:$E$13,2,FALSE)+Tabela1[[#This Row],[Marka_sort_plus]] -> 101017 | V25: 1017 | W25: 5902979015434
B26: HAPPY COLOR | C26: HA 4120 01SK-3 KP40 | D26: 017203 | E26: A | F26: Display - Długopis wymazywalny Skate, 0.5mm, niebieski, 40 szt., Happy Color | G26: szt | H26: 1 | I26: 167.6 | J26: 167.6 | K26: =Tabela1[ [#This Row],[Cena hurtowa netto od 01.06.2025] ]/Tabela1[[#This Row],[Cena hurtowa netto od 13.01.2025]]-1 -> 0 | L26: A | N26: 5902979015427 | O26: 0.23 | Q26: =J26*P26*(1-RABAT) -> 0 | R26: GDD News nr 3/73 | 4 | S26: DŁUGOPISY WYMAZYWALNE | T26: 96081092 | U26: =VLOOKUP(Tabela1[[#This Row],[Marka]],Config!$D$2:$E$13,2,FALSE)+Tabela1[[#This Row],[Marka_sort_plus]] -> 101017 | V26: 1017 | W26: 5902979015427
B27: HAPPY COLOR | C27: HA 4120 01TM-3 | D27: 017997 | E27: N | F27: Długopis wymazywalny, Tabliczka mnożenia, 0.5mm, niebieski, Happy Color | G27: szt | H27: 1 | I27: 4.19 | J27: 4.19 | K27: =Tabela1[ [#This Row],[Cena hurtowa netto od 01.06.2025] ]/Tabela1[[#This Row],[Cena hurtowa netto od 13.01.2025]]-1 -> 0 | L27: N | N27: 5902979024269 | O27: 0.23 | Q27: =J27*P27*(1-RABAT) -> 0 | R27: GDD News nr 3/73 | 5 | S27: DŁUGOPISY WYMAZYWALNE | T27: 96081092 | U27: =VLOOKUP(Tabela1[[#This Row],[Marka]],Config!$D$2:$E$13,2,FALSE)+Tabela1[[#This Row],[Marka_sort_plus]] -> 101017 | V27: 1017 | W27: 5902979024269
B28: HAPPY COLOR | C28: HA 4120 01TM-3 KP40 | D28: 018318 | E28: N | F28: Display - Długopis wymazywalny Tabliczka mnożenia, 0,5 mm, niebieski, 40 szt., Happy Color | G28: szt | H28: 1 | I28: 167.6 | J28: 167.6 | K28: =Tabela1[ [#This Row],[Cena hurtowa netto od 01.06.2025] ]/Tabela1[[#This Row],[Cena hurtowa netto od 13.01.2025]]-1 -> 0 | L28: N | N28: 5902979029257 | O28: 0.23 | Q28: =J28*P28*(1-RABAT) -> 0 | R28: GDD News nr 3/73 | 6 | S28: DŁUGOPISY WYMAZYWALNE | T28: 96081092 | U28: =VLOOKUP(Tabela1[[#This Row],[Marka]],Config!$D$2:$E$13,2,FALSE)+Tabela1[[#This Row],[Marka_sort_plus]] -> 101017 | V28: 1017 | W28: 5902979029257
B29: HAPPY COLOR | C29: HA 4120 01KI-3 | D29: 018253 | E29: A | F29: Długopis wymazywalny Kitty, 0,5 mm, niebieski, Happy Color | G29: szt | H29: 12 | I29: 4.19 | J29: 4.19 | K29: =Tabela1[ [#This Row],[Cena hurtowa netto od 01.06.2025] ]/Tabela1[[#This Row],[Cena hurtowa netto od 13.01.2025]]-1 -> 0 | L29: A | N29: 5902979028526 | O29: 0.23 | Q29: =J29*P29*(1-RABAT) -> 0 | S29: DŁUGOPISY WYMAZYWALNE | T29: 96081092 | U29: =VLOOKUP(Tabela1[[#This Row],[Marka]],Config!$D$2:$E$13,2,FALSE)+Tabela1[[#This Row],[Marka_sort_plus]] -> 101018 | V29: 1018 | W29: 5902979028526 | X29: 5902979028533 | Y29: 5902979028540
B30: HAPPY COLOR | C30: HA 4120 01KI-3 KP40 | D30: 018317 | E30: N | F30: Display - Długopis wymazywalny Kitty, 0,5 mm, niebieski, 40 szt., Happy Color | G30: szt | H30: 1 | I30: 167.6 | J30: 167.6 | K30: =Tabela1[ [#This Row],[Cena hurtowa netto od 01.06.2025] ]/Tabela1[[#This Row],[Cena hurtowa netto od 13.01.2025]]-1 -> 0 | L30: N | N30: 5902979029240 | O30: 0.23 | Q30: =J30*P30*(1-RABAT) -> 0 | S30: DŁUGOPISY WYMAZYWALNE | T30: 96081092 | U30: =VLOOKUP(Tabela1[[#This Row],[Marka]],Config!$D$2:$E$13,2,FALSE)+Tabela1[[#This Row],[Marka_sort_plus]] -> 101018 | V30: 1018 | W30: 5902979029240
B31: HAPPY COLOR | C31: HA 4120 01MA-3 | D31: 017848 | E31: A | F31: Długopis wymazywalny Miaow!, 0.5 mm, niebieski, Happy Color | G31: szt | H31: 12 | I31: 4.19 | J31: 4.19 | K31: =Tabela1[ [#This Row],[Cena hurtowa netto od 01.06.2025] ]/Tabela1[[#This Row],[Cena hurtowa netto od 13.01.2025]]-1 -> 0 | L31: A | N31: 5902979023026 | O31: 0.23 | Q31: =J31*P31*(1-RABAT) -> 0 | S31: DŁUGOPISY WYMAZYWALNE | T31: 96081092 | U31: =VLOOKUP(Tabela1[[#This Row],[Marka]],Config!$D$2:$E$13,2,FALSE)+Tabela1[[#This Row],[Marka_sort_plus]] -> 101019 | V31: 1019 | W31: 5902979023026
B32: HAPPY COLOR | C32: HA 4120 01MA-3 KP40 | D32: 017850 | E32: A | F32: Długopis wymazywalny Miaow!, 0.5mm, niebieski, 40 szt. w displayu, Happy Color | G32: szt | H32: 1 | I32: 167.6 | J32: 167.6 | K32: =Tabela1[ [#This Row],[Cena hurtowa netto od 01.06.2025] ]/Tabela1[[#This Row],[Cena hurtowa netto od 13.01.2025]]-1 -> 0 | L32: A | N32: 5902979023095 | O32: 0.23 | Q32: =J32*P32*(1-RABAT) -> 0 | S32: DŁUGOPISY WYMAZYWALNE | T32: 96081092 | U32: =VLOOKUP(Tabela1[[#This Row],[Marka]],Config!$D$2:$E$13,2,FALSE)+Tabela1[[#This Row],[Marka_sort_plus]] -> 101019 | V32: 1019 | W32: 5902979023095
B33: HAPPY COLOR | C33: HA 4120 02AF-3 | D33: 016677 | E33: DW | F33: Długopis wymazywalny Afrykanki Boho, 0.5mm, niebieski, Happy Color | G33: szt | H33: 12 | I33: 4.19 | J33: 4.19 | K33: =Tabela1[ [#This Row],[Cena hurtowa netto od 01.06.2025] ]/Tabela1[[#This Row],[Cena hurtowa netto od 13.01.2025]]-1 -> 0 | L33: DW | N33: 5902979011832 | O33: 0.23 | Q33: =J33*P33*(1-RABAT) -> 0 | R33: 88 | S33: DŁUGOPISY WYMAZYWALNE | T33: 96081092 | U33: =VLOOKUP(Tabela1[[#This Row],[Marka]],Config!$D$2:$E$13,2,FALSE)+Tabela1[[#This Row],[Marka_sort_plus]] -> 101022 | V33: 1022 | W33: 5902979011832 | X33: 5902979011917 | Y33: 5902979011931 | Z33: 5902979012013
B34: HAPPY COLOR | C34: HA 4120 02MS-3 | D34: 018281 | E34: N | F34: Długopis wymazywalny Magic Sky (Uszaki), 0.5mm, niebieski, Happy Color | G34: szt | H34: 12 | I34: 4.19 | J34: 4.19 | K34: =Tabela1[ [#This Row],[Cena hurtowa netto od 01.06.2025] ]/Tabela1[[#This Row],[Cena hurtowa netto od 13.01.2025]]-1 -> 0 | L34: N | N34: 5902979029004 | O34: 0.23 | Q34: =J34*P34*(1-RABAT) -> 0 | S34: DŁUGOPISY WYMAZYWALNE | T34: 96081092 | U34: =VLOOKUP(Tabela1[[#This Row],[Marka]],Config!$D$2:$E$13,2,FALSE)+Tabela1[[#This Row],[Marka_sort_plus]] -> 101040 | V34: 1040 | W34: 5902979029004
B35: HAPPY COLOR | C35: HA 4120 02MS-3 KP40 | D35: 018335 | E35: N | F35: Display - Długopis wymazywalny Magic Sky (Uszaki), 0.5mm, niebieski, 40 szt, Happy Color | G35: szt | H35: 1 | I35: 167.6 | J35: 167.6 | K35: =Tabela1[ [#This Row],[Cena hurtowa netto od 01.06.2025] ]/Tabela1[[#This Row],[Cena hurtowa netto od 13.01.2025]]-1 -> 0 | L35: N | N35: 5902979029493 | O35: 0.23 | Q35: =J35*P35*(1-RABAT) -> 0 | R35: 96 | S35: DŁUGOPISY WYMAZYWALNE | T35: 96081092 | U35: =VLOOKUP(Tabela1[[#This Row],[Marka]],Config!$D$2:$E$13,2,FALSE)+Tabela1[[#This Row],[Marka_sort_plus]] -> 101040 | V35: 1040 | W35: 5902979029493 | X35: 5902979029042 | Y35: 5902979029080
B36: HAPPY COLOR | C36: HA 4121 XM01-3 | D36: 018072 | E36: DW | F36: Długopis wymazywalny XMAS 1, automatyczny, 0.5mm, niebieski, Happy Color | G36: szt | H36: 12 | I36: 4.59 | J36: 4.59 | K36: =Tabela1[ [#This Row],[Cena hurtowa netto od 01.06.2025] ]/Tabela1[[#This Row],[Cena hurtowa netto od 13.01.2025]]-1 -> 0 | L36: DW | N36: 5902979026065 | O36: 0.23 | Q36: =J36*P36*(1-RABAT) -> 0 | R36: 88 | S36: DŁUGOPISY WYMAZYWALNE | T36: 96081092 | U36: =VLOOKUP(Tabela1[[#This Row],[Marka]],Config!$D$2:$E$13,2,FALSE)+Tabela1[[#This Row],[Marka_sort_plus]] -> 101050 | V36: 1050 | W36: 5902979026065
B37: HAPPY COLOR | C37: HA 4121 XM02-3 | D37: 018075 | E37: DW | F37: Długopis wymazywalny XMAS 2, automatyczny, 0.5mm, niebieski, Happy Color | G37: szt | H37: 12 | I37: 4.59 | J37: 4.59 | K37: =Tabela1[ [#This Row],[Cena hurtowa netto od 01.06.2025] ]/Tabela1[[#This Row],[Cena hurtowa netto od 13.01.2025]]-1 -> 0 | L37: DW | N37: 5902979026089 | O37: 0.23 | Q37: =J37*P37*(1-RABAT) -> 0 | R37: 88 | S37: DŁUGOPISY WYMAZYWALNE | T37: 96081092 | U37: =VLOOKUP(Tabela1[[#This Row],[Marka]],Config!$D$2:$E$13,2,FALSE)+Tabela1[[#This Row],[Marka_sort_plus]] -> 101050 | V37: 1050 | W37: 5902979026089
B38: HAPPY COLOR | C38: HA 4120 01C1 S1BK | D38: 015947 | E38: DW | F38: Długopis wymazywalny Cool Gang, 0,5 mm, niebieski, 1 szt + 3 skuwki na blistrze, Happy Color | G38: szt | H38: 1 | I38: 8.69 | J38: 8.69 | K38: =Tabela1[ [#This Row],[Cena hurtowa netto od 01.06.2025] ]/Tabela1[[#This Row],[Cena hurtowa netto od 13.01.2025]]-1 -> 0 | L38: DW | N38: 5902979005848 | O38: 0.23 | Q38: =J38*P38*(1-RABAT) -> 0 | R38: 97 | S38: DŁUGOPISY WYMAZYWALNE | T38: 96081092 | U38: =VLOOKUP(Tabela1[[#This Row],[Marka]],Config!$D$2:$E$13,2,FALSE)+Tabela1[[#This Row],[Marka_sort_plus]] -> 101056 | V38: 1056 | W38: 5902979005848 | X38: 5902979005879 | Z38: 5902979007330
B39: HAPPY COLOR | C39: HA 4120 21C1 BK3 | D39: 015948 | E39: A | F39: Gumki-skuwki do długopisów wymazywalnych Cool Gang, miks 3 szt. na blistrze, Happy Color | G39: szt | H39: 20 | I39: 2.99 | J39: 2.99 | K39: =Tabela1[ [#This Row],[Cena hurtowa netto od 01.06.2025] ]/Tabela1[[#This Row],[Cena hurtowa netto od 13.01.2025]]-1 -> 0 | L39: R | N39: 5902979005855 | O39: 0.23 | Q39: =J39*P39*(1-RABAT) -> 0 | R39: 97 | S39: DŁUGOPISY WYMAZYWALNE | T39: 96089900 | U39: =VLOOKUP(Tabela1[[#This Row],[Marka]],Config!$D$2:$E$13,2,FALSE)+Tabela1[[#This Row],[Marka_sort_plus]] -> 101056 | V39: 1056 | W39: 5902979005855 | X39: 5902979005886 | Z39: 5902979007347
B40: HAPPY COLOR | C40: HA 4120 01PT-3 | D40: 017526 | E40: DW | F40: Długopis wymazywalny Pastel Twist (Uszaki), 0.5mm, niebieski, Happy Color | G40: szt | H40: 12 | I40: 4.19 | J40: 4.19 | K40: =Tabela1[ [#This Row],[Cena hurtowa netto od 01.06.2025] ]/Tabela1[[#This Row],[Cena hurtowa netto od 13.01.2025]]-1 -> 0 | L40: DW | N40: 5902979019548 | O40: 0.23 | Q40: =J40*P40*(1-RABAT) -> 0 | R40: GDD News nr 1/74 | 2 | S40: DŁUGOPISY WYMAZYWALNE | T40: 96081092 | U40: =VLOOKUP(Tabela1[[#This Row],[Marka]],Config!$D$2:$E$13,2,FALSE)+Tabela1[[#This Row],[Marka_sort_plus]] -> 101057 | V40: 1057 | W40: 5902979019548 | X40: 5902979019616 | Y40: 5902979019661
B41: HAPPY COLOR | C41: HA 4120 01UB-3 | D41: 018451 | E41: N | F41: Długopis wymazywalny Uszaki Babe, 0.5mm, niebieski, Happy Color | G41: szt | H41: 12 | I41: 4.19 | J41: 4.19 | K41: =Tabela1[ [#This Row],[Cena hurtowa netto od 01.06.2025] ]/Tabela1[[#This Row],[Cena hurtowa netto od 13.01.2025]]-1 -> 0 | L41: N | N41: 5902979030482 | O41: 0.23 | Q41: =J41*P41*(1-RABAT) -> 0 | S41: DŁUGOPISY WYMAZYWALNE | T41: 96081092 | U41: =VLOOKUP(Tabela1[[#This Row],[Marka]],Config!$D$2:$E$13,2,FALSE)+Tabela1[[#This Row],[Marka_sort_plus]] -> 101057 | V41: 1057 | W41: 5902979030482
B42: HAPPY COLOR | C42: HA 4120 01UB-3 KP40 | D42: 018577 | E42: N | F42: Długopis wymazywalny Uszaki Babe, 0.5mm, niebieski, 40 szt display, Happy Color | G42: szt | H42: 1 | I42: 167.6 | J42: 167.6 | K42: =Tabela1[ [#This Row],[Cena hurtowa netto od 01.06.2025] ]/Tabela1[[#This Row],[Cena hurtowa netto od 13.01.2025]]-1 -> 0 | L42: N | N42: 5902979031977 | O42: 0.23 | Q42: =J42*P42*(1-RABAT) -> 0 | S42: DŁUGOPISY WYMAZYWALNE | T42: 96081092 | U42: =VLOOKUP(Tabela1[[#This Row],[Marka]],Config!$D$2:$E$13,2,FALSE)+Tabela1[[#This Row],[Marka_sort_plus]] -> 101057 | V42: 1057 | W42: 5902979031977
B43: HAPPY COLOR | C43: HA 4120 02PT-3 | D43: 018282 | E43: N | F43: Długopis wymazywalny Pastel Twist (Uszaki), 0.5mm, niebieski, Happy Color | G43: szt | H43: 12 | I43: 4.19 | J43: 4.19 | K43: =Tabela1[ [#This Row],[Cena hurtowa netto od 01.06.2025] ]/Tabela1[[#This Row],[Cena hurtowa netto od 13.01.2025]]-1 -> 0 | L43: N | N43: 5902979029011 | O43: 0.23 | Q43: =J43*P43*(1-RABAT) -> 0 | S43: DŁUGOPISY WYMAZYWALNE | T43: 96081092 | U43: =VLOOKUP(Tabela1[[#This Row],[Marka]],Config!$D$2:$E$13,2,FALSE)+Tabela1[[#This Row],[Marka_sort_plus]] -> 101057 | V43: 1057 | W43: 5902979029011 | X43: 5902979029059 | Y43: 5902979029097
B44: HAPPY COLOR | C44: HA 4120 02PT-3 KP40 | D44: 018336 | E44: N | F44: Display - Długopis wymazywalny Pastel Twist (Uszaki), 0.5mm, niebieski, 40 szt, Happy Color | G44: szt | H44: 1 | I44: 167.6 | J44: 167.6 | K44: =Tabela1[ [#This Row],[Cena hurtowa netto od 01.06.2025] ]/Tabela1[[#This Row],[Cena hurtowa netto od 13.01.2025]]-1 -> 0 | L44: N | N44: 5902979029509 | O44: 0.23 | Q44: =J44*P44*(1-RABAT) -> 0 | S44: DŁUGOPISY WYMAZYWALNE | T44: 96081092 | U44: =VLOOKUP(Tabela1[[#This Row],[Marka]],Config!$D$2:$E$13,2,FALSE)+Tabela1[[#This Row],[Marka_sort_plus]] -> 101057 | V44: 1057 | W44: 5902979029509
B45: HAPPY COLOR | C45: HA 4120 01FS-3 | D45: 015612 | E45: DW | F45: Długopis wymazywalny Rybki, 0.5mm, niebieski, Happy Color | G45: szt | H45: 12 | I45: 4.19 | J45: 4.19 | K45: =Tabela1[ [#This Row],[Cena hurtowa netto od 01.06.2025] ]/Tabela1[[#This Row],[Cena hurtowa netto od 13.01.2025]]-1 -> 0 | L45: DW | N45: 5905130050961 | O45: 0.23 | Q45: =J45*P45*(1-RABAT) -> 0 | R45: 91 | S45: DŁUGOPISY WYMAZYWALNE | T45: 96081092 | U45: =VLOOKUP(Tabela1[[#This Row],[Marka]],Config!$D$2:$E$13,2,FALSE)+Tabela1[[#This Row],[Marka_sort_plus]] -> 101058 | V45: 1058 | W45: 5905130050961 | X45: 5905130050978 | Y45: 5905130050985 | Z45: 5905130050992
B46: HAPPY COLOR | C46: HA 4120 01SM-3 | D46: 017304 | E46: A | F46: Długopis wymazywalny Smile, 0,5 mm, niebieski, Happy Color | G46: szt | H46: 12 | I46: 4.19 | J46: 4.19 | K46: =Tabela1[ [#This Row],[Cena hurtowa netto od 01.06.2025] ]/Tabela1[[#This Row],[Cena hurtowa netto od 13.01.2025]]-1 -> 0 | L46: A | N46: 5902979016790 | O46: 0.23 | Q46: =J46*P46*(1-RABAT) -> 0 | R46: GDD News nr 4/74 | 2 | S46: DŁUGOPISY WYMAZYWALNE | T46: 96081092 | U46: =VLOOKUP(Tabela1[[#This Row],[Marka]],Config!$D$2:$E$13,2,FALSE)+Tabela1[[#This Row],[Marka_sort_plus]] -> 101071 | V46: 1071 | W46: 5902979016790
B47: HAPPY COLOR | C47: HA 4120 01SM-3 BK2 | D47: 017306 | E47: A | F47: Długopis wymazywalny Smile, 0,5 mm, niebieski, 2 szt. na blistrze, Happy Color | G47: szt | H47: 1 | I47: 9.99 | J47: 9.99 | K47: =Tabela1[ [#This Row],[Cena hurtowa netto od 01.06.2025] ]/Tabela1[[#This Row],[Cena hurtowa netto od 13.01.2025]]-1 -> 0 | L47: A | N47: 5902979016813 | O47: 0.23 | Q47: =J47*P47*(1-RABAT) -> 0 | S47: DŁUGOPISY WYMAZYWALNE | T47: 96081092 | U47: =VLOOKUP(Tabela1[[#This Row],[Marka]],Config!$D$2:$E$13,2,FALSE)+Tabela1[[#This Row],[Marka_sort_plus]] -> 101071 | V47: 1071 | W47: 5902979016813
B48: HAPPY COLOR | C48: HA 4120 01SM-3 KP40 | D48: 017307 | E48: A | F48: Display - Długopis wymazywalny Smile, 0,5 mm, niebieski, 40 szt., Happy Color | G48: szt | H48: 1 | I48: 167.6 | J48: 167.6 | K48: =Tabela1[ [#This Row],[Cena hurtowa netto od 01.06.2025] ]/Tabela1[[#This Row],[Cena hurtowa netto od 13.01.2025]]-1 -> 0 | L48: A | N48: 5902979016820 | O48: 0.23 | Q48: =J48*P48*(1-RABAT) -> 0 | R48: GDD News nr 4/74 | 2 | S48: DŁUGOPISY WYMAZYWALNE | T48: 96081092 | U48: =VLOOKUP(Tabela1[[#This Row],[Marka]],Config!$D$2:$E$13,2,FALSE)+Tabela1[[#This Row],[Marka_sort_plus]] -> 101071 | V48: 1071 | W48: 5902979016820
B49: HAPPY COLOR | C49: HA 4120 01FU-3 | D49: 017308 | E49: A | F49: Długopis wymazywalny Fun, 0,5 mm, niebieski, Happy Color | G49: szt | H49: 12 | I49: 4.19 | J49: 4.19 | K49: =Tabela1[ [#This Row],[Cena hurtowa netto od 01.06.2025] ]/Tabela1[[#This Row],[Cena hurtowa netto od 13.01.2025]]-1 -> 0 | L49: A | N49: 5902979016837 | O49: 0.23 | Q49: =J49*P49*(1-RABAT) -> 0 | R49: GDD News nr 4/74 | 2 | S49: DŁUGOPISY WYMAZYWALNE | T49: 96081092 | U49: =VLOOKUP(Tabela1[[#This Row],[Marka]],Config!$D$2:$E$13,2,FALSE)+Tabela1[[#This Row],[Marka_sort_plus]] -> 101072 | V49: 1072 | W49: 5902979016837
B50: HAPPY COLOR | C50: HA 4120 01FU-3 BK2 | D50: 017310 | E50: A | F50: Długopis wymazywalny Fun, 0,5 mm, niebieski, 2 szt. na blistrze, Happy Color | G50: szt | H50: 1 | I50: 9.99 | J50: 9.99 | K50: =Tabela1[ [#This Row],[Cena hurtowa netto od 01.06.2025] ]/Tabela1[[#This Row],[Cena hurtowa netto od 13.01.2025]]-1 -> 0 | L50: A | N50: 5902979016851 | O50: 0.23 | Q50: =J50*P50*(1-RABAT) -> 0 | S50: DŁUGOPISY WYMAZYWALNE | T50: 96081092 | U50: =VLOOKUP(Tabela1[[#This Row],[Marka]],Config!$D$2:$E$13,2,FALSE)+Tabela1[[#This Row],[Marka_sort_plus]] -> 101072 | V50: 1072 | W50: 5902979016851
B51: HAPPY COLOR | C51: HA 4120 01FU-3 KP40 | D51: 017311 | E51: A | F51: Display - Długopis wymazywalny Fun, 0,5 mm, niebieski, 40 szt., Happy Color | G51: szt | H51: 1 | I51: 167.6 | J51: 167.6 | K51: =Tabela1[ [#This Row],[Cena hurtowa netto od 01.06.2025] ]/Tabela1[[#This Row],[Cena hurtowa netto od 13.01.2025]]-1 -> 0 | L51: A | N51: 5902979016868 | O51: 0.23 | Q51: =J51*P51*(1-RABAT) -> 0 | R51: GDD News nr 4/74 | 2 | S51: DŁUGOPISY WYMAZYWALNE | T51: 96081092 | U51: =VLOOKUP(Tabela1[[#This Row],[Marka]],Config!$D$2:$E$13,2,FALSE)+Tabela1[[#This Row],[Marka_sort_plus]] -> 101072 | V51: 1072 | W51: 5902979016868
B52: HAPPY COLOR | C52: HA 4120 01LO-3 | D52: 015840 | E52: A | F52: Długopis wymazywalny Buźki LOL, 0.5mm, niebieski, Happy Color | G52: szt | H52: 12 | I52: 4.19 | J52: 4.19 | K52: =Tabela1[ [#This Row],[Cena hurtowa netto od 01.06.2025] ]/Tabela1[[#This Row],[Cena hurtowa netto od 13.01.2025]]-1 -> 0 | L52: A | N52: 5902979003943 | O52: 0.23 | Q52: =J52*P52*(1-RABAT) -> 0 | R52: 90 | S52: DŁUGOPISY WYMAZYWALNE | T52: 96081092 | U52: =VLOOKUP(Tabela1[[#This Row],[Marka]],Config!$D$2:$E$13,2,FALSE)+Tabela1[[#This Row],[Marka_sort_plus]] -> 101073 | V52: 1073 | W52: 5902979003943 | X52: 5902979003967 | Y52: 5902979003974 | Z52: 5902979003981
B53: HAPPY COLOR | C53: HA 4120 01LO-3 BK2 | D53: 016583 | E53: A | F53: Długopis wymazywalny Buźki LOL, 0.5mm, niebieski, 2 szt. na blistrze, Happy Color | G53: szt | H53: 1 | I53: 9.99 | J53: 9.99 | K53: =Tabela1[ [#This Row],[Cena hurtowa netto od 01.06.2025] ]/Tabela1[[#This Row],[Cena hurtowa netto od 13.01.2025]]-1 -> 0 | L53: A | N53: 5902979011276 | O53: 0.23 | Q53: =J53*P53*(1-RABAT) -> 0 | R53: 96 | S53: DŁUGOPISY WYMAZYWALNE | T53: 96081092 | U53: =VLOOKUP(Tabela1[[#This Row],[Marka]],Config!$D$2:$E$13,2,FALSE)+Tabela1[[#This Row],[Marka_sort_plus]] -> 101073 | V53: 1073 | W53: 5902979011276 | X53: 5902979011306 | Z53: 5902979011337
B54: HAPPY COLOR | C54: HA 4120 01LO-3 BK4 | D54: 016584 | E54: DW | F54: Długopis wymazywalny Buźki LOL, 0.5mm, niebieski, 4 szt. na blistrze, Happy Color | G54: szt | H54: 1 | I54: 17.19 | J54: 17.19 | K54: =Tabela1[ [#This Row],[Cena hurtowa netto od 01.06.2025] ]/Tabela1[[#This Row],[Cena hurtowa netto od 13.01.2025]]-1 -> 0 | L54: DW | N54: 5902979011283 | O54: 0.23 | Q54: =J54*P54*(1-RABAT) -> 0 | R54: 96 | S54: DŁUGOPISY WYMAZYWALNE | T54: 96081092 | U54: =VLOOKUP(Tabela1[[#This Row],[Marka]],Config!$D$2:$E$13,2,FALSE)+Tabela1[[#This Row],[Marka_sort_plus]] -> 101073 | V54: 1073 | W54: 5902979011283 | X54: 5902979011313 | Z54: 5902979011344
B55: HAPPY COLOR | C55: HA 4120 01LO-KP40 | D55: 016230 | E55: A | F55: Display - Długopis wymazywalny Buźki LOL, 0.5mm, niebieski, 40 szt., Happy Color | G55: szt | H55: 1 | I55: 167.6 | J55: 167.6 | K55: =Tabela1[ [#This Row],[Cena hurtowa netto od 01.06.2025] ]/Tabela1[[#This Row],[Cena hurtowa netto od 13.01.2025]]-1 -> 0 | L55: A | N55: 5902979008641 | O55: 0.23 | Q55: =J55*P55*(1-RABAT) -> 0 | R55: 90 | S55: DŁUGOPISY WYMAZYWALNE | T55: 96081092 | U55: =VLOOKUP(Tabela1[[#This Row],[Marka]],Config!$D$2:$E$13,2,FALSE)+Tabela1[[#This Row],[Marka_sort_plus]] -> 101073 | V55: 1073 | W55: 5902979008641
B56: HAPPY COLOR | C56: HA 4120 01PI-3 | D56: 015303 | E56: A | F56: Długopis wymazywalny PIXI, 0.5mm, niebieski, Happy Color | G56: szt | H56: 12 | I56: 4.19 | J56: 4.19 | K56: =Tabela1[ [#This Row],[Cena hurtowa netto od 01.06.2025] ]/Tabela1[[#This Row],[Cena hurtowa netto od 13.01.2025]]-1 -> 0 | L56: A | N56: 5905130042775 | O56: 0.23 | Q56: =J56*P56*(1-RABAT) -> 0 | R56: 90 | S56: DŁUGOPISY WYMAZYWALNE | T56: 96081092 | U56: =VLOOKUP(Tabela1[[#This Row],[Marka]],Config!$D$2:$E$13,2,FALSE)+Tabela1[[#This Row],[Marka_sort_plus]] -> 101075 | V56: 1075 | W56: 5905130042775 | X56: 5905130042782 | Y56: 5905130049071 | Z56: 5905130049088
B57: HAPPY COLOR | C57: HA 4120 01PI-3 BK2 | D57: 017106 | E57: A | F57: Długopis wymazywalny PIXI, 0.5mm, niebieski, 2 szt. na blistrze, Happy Color | G57: szt | H57: 1 | I57: 9.99 | J57: 9.99 | K57: =Tabela1[ [#This Row],[Cena hurtowa netto od 01.06.2025] ]/Tabela1[[#This Row],[Cena hurtowa netto od 13.01.2025]]-1 -> 0 | L57: A | N57: 5902979014871 | O57: 0.23 | Q57: =J57*P57*(1-RABAT) -> 0 | R57: 90 | S57: DŁUGOPISY WYMAZYWALNE | T57: 96081092 | U57: =VLOOKUP(Tabela1[[#This Row],[Marka]],Config!$D$2:$E$13,2,FALSE)+Tabela1[[#This Row],[Marka_sort_plus]] -> 101075 | V57: 1075 | W57: 5902979014871
B58: HAPPY COLOR | C58: HA 4120 01PI-KP40 | D58: 016232 | E58: A | F58: Display - Długopis wymazywalny PIXI, 0.5mm, niebieski, 40 szt., Happy Color | G58: szt | H58: 1 | I58: 167.6 | J58: 167.6 | K58: =Tabela1[ [#This Row],[Cena hurtowa netto od 01.06.2025] ]/Tabela1[[#This Row],[Cena hurtowa netto od 13.01.2025]]-1 -> 0 | L58: A | N58: 5902979008665 | O58: 0.23 | Q58: =J58*P58*(1-RABAT) -> 0 | R58: 90 | S58: DŁUGOPISY WYMAZYWALNE | T58: 96081092 | U58: =VLOOKUP(Tabela1[[#This Row],[Marka]],Config!$D$2:$E$13,2,FALSE)+Tabela1[[#This Row],[Marka_sort_plus]] -> 101075 | V58: 1075 | W58: 5902979008665
B59: HAPPY COLOR | C59: HA AKPB4471-3 | D59: 013560 | E59: A | F59: Długopis wymazywalny "Uszaki", 0.5mm, niebieski, kolorowa obudowa, Happy Color | G59: szt | H59: 12 | I59: 4.19 | J59: 4.19 | K59: =Tabela1[ [#This Row],[Cena hurtowa netto od 01.06.2025] ]/Tabela1[[#This Row],[Cena hurtowa netto od 13.01.2025]]-1 -> 0 | L59: A | N59: 6941025125399 | O59: 0.23 | Q59: =J59*P59*(1-RABAT) -> 0 | R59: 87 | S59: DŁUGOPISY WYMAZYWALNE | T59: 96081092 | U59: =VLOOKUP(Tabela1[[#This Row],[Marka]],Config!$D$2:$E$13,2,FALSE)+Tabela1[[#This Row],[Marka_sort_plus]] -> 101114 | V59: 1114 | W59: 6941025125399 | X59: 6941025125405 | Y59: 6941025125412 | Z59: 06941025125399
B60: HAPPY COLOR | C60: HA AKPB4471-3 BK2 | D60: 013708 | E60: A | F60: Długopis wymazywalny "Uszaki", 0.5mm, niebieski, kolorowa obudowa, 2 sztuki na blistrze, Happy Color | G60: szt | H60: 10 | I60: 9.99 | J60: 9.99 | K60: =Tabela1[ [#This Row],[Cena hurtowa netto od 01.06.2025] ]/Tabela1[[#This Row],[Cena hurtowa netto od 13.01.2025]]-1 -> 0 | L60: A | N60: 5905130033971 | O60: 0.23 | Q60: =J60*P60*(1-RABAT) -> 0 | R60: 96 | S60: DŁUGOPISY WYMAZYWALNE | T60: 96081092 | U60: =VLOOKUP(Tabela1[[#This Row],[Marka]],Config!$D$2:$E$13,2,FALSE)+Tabela1[[#This Row],[Marka_sort_plus]] -> 101114 | V60: 1114 | W60: 5905130033971 | X60: 5905130033988 | Z60: 5902979004476
B61: HAPPY COLOR | C61: HA AKPB4471-3 BK4 | D61: 013709 | E61: A | F61: Długopis wymazywalny "Uszaki", 0.5mm, niebieski, kolorowa obudowa, 4 sztuki na blistrze, Happy Color | G61: szt | H61: 10 | I61: 17.19 | J61: 17.19 | K61: =Tabela1[ [#This Row],[Cena hurtowa netto od 01.06.2025] ]/Tabela1[[#This Row],[Cena hurtowa netto od 13.01.2025]]-1 -> 0 | L61: A | N61: 5905130033995 | O61: 0.23 | Q61: =J61*P61*(1-RABAT) -> 0 | R61: 96 | S61: DŁUGOPISY WYMAZYWALNE | T61: 96081092 | U61: =VLOOKUP(Tabela1[[#This Row],[Marka]],Config!$D$2:$E$13,2,FALSE)+Tabela1[[#This Row],[Marka_sort_plus]] -> 101114 | V61: 1114 | W61: 5905130033995 | X61: 5905130034008 | Z61: 5902979004483
B62: HAPPY COLOR | C62: HA AKPB4471-KP40 | D62: 015097 | E62: A | F62: Display - Długopis wymazywalny „Uszaki”, 0.5mm, niebieski, 40 szt., Happy Color | G62: szt | H62: 1 | I62: 167.6 | J62: 167.6 | K62: =Tabela1[ [#This Row],[Cena hurtowa netto od 01.06.2025] ]/Tabela1[[#This Row],[Cena hurtowa netto od 13.01.2025]]-1 -> 0 | L62: A | N62: 5905130040702 | O62: 0.23 | Q62: =J62*P62*(1-RABAT) -> 0 | R62: 87 | S62: DŁUGOPISY WYMAZYWALNE | T62: 96081092 | U62: =VLOOKUP(Tabela1[[#This Row],[Marka]],Config!$D$2:$E$13,2,FALSE)+Tabela1[[#This Row],[Marka_sort_plus]] -> 101114 | V62: 1114 | W62: 5905130040702
B63: HAPPY COLOR | C63: HA 4120 02PB-3 | D63: 015667 | E63: DW | F63: Długopis wymazywalny Pastel Bears, 0.5mm, niebieski, Happy Color | G63: szt | H63: 12 | I63: 4.19 | J63: 4.19 | K63: =Tabela1[ [#This Row],[Cena hurtowa netto od 01.06.2025] ]/Tabela1[[#This Row],[Cena hurtowa netto od 13.01.2025]]-1 -> 0 | L63: DW | N63: 5902979000829 | O63: 0.23 | Q63: =J63*P63*(1-RABAT) -> 0 | R63: 89 | S63: DŁUGOPISY WYMAZYWALNE | T63: 96081092 | U63: =VLOOKUP(Tabela1[[#This Row],[Marka]],Config!$D$2:$E$13,2,FALSE)+Tabela1[[#This Row],[Marka_sort_plus]] -> 101156 | V63: 1156 | W63: 5902979000829 | X63: 5902979000980 | Y63: 5902979000997 | Z63: 5902979001000
B64: HAPPY COLOR | C64: HA 4120 01JU-3 BK2 | D64: 015179 | E64: DW | F64: Długopis wymazywalny JUST, 0.5mm, niebieski, 2 szt. na blistrze, Happy Color | G64: szt | H64: 1 | I64: 8.69 | J64: 8.69 | K64: =Tabela1[ [#This Row],[Cena hurtowa netto od 01.06.2025] ]/Tabela1[[#This Row],[Cena hurtowa netto od 13.01.2025]]-1 -> 0 | L64: DW | N64: 5905130041471 | O64: 0.23 | Q64: =J64*P64*(1-RABAT) -> 0 | R64: 99 | S64: KOLEKCJA ME&CITY / JUST / GAMES | T64: 96081092 | U64: =VLOOKUP(Tabela1[[#This Row],[Marka]],Config!$D$2:$E$13,2,FALSE)+Tabela1[[#This Row],[Marka_sort_plus]] -> 101232 | V64: 1232 | W64: 5905130041471 | X64: 5902979004247 | Z64: 5902979004285
B65: HAPPY COLOR | C65: HA 4120 01TR-3 BK2 | D65: 015819 | E65: DW | F65: Długopis wymazywalny TRENDY, 0.5mm, niebieski, 2 szt. na blistrze, Happy Color | G65: szt | H65: 1 | I65: 9.99 | J65: 9.99 | K65: =Tabela1[ [#This Row],[Cena hurtowa netto od 01.06.2025] ]/Tabela1[[#This Row],[Cena hurtowa netto od 13.01.2025]]-1 -> 0 | L65: DW | N65: 5902979003783 | O65: 0.23 | Q65: =J65*P65*(1-RABAT) -> 0 | R65: 98 | S65: KOLEKCJA TRENDY | T65: 96081092 | U65: =VLOOKUP(Tabela1[[#This Row],[Marka]],Config!$D$2:$E$13,2,FALSE)+Tabela1[[#This Row],[Marka_sort_plus]] -> 101272 | V65: 1272 | W65: 5902979003783 | X65: 5902979003820 | Z65: 5902979004308
B66: HAPPY COLOR | C66: HA 4129 20A6-3 | D66: 018333 | E66: N | F66: Wkłady wymazywalne, 0.6 mm, niebieskie, 3 szt. w etui, Happy Color | G66: szt | H66: 1 | I66: 7.19 | J66: 7.19 | K66: =Tabela1[ [#This Row],[Cena hurtowa netto od 01.06.2025] ]/Tabela1[[#This Row],[Cena hurtowa netto od 13.01.2025]]-1 -> 0 | L66: N | N66: 5902979029462 | O66: 0.23 | Q66: =J66*P66*(1-RABAT) -> 0 | R66: GDD News 2/76 | S66: DŁUGOPISY WYMAZYWALNE | T66: 96086000 | U66: =VLOOKUP(Tabela1[[#This Row],[Marka]],Config!$D$2:$E$13,2,FALSE)+Tabela1[[#This Row],[Marka_sort_plus]] -> 101450 | V66: 1450 | W66: 5902979029462 | X66: 5902979029479 | Y66: 5902979031199
B67: HAPPY COLOR | C67: HA AKR67K35-M01 BK3 | D67: 017107 | E67: A | F67: Wkłady do długopisu wymazywalnego, Standard A, 0.5mm, miks 3 kol, 3 szt. na blisterze, Happy Color | G67: szt | H67: 1 | I67: 8.99 | J67: 8.99 | K67: =Tabela1[ [#This Row],[Cena hurtowa netto od 01.06.2025] ]/Tabela1[[#This Row],[Cena hurtowa netto od 13.01.2025]]-1 -> 0 | L67: A | N67: 5902979014901 | O67: 0.23 | Q67: =J67*P67*(1-RABAT) -> 0 | S67: DŁUGOPISY WYMAZYWALNE | T67: 96081092 | U67: =VLOOKUP(Tabela1[[#This Row],[Marka]],Config!$D$2:$E$13,2,FALSE)+Tabela1[[#This Row],[Marka_sort_plus]] -> 101450 | V67: 1450 | W67: 5902979014901
B68: HAPPY COLOR | C68: HA AKR67K35-3 | D68: 012926 | E68: A | F68: Wkłady do długopisu wymazywalnego, 0.5mm, Standard A, niebieski, 3 szt. w etui, Happy Color | G68: szt | H68: 10 | I68: 7.19 | J68: 7.19 | K68: =Tabela1[ [#This Row],[Cena hurtowa netto od 01.06.2025] ]/Tabela1[[#This Row],[Cena hurtowa netto od 13.01.2025]]-1 -> 0 | L68: A | N68: 6937168812296 | O68: 0.23 | Q68: =J68*P68*(1-RABAT) -> 0 | R68: 94 | S68: DŁUGOPISY WYMAZYWALNE | T68: 96086000 | U68: =VLOOKUP(Tabela1[[#This Row],[Marka]],Config!$D$2:$E$13,2,FALSE)+Tabela1[[#This Row],[Marka_sort_plus]] -> 101451 | V68: 1451 | W68: 6937168812296 | X68: 6937168812302 | Y68: 6937168812319 | Z68: 06937168812296
B69: HAPPY COLOR | C69: HA AKR67K35-3 BK3 | D69: 013774 | E69: A | F69: Wkłady do długopisu wymazywalnego, Stand. A, 0.5mm, niebieski, 3 sztuki na blistrze, Happy Color | G69: szt | H69: 10 | I69: 8.99 | J69: 8.99 | K69: =Tabela1[ [#This Row],[Cena hurtowa netto od 01.06.2025] ]/Tabela1[[#This Row],[Cena hurtowa netto od 13.01.2025]]-1 -> 0 | L69: A | N69: 5905130034275 | O69: 0.23 | Q69: =J69*P69*(1-RABAT) -> 0 | R69: 97 | S69: DŁUGOPISY WYMAZYWALNE | T69: 96086000 | U69: =VLOOKUP(Tabela1[[#This Row],[Marka]],Config!$D$2:$E$13,2,FALSE)+Tabela1[[#This Row],[Marka_sort_plus]] -> 101453 | V69: 1453 | W69: 5905130034275 | X69: 5902979004544 | Z69: 5902979004551
B70: HAPPY COLOR | C70: HA AKR67K35-9 | D70: 015301 | E70: A | F70: Wkłady do długopisu wymazywalnego, Standard A, 0.5mm, czarny, 3 szt. w etui, Happy Color | G70: szt | H70: 10 | I70: 7.19 | J70: 7.19 | K70: =Tabela1[ [#This Row],[Cena hurtowa netto od 01.06.2025] ]/Tabela1[[#This Row],[Cena hurtowa netto od 13.01.2025]]-1 -> 0 | L70: A | N70: 6941255175416 | O70: 0.23 | Q70: =J70*P70*(1-RABAT) -> 0 | R70: 94 | S70: DŁUGOPISY WYMAZYWALNE | T70: 96086000 | U70: =VLOOKUP(Tabela1[[#This Row],[Marka]],Config!$D$2:$E$13,2,FALSE)+Tabela1[[#This Row],[Marka_sort_plus]] -> 101454 | V70: 1454 | W70: 6941255175416 | X70: 6941255175423 | Y70: 6941255175430 | Z70: 06941255175416
B71: HAPPY COLOR | C71: HA 4120 MIX1 KP36-12 | D71: 017861 | E71: A | F71: Display - Długopis wymazywalny Uszaki Mix1, 0.5mm, niebieski, 36 szt + wkłady 12 etui, Happy Color | G71: szt | H71: 1 | I71: 237.12 | J71: 237.12 | K71: =Tabela1[ [#This Row],[Cena hurtowa netto od 01.06.2025] ]/Tabela1[[#This Row],[Cena hurtowa netto od 13.01.2025]]-1 -> 0 | L71: A | N71: 5902979023101 | O71: 0.23 | Q71: =J71*P71*(1-RABAT) -> 0 | R71: GDD News 2/76 | S71: DŁUGOPISY WYMAZYWALNE | T71: 96081092 | U71: =VLOOKUP(Tabela1[[#This Row],[Marka]],Config!$D$2:$E$13,2,FALSE)+Tabela1[[#This Row],[Marka_sort_plus]] -> 101476 | V71: 1476 | W71: 5902979023101
B72: HAPPY COLOR | C72: HA 4120 MIX2 KP36-12 | D72: 017862 | E72: A | F72: Display - Długopis wymazywalny Mix2, 0.5mm, niebieski, 36 szt + wkłady 12 etui, Happy Color | G72: szt | H72: 1 | I72: 237.12 | J72: 237.12 | K72: =Tabela1[ [#This Row],[Cena hurtowa netto od 01.06.2025] ]/Tabela1[[#This Row],[Cena hurtowa netto od 13.01.2025]]-1 -> 0 | L72: A | N72: 5902979023118 | O72: 0.23 | Q72: =J72*P72*(1-RABAT) -> 0 | R72: GDD News 2/76 | S72: DŁUGOPISY WYMAZYWALNE | T72: 96081092 | U72: =VLOOKUP(Tabela1[[#This Row],[Marka]],Config!$D$2:$E$13,2,FALSE)+Tabela1[[#This Row],[Marka_sort_plus]] -> 101476 | V72: 1476 | W72: 5902979023118
B73: HAPPY COLOR | C73: HA 4120 MIX5 D144 | D73: 017884 | E73: A | F73: Display - MIX długopisy wymazywalne, 144 szt, Happy Color | G73: szt | H73: 1 | I73: 603.36 | J73: 603.36 | K73: =Tabela1[ [#This Row],[Cena hurtowa netto od 01.06.2025] ]/Tabela1[[#This Row],[Cena hurtowa netto od 13.01.2025]]-1 -> 0 | L73: A | N73: 5902979023286 | O73: 0.23 | Q73: =J73*P73*(1-RABAT) -> 0 | R73: GDD News 2/76 | S73: DŁUGOPISY WYMAZYWALNE | T73: 96086000 | U73: =VLOOKUP(Tabela1[[#This Row],[Marka]],Config!$D$2:$E$13,2,FALSE)+Tabela1[[#This Row],[Marka_sort_plus]] -> 101476 | V73: 1476 | W73: 5902979023286
B74: HAPPY COLOR | C74: HA 4120 MIX6 D180 | D74: 017885 | E74: A | F74: Display - MIX długopisy wymazywalne, ołówki, 180 szt, Happy Color | G74: szt | H74: 1 | I74: 412.92 | J74: 412.92 | K74: =Tabela1[ [#This Row],[Cena hurtowa netto od 01.06.2025] ]/Tabela1[[#This Row],[Cena hurtowa netto od 13.01.2025]]-1 -> 0 | L74: A | N74: 5902979023293 | O74: 0.23 | Q74: =J74*P74*(1-RABAT) -> 0 | R74: GDD News 2/76 | S74: DŁUGOPISY WYMAZYWALNE | T74: 96086000 | U74: =VLOOKUP(Tabela1[[#This Row],[Marka]],Config!$D$2:$E$13,2,FALSE)+Tabela1[[#This Row],[Marka_sort_plus]] -> 101476 | V74: 1476 | W74: 5902979023293
B75: HAPPY COLOR | C75: HA PREZENT 16 KR | D75: 014609 | E75: A | F75: Gra planszowa Happy Color Roll&Race (z 4 długopisami), Happy Color | G75: szt | H75: 1 | I75: 24.99 | J75: 24.99 | K75: =Tabela1[ [#This Row],[Cena hurtowa netto od 01.06.2025] ]/Tabela1[[#This Row],[Cena hurtowa netto od 13.01.2025]]-1 -> 0 | L75: A | N75: 5905130035272 | O75: 0.23 | Q75: =J75*P75*(1-RABAT) -> 0 | S75: GRY ZABAWY | T75: 95030070 | U75: =VLOOKUP(Tabela1[[#This Row],[Marka]],Config!$D$2:$E$13,2,FALSE)+Tabela1[[#This Row],[Marka_sort_plus]] -> 101491 | V75: 1491 | W75: 5905130035272
B76: HAPPY COLOR | C76: HA AGPB4474-3 BK2 | D76: 014537 | E76: DW | F76: Długopis Feelingi ELEPHANTS, 0.5 mm, niebieski, 2 szt. na blistrze, Happy color | G76: szt | H76: 10 | I76: 6.69 | J76: 6.69 | K76: =Tabela1[ [#This Row],[Cena hurtowa netto od 01.06.2025] ]/Tabela1[[#This Row],[Cena hurtowa netto od 13.01.2025]]-1 -> 0 | L76: R | N76: 5905130036781 | O76: 0.23 | Q76: =J76*P76*(1-RABAT) -> 0 | R76: 100 | S76: DŁUGOPISY ŻELOWE | T76: 96081092 | U76: =VLOOKUP(Tabela1[[#This Row],[Marka]],Config!$D$2:$E$13,2,FALSE)+Tabela1[[#This Row],[Marka_sort_plus]] -> 103072 | V76: 3072 | W76: 5905130036781 | X76: 5902979012891 | Z76: 5902979012907
B77: HAPPY COLOR | C77: HA AGPB4474-3 BK4 | D77: 014538 | E77: DW | F77: Długopis Feelingi ELEPHANTS, 0.5 mm, niebieski, 4 szt. na blistrze, Happy color | G77: szt | H77: 1 | I77: 12.49 | J77: 12.49 | K77: =Tabela1[ [#This Row],[Cena hurtowa netto od 01.06.2025] ]/Tabela1[[#This Row],[Cena hurtowa netto od 13.01.2025]]-1 -> 0 | L77: DW | N77: 5905130036798 | O77: 0.23 | Q77: =J77*P77*(1-RABAT) -> 0 | R77: 100 | S77: DŁUGOPISY ŻELOWE | T77: 96081092 | U77: =VLOOKUP(Tabela1[[#This Row],[Marka]],Config!$D$2:$E$13,2,FALSE)+Tabela1[[#This Row],[Marka_sort_plus]] -> 103075 | V77: 3075 | W77: 5905130036798
B78: HAPPY COLOR | C78: HA 3130 01MA-2B | D78: 018284 | E78: N | F78: Ołówek trójkątny, 2B, Miaow!, Happy Color | G78: szt | H78: 24 | I78: 1.03 | J78: 1.03 | K78: =Tabela1[ [#This Row],[Cena hurtowa netto od 01.06.2025] ]/Tabela1[[#This Row],[Cena hurtowa netto od 13.01.2025]]-1 -> 0 | L78: N | N78: 5902979029035 | O78: 0.23 | Q78: =J78*P78*(1-RABAT) -> 0 | S78: OŁÓWKI | T78: 96091010 | U78: =VLOOKUP(Tabela1[[#This Row],[Marka]],Config!$D$2:$E$13,2,FALSE)+Tabela1[[#This Row],[Marka_sort_plus]] -> 103990 | V78: 3990 | W78: 5902979029035
B79: HAPPY COLOR | C79: HA 3130 01MA-2B KP72 | D79: 018334 | E79: N | F79: Ołówek trójkątny, 2B, Miaow!, 72 szt w kubku, Happy Color | G79: szt | H79: 1 | I79: 74.16 | J79: 74.16 | K79: =Tabela1[ [#This Row],[Cena hurtowa netto od 01.06.2025] ]/Tabela1[[#This Row],[Cena hurtowa netto od 13.01.2025]]-1 -> 0 | L79: N | N79: 5902979029486 | O79: 0.23 | Q79: =J79*P79*(1-RABAT) -> 0 | S79: OŁÓWKI | T79: 96091010 | U79: =VLOOKUP(Tabela1[[#This Row],[Marka]],Config!$D$2:$E$13,2,FALSE)+Tabela1[[#This Row],[Marka_sort_plus]] -> 103990 | V79: 3990 | X79: 5902979029486
B80: HAPPY COLOR | C80: HA 3130 01PF-2B | D80: 017995 | E80: A | F80: Ołówek trójkątny, 2B, Pearl Flower, Happy Color | G80: szt | H80: 24 | I80: 1.03 | J80: 1.03 | K80: =Tabela1[ [#This Row],[Cena hurtowa netto od 01.06.2025] ]/Tabela1[[#This Row],[Cena hurtowa netto od 13.01.2025]]-1 -> 0 | L80: A | N80: 5902979024245 | O80: 0.23 | Q80: =J80*P80*(1-RABAT) -> 0 | S80: OŁÓWKI | T80: 96091010 | U80: =VLOOKUP(Tabela1[[#This Row],[Marka]],Config!$D$2:$E$13,2,FALSE)+Tabela1[[#This Row],[Marka_sort_plus]] -> 103990 | V80: 3990 | W80: 5902979024245 | X80: 5902979024283 | Y80: 5902979024313
B81: HAPPY COLOR | C81: HA 3130 01PF-2B KP72 | D81: 018313 | E81: N | F81: Ołówek trójkątny, 2B, Pearl Flower, 72 szt. w kubku, Happy Color | G81: szt | H81: 1 | I81: 74.16 | J81: 74.16 | K81: =Tabela1[ [#This Row],[Cena hurtowa netto od 01.06.2025] ]/Tabela1[[#This Row],[Cena hurtowa netto od 13.01.2025]]-1 -> 0 | L81: N | N81: 5902979029363 | O81: 0.23 | Q81: =J81*P81*(1-RABAT) -> 0 | S81: OŁÓWKI | T81: 96091010 | U81: =VLOOKUP(Tabela1[[#This Row],[Marka]],Config!$D$2:$E$13,2,FALSE)+Tabela1[[#This Row],[Marka_sort_plus]] -> 103990 | V81: 3990 | X81: 5902979029363
B82: HAPPY COLOR | C82: HA 3130 01PI-2B | D82: 017504 | E82: A | F82: Ołówek trójkątny, 2B, PIXI, Happy Color | G82: szt | H82: 24 | I82: 1.03 | J82: 1.03 | K82: =Tabela1[ [#This Row],[Cena hurtowa netto od 01.06.2025] ]/Tabela1[[#This Row],[Cena hurtowa netto od 13.01.2025]]-1 -> 0 | L82: A | N82: 5902979019180 | O82: 0.23 | Q82: =J82*P82*(1-RABAT) -> 0 | R82: GDD News 2/76 | S82: OŁÓWKI | T82: 96091010 | U82: =VLOOKUP(Tabela1[[#This Row],[Marka]],Config!$D$2:$E$13,2,FALSE)+Tabela1[[#This Row],[Marka_sort_plus]] -> 103990 | V82: 3990 | W82: 5902979019180
B83: HAPPY COLOR | C83: HA 3130 01PI-2B KP72 | D83: 017715 | E83: A | F83: Ołówek trójkątny, 2B, PIXI, 72 szt. w kubku, Happy Color | G83: szt | H83: 1 | I83: 74.16 | J83: 74.16 | K83: =Tabela1[ [#This Row],[Cena hurtowa netto od 01.06.2025] ]/Tabela1[[#This Row],[Cena hurtowa netto od 13.01.2025]]-1 -> 0 | L83: A | N83: 5902979021725 | O83: 0.23 | Q83: =J83*P83*(1-RABAT) -> 0 | R83: GDD News 2/76 | S83: OŁÓWKI | T83: 96091010 | U83: =VLOOKUP(Tabela1[[#This Row],[Marka]],Config!$D$2:$E$13,2,FALSE)+Tabela1[[#This Row],[Marka_sort_plus]] -> 103990 | V83: 3990 | W83: 5902979021725
B84: HAPPY COLOR | C84: HA 3130 01PT-2B | D84: 017532 | E84: A | F84: Ołówek trójkątny, 2B, Pastel Twist, Happy Color | G84: szt | H84: 24 | I84: 1.03 | J84: 1.03 | K84: =Tabela1[ [#This Row],[Cena hurtowa netto od 01.06.2025] ]/Tabela1[[#This Row],[Cena hurtowa netto od 13.01.2025]]-1 -> 0 | L84: A | N84: 5902979019609 | O84: 0.23 | Q84: =J84*P84*(1-RABAT) -> 0 | R84: GDD News 2/76 | S84: OŁÓWKI | T84: 96091010 | U84: =VLOOKUP(Tabela1[[#This Row],[Marka]],Config!$D$2:$E$13,2,FALSE)+Tabela1[[#This Row],[Marka_sort_plus]] -> 103990 | V84: 3990 | W84: 5902979019609
B85: HAPPY COLOR | C85: HA 3130 01PT-2B KP72 | D85: 017714 | E85: A | F85: Ołówek trójkątny, 2B, Pastel Twist, 72 szt. w kubku, Happy Color | G85: szt | H85: 1 | I85: 74.16 | J85: 74.16 | K85: =Tabela1[ [#This Row],[Cena hurtowa netto od 01.06.2025] ]/Tabela1[[#This Row],[Cena hurtowa netto od 13.01.2025]]-1 -> 0 | L85: A | N85: 5902979021718 | O85: 0.23 | Q85: =J85*P85*(1-RABAT) -> 0 | R85: GDD News 2/76 | S85: OŁÓWKI | T85: 96091010 | U85: =VLOOKUP(Tabela1[[#This Row],[Marka]],Config!$D$2:$E$13,2,FALSE)+Tabela1[[#This Row],[Marka_sort_plus]] -> 103990 | V85: 3990 | W85: 5902979021718
B86: HAPPY COLOR | C86: HA 3130 01SM-2B | D86: 017407 | E86: A | F86: Ołówek trójkątny, 2B, Smile, Happy Color | G86: szt | H86: 24 | I86: 1.03 | J86: 1.03 | K86: =Tabela1[ [#This Row],[Cena hurtowa netto od 01.06.2025] ]/Tabela1[[#This Row],[Cena hurtowa netto od 13.01.2025]]-1 -> 0 | L86: A | N86: 5902979018398 | O86: 0.23 | Q86: =J86*P86*(1-RABAT) -> 0 | R86: GDD News nr 1/74 | 5 | S86: OŁÓWKI | T86: 96091010 | U86: =VLOOKUP(Tabela1[[#This Row],[Marka]],Config!$D$2:$E$13,2,FALSE)+Tabela1[[#This Row],[Marka_sort_plus]] -> 103990 | V86: 3990 | W86: 5902979018398
B87: HAPPY COLOR | C87: HA 3130 01SM-2B KP72 | D87: 017596 | E87: A | F87: Ołówek trójkątny, 2B, Smile, 72 szt. w kubku, Happy Color | G87: szt | H87: 1 | I87: 74.16 | J87: 74.16 | K87: =Tabela1[ [#This Row],[Cena hurtowa netto od 01.06.2025] ]/Tabela1[[#This Row],[Cena hurtowa netto od 13.01.2025]]-1 -> 0 | L87: A | N87: 5902979020506 | O87: 0.23 | Q87: =J87*P87*(1-RABAT) -> 0 | R87: GDD News nr 1/74 | 5 | S87: OŁÓWKI | T87: 96091010 | U87: =VLOOKUP(Tabela1[[#This Row],[Marka]],Config!$D$2:$E$13,2,FALSE)+Tabela1[[#This Row],[Marka_sort_plus]] -> 103990 | V87: 3990 | W87: 5902979020506
B88: HAPPY COLOR | C88: HA 3130 02PI-2B | D88: 018249 | E88: N | F88: Ołówek trójkątny, 2B, Pixi Planet, Happy Color | G88: szt | H88: 24 | I88: 1.03 | J88: 1.03 | K88: =Tabela1[ [#This Row],[Cena hurtowa netto od 01.06.2025] ]/Tabela1[[#This Row],[Cena hurtowa netto od 13.01.2025]]-1 -> 0 | L88: N | N88: 5902979028489 | O88: 0.23 | Q88: =J88*P88*(1-RABAT) -> 0 | S88: OŁÓWKI | T88: 96091010 | U88: =VLOOKUP(Tabela1[[#This Row],[Marka]],Config!$D$2:$E$13,2,FALSE)+Tabela1[[#This Row],[Marka_sort_plus]] -> 103990 | V88: 3990 | W88: 5902979028489 | X88: 5902979028496 | Y88: 5902979028502
B89: HAPPY COLOR | C89: HA 3130 02PI-2B KP72 | D89: 018315 | E89: N | F89: Ołówek trójkątny, 2B, Pixi Planet, 72 szt. w kubku, Happy Color | G89: szt | H89: 1 | I89: 74.16 | J89: 74.16 | K89: =Tabela1[ [#This Row],[Cena hurtowa netto od 01.06.2025] ]/Tabela1[[#This Row],[Cena hurtowa netto od 13.01.2025]]-1 -> 0 | L89: N | N89: 5902979029387 | O89: 0.23 | Q89: =J89*P89*(1-RABAT) -> 0 | S89: OŁÓWKI | T89: 96091010 | U89: =VLOOKUP(Tabela1[[#This Row],[Marka]],Config!$D$2:$E$13,2,FALSE)+Tabela1[[#This Row],[Marka_sort_plus]] -> 103990 | V89: 3990 | W89: 5902979029387
B90: HAPPY COLOR | C90: HA 3131 01PO-2B | D90: 017996 | E90: A | F90: Ołówek trójkątny, z gumką, 2B, POP, Happy Color | G90: szt | H90: 24 | I90: 1.13 | J90: 1.13 | K90: =Tabela1[ [#This Row],[Cena hurtowa netto od 01.06.2025] ]/Tabela1[[#This Row],[Cena hurtowa netto od 13.01.2025]]-1 -> 0 | L90: A | N90: 5902979024252 | O90: 0.23 | Q90: =J90*P90*(1-RABAT) -> 0 | S90: OŁÓWKI | T90: 96091010 | U90: =VLOOKUP(Tabela1[[#This Row],[Marka]],Config!$D$2:$E$13,2,FALSE)+Tabela1[[#This Row],[Marka_sort_plus]] -> 103990 | V90: 3990 | W90: 5902979024252 | X90: 5902979024290 | Y90: 5902979024320
B91: HAPPY COLOR | C91: HA 3131 01PO-2B KP72 | D91: 018314 | E91: N | F91: Ołówek trójkątny, z gumką, 2B, POP, 72 szt. w kubku, Happy Color | G91: szt | H91: 1 | I91: 81.36 | J91: 81.36 | K91: =Tabela1[ [#This Row],[Cena hurtowa netto od 01.06.2025] ]/Tabela1[[#This Row],[Cena hurtowa netto od 13.01.2025]]-1 -> 0 | L91: N | N91: 5902979029370 | O91: 0.23 | Q91: =J91*P91*(1-RABAT) -> 0 | S91: OŁÓWKI | T91: 96091010 | U91: =VLOOKUP(Tabela1[[#This Row],[Marka]],Config!$D$2:$E$13,2,FALSE)+Tabela1[[#This Row],[Marka_sort_plus]] -> 103990 | V91: 3990 | X91: 5902979029370
B92: HAPPY COLOR | C92: HA 3131 01SK-2B | D92: 017406 | E92: A | F92: Ołówek trójkątny, z gumką, 2B, Skate, Happy Color | G92: szt | H92: 24 | I92: 1.13 | J92: 1.13 | K92: =Tabela1[ [#This Row],[Cena hurtowa netto od 01.06.2025] ]/Tabela1[[#This Row],[Cena hurtowa netto od 13.01.2025]]-1 -> 0 | L92: A | N92: 5902979018404 | O92: 0.23 | Q92: =J92*P92*(1-RABAT) -> 0 | R92: GDD News nr 1/74 | 7 | S92: OŁÓWKI | T92: 96091010 | U92: =VLOOKUP(Tabela1[[#This Row],[Marka]],Config!$D$2:$E$13,2,FALSE)+Tabela1[[#This Row],[Marka_sort_plus]] -> 103990 | V92: 3990 | W92: 5902979018404
B93: HAPPY COLOR | C93: HA 3131 01SK-2B KP72 | D93: 017597 | E93: A | F93: Ołówek trójkątny, z gumką, 2B, Skate, 72 szt. w kubku, Happy Color | G93: szt | H93: 1 | I93: 81.36 | J93: 81.36 | K93: =Tabela1[ [#This Row],[Cena hurtowa netto od 01.06.2025] ]/Tabela1[[#This Row],[Cena hurtowa netto od 13.01.2025]]-1 -> 0 | L93: A | N93: 5902979020513 | O93: 0.23 | Q93: =J93*P93*(1-RABAT) -> 0 | R93: GDD News nr 1/74 | 7 | S93: OŁÓWKI | T93: 96091010 | U93: =VLOOKUP(Tabela1[[#This Row],[Marka]],Config!$D$2:$E$13,2,FALSE)+Tabela1[[#This Row],[Marka_sort_plus]] -> 103990 | V93: 3990 | W93: 5902979020513
B94: HAPPY COLOR | C94: HA 3140 01MO-HB | D94: 018268 | E94: N | F94: Ołówek kwadratowy Morandi, HB, Happy Color | G94: szt | H94: 24 | I94: 0.99 | J94: 0.99 | K94: =Tabela1[ [#This Row],[Cena hurtowa netto od 01.06.2025] ]/Tabela1[[#This Row],[Cena hurtowa netto od 13.01.2025]]-1 -> 0 | L94: N | N94: 5902979028854 | O94: 0.23 | Q94: =J94*P94*(1-RABAT) -> 0 | R94: GDD News nr 1/74 | 7 | S94: OŁÓWKI | T94: 96091010 | U94: =VLOOKUP(Tabela1[[#This Row],[Marka]],Config!$D$2:$E$13,2,FALSE)+Tabela1[[#This Row],[Marka_sort_plus]] -> 103994 | V94: 3994 | W94: 5902979028854
B95: HAPPY COLOR | C95: HA 3140 01MO-HB KP72 | D95: 018316 | E95: N | F95: Ołówek kwadratowy Morandi, HB, 72 szt. w kubku, Happy Color | G95: szt | H95: 1 | I95: 71.28 | J95: 71.28 | K95: =Tabela1[ [#This Row],[Cena hurtowa netto od 01.06.2025] ]/Tabela1[[#This Row],[Cena hurtowa netto od 13.01.2025]]-1 -> 0 | L95: N | N95: 5902979029233 | O95: 0.23 | Q95: =J95*P95*(1-RABAT) -> 0 | R95: GDD News nr 1/74 | 7 | S95: OŁÓWKI | T95: 96091010 | U95: =VLOOKUP(Tabela1[[#This Row],[Marka]],Config!$D$2:$E$13,2,FALSE)+Tabela1[[#This Row],[Marka_sort_plus]] -> 103994 | V95: 3994 | W95: 5902979029233
B96: HAPPY COLOR | C96: HA 3140 01TR BK4 | D96: 015661 | E96: A | F96: Ołówek kwadratowy Trendy, HB, 4 szt. na blistrze Happy Color | G96: szt | H96: 10 | I96: 4.59 | J96: 4.59 | K96: =Tabela1[ [#This Row],[Cena hurtowa netto od 01.06.2025] ]/Tabela1[[#This Row],[Cena hurtowa netto od 13.01.2025]]-1 -> 0 | L96: R | N96: 5905130052460 | O96: 0.23 | Q96: =J96*P96*(1-RABAT) -> 0 | R96: 103 | S96: KOLEKCJA TRENDY | T96: 96091010 | U96: =VLOOKUP(Tabela1[[#This Row],[Marka]],Config!$D$2:$E$13,2,FALSE)+Tabela1[[#This Row],[Marka_sort_plus]] -> 103994 | V96: 3994 | W96: 5905130052460 | X96: 5902979004605 | Z96: 5902979004612
B97: HAPPY COLOR | C97: HA 3132 01AB-2B | D97: 017908 | E97: A | F97: Ołówek do nauki pisania, jumbo, trójkątny, 2B, Abecadło, Happy Color | G97: szt | H97: 12 | I97: 2.19 | J97: 2.19 | K97: =Tabela1[ [#This Row],[Cena hurtowa netto od 01.06.2025] ]/Tabela1[[#This Row],[Cena hurtowa netto od 13.01.2025]]-1 -> 0 | L97: A | N97: 5902979023439 | O97: 0.23 | Q97: =J97*P97*(1-RABAT) -> 0 | S97: OŁÓWKI | T97: 96091010 | U97: =VLOOKUP(Tabela1[[#This Row],[Marka]],Config!$D$2:$E$13,2,FALSE)+Tabela1[[#This Row],[Marka_sort_plus]] -> 104000 | V97: 4000 | W97: 5902979023439
B98: HAPPY COLOR | C98: HA 3132 01AB-2B KP24 | D98: 018256 | E98: A | F98: Ołówek do nauki pisania, jumbo, z gumką, trójkątny, 2B, Abecadło, 24 szt w kubku, Happy Color | G98: szt | H98: 1 | I98: 52.56 | J98: 52.56 | K98: =Tabela1[ [#This Row],[Cena hurtowa netto od 01.06.2025] ]/Tabela1[[#This Row],[Cena hurtowa netto od 13.01.2025]]-1 -> 0 | L98: A | N98: 5902979028601 | O98: 0.23 | Q98: =J98*P98*(1-RABAT) -> 0 | S98: OŁÓWKI | T98: 96091010 | U98: =VLOOKUP(Tabela1[[#This Row],[Marka]],Config!$D$2:$E$13,2,FALSE)+Tabela1[[#This Row],[Marka_sort_plus]] -> 104000 | V98: 4000 | W98: 5902979028601
B99: HAPPY COLOR | C99: HA 3132 01PI-2B | D99: 017474 | E99: A | F99: Ołówek do nauki pisania, jumbo, trójkątny, 2B, PIXI, Happy Color | G99: szt | H99: 12 | I99: 2.19 | J99: 2.19 | K99: =Tabela1[ [#This Row],[Cena hurtowa netto od 01.06.2025] ]/Tabela1[[#This Row],[Cena hurtowa netto od 13.01.2025]]-1 -> 0 | L99: A | N99: 5902979019050 | O99: 0.23 | Q99: =J99*P99*(1-RABAT) -> 0 | R99: GDD News nr 1/74 | 9 | S99: OŁÓWKI | T99: 96091010 | U99: =VLOOKUP(Tabela1[[#This Row],[Marka]],Config!$D$2:$E$13,2,FALSE)+Tabela1[[#This Row],[Marka_sort_plus]] -> 104000 | V99: 4000 | W99: 5902979019050 | X99: 5902979020438 | Y99: 5902979020452
B100: HAPPY COLOR | C100: HA 3132 01PI-2BKP24 | D100: 017600 | E100: A | F100: Ołówek do nauki pisania, jumbo, trójkątny, 2B, PIXI, 24 szt. w kubku, Happy Color | G100: szt | H100: 1 | I100: 52.56 | J100: 52.56 | K100: =Tabela1[ [#This Row],[Cena hurtowa netto od 01.06.2025] ]/Tabela1[[#This Row],[Cena hurtowa netto od 13.01.2025]]-1 -> 0 | L100: A | N100: 5902979020537 | O100: 0.23 | Q100: =J100*P100*(1-RABAT) -> 0 | R100: GDD News nr 1/74 | 9 | S100: OŁÓWKI | T100: 96091010 | U100: =VLOOKUP(Tabela1[[#This Row],[Marka]],Config!$D$2:$E$13,2,FALSE)+Tabela1[[#This Row],[Marka_sort_plus]] -> 104000 | V100: 4000 | W100: 5902979020537
B101: HAPPY COLOR | C101: HA 3132 01YU-2B | D101: 018321 | E101: N | F101: Ołówek do nauki pisania, jumbo, z gumką, trójkątny, 2B, Yummy Yum, Happy Color | G101: szt | H101: 12 | I101: 2.19 | J101: 2.19 | K101: =Tabela1[ [#This Row],[Cena hurtowa netto od 01.06.2025] ]/Tabela1[[#This Row],[Cena hurtowa netto od 13.01.2025]]-1 -> 0 | L101: N | N101: 5902979029288 | O101: 0.23 | Q101: =J101*P101*(1-RABAT) -> 0 | S101: OŁÓWKI | T101: 96091010 | U101: =VLOOKUP(Tabela1[[#This Row],[Marka]],Config!$D$2:$E$13,2,FALSE)+Tabela1[[#This Row],[Marka_sort_plus]] -> 104000 | V101: 4000 | W101: 5902979029288
B102: HAPPY COLOR | C102: HA 3132 01YU-2B KP24 | D102: 018322 | E102: N | F102: Ołówek do nauki pisania, jumbo, z gumką, trójkątny, 2B, Yummy Yum, 24 szt. w kubku, Happy Color | G102: szt | H102: 1 | I102: 52.56 | J102: 52.56 | K102: =Tabela1[ [#This Row],[Cena hurtowa netto od 01.06.2025] ]/Tabela1[[#This Row],[Cena hurtowa netto od 13.01.2025]]-1 -> 0 | L102: N | N102: 5902979029295 | O102: 0.23 | Q102: =J102*P102*(1-RABAT) -> 0 | S102: OŁÓWKI | T102: 96091010 | U102: =VLOOKUP(Tabela1[[#This Row],[Marka]],Config!$D$2:$E$13,2,FALSE)+Tabela1[[#This Row],[Marka_sort_plus]] -> 104000 | V102: 4000 | W102: 5902979029295
...

Sheet WYPRZEDAŻ 2025
B2: TRUE | C2: WYPRZEDAŻ 2025 | S2: Uwagi
C3: BIURO - SZKOŁA - HOBBY (aktualizacja na dzień 09.06.2025) | N3: Data: | P3: Nazwa płatnika:
B4: GDD spółka z ograniczoną odpowiedzialnością spółka komandytowa | N4: Nazwa odbiorcy: | P4: Adres płatnika:
B5: 00-552 Warszawa, Pl Konstytucji 4 lok. 28 | F5: Tel. centrala (22) 566 77 00, Obsługa Klienta (22) 566 77 21, Fax. (22) 566 77 50 | N5: NIP odbiorcy: | P5: NIP płatnika:
B6: BIURO I MAGAZYN: ul. Ogrodnicza 24, 05-830 Wolica k/Warszawy | F6: e-mail zamowienia@gdd.pl, www.gdd.pl | N6: Adres odbiorcy (dostawy): | P6: Rabat (%):
P7: Wartość netto zamówienia przed rabatem: | Q7: =SUMPRODUCT(J10:J2694,P10:P2694) -> 0
P8: Wartość netto zamówienia po rabacie: | Q8: =Q7*(1-RABAT) -> 0
B9: Marka | C9: Symbol | D9: SymKar | E9: Status | F9: Opis produktu | G9: Jm. Handl | H9: Minimalna ilość zamówienia lub wielokrotność | I9: Cena hurtowa netto od 13.01.2025 | J9: Cena hurtowa netto od 10.03.2025 | K9: Różnica procentowa | L9: Kolumna1 | M9: Uwagi PM | N9: Kod kreskowy | O9: VAT | P9: Ilość | Q9: Wartość netto po rabacie | R9: Strona w katalogu | S9: Kategoria | T9: Kod CN | U9: Marka_sort | V9: Marka_sort_plus | W9: szt_KodKres | X9: opk_KodKres | Y9: opk_z_KodKres | Z9: krt_KodKres
B10: HAPPY COLOR | C10: HA 2211 0810-JU1 | D10: 015790 | E10: DW | F10: Piórnik saszetka tuba z 1 zamkiem, JUST 1, Happy Color | G10: szt | H10: 1 | J10: 7.99 | K10: #VALUE! | L10: 354 | N10: 5902979002793 | O10: 0.23 | Q10: 0 | S10: PIÓRNIKI | T10: 42023900 | W10: 5902979002793
B11: HAPPY COLOR | C11: HA 2211 0810-JU2 | D11: 015791 | E11: DW | F11: Piórnik saszetka tuba z 1 zamkiem, JUST 2, Happy Color | G11: szt | H11: 1 | I11: 12.99 | J11: 7.99 | K11: #VALUE! | L11: 115 | N11: 5902979002809 | O11: 0.23 | Q11: 0 | R11: 106 | S11: PIÓRNIKI | T11: 42023900 | W11: 5902979002809 | X11: 5902979003196 | Z11: 5902979003585
B12: HAPPY COLOR | C12: HA 2211 0810-JU3 | D12: 015792 | E12: DW | F12: Piórnik saszetka tuba z 1 zamkiem, JUST 3, Happy Color | G12: szt | H12: 1 | I12: 12.99 | J12: 7.99 | K12: #VALUE! | L12: 500 | N12: 5902979002816 | O12: 0.23 | Q12: 0 | R12: 106 | S12: PIÓRNIKI | T12: 42023900 | W12: 5902979002816 | X12: 5902979003202 | Z12: 5902979003592
B13: HAPPY COLOR | C13: HA 2211 0810-JU4 | D13: 015793 | E13: DW | F13: Piórnik saszetka tuba z 1 zamkiem, JUST 4, Happy Color | G13: szt | H13: 1 | I13: 12.99 | J13: 7.99 | K13: #VALUE! | L13: 220 | N13: 5902979002823 | O13: 0.23 | Q13: 0 | R13: 106 | S13: PIÓRNIKI | T13: 42023900 | W13: 5902979002823 | X13: 5902979003219 | Z13: 5902979003608
B14: HAPPY COLOR | C14: HA 2211 0810-PI1 | D14: 015787 | E14: DW | F14: Piórnik saszetka tuba z 1 zamkiem, PIXI blue, Happy Color | G14: szt | H14: 1 | I14: 12.99 | J14: 7.99 | K14: #VALUE! | L14: 939 | N14: 5902979002762 | O14: 0.23 | Q14: 0 | R14: 107 | S14: PIÓRNIKI | T14: 42023900 | W14: 5902979002762 | X14: 5902979003158 | Z14: 5902979003547
B15: HAPPY COLOR | C15: HA 2211 0810-PI2 | D15: 015788 | E15: DW | F15: Piórnik saszetka tuba z 1 zamkiem, PIXI violet, Happy Color | G15: szt | H15: 1 | I15: 12.99 | J15: 7.99 | K15: #VALUE! | L15: 990 | N15: 5902979002779 | O15: 0.23 | Q15: 0 | R15: 106 | S15: PIÓRNIKI | T15: 42023900 | W15: 5902979002779 | X15: 5902979003165 | Z15: 5902979003554
B16: HAPPY COLOR | C16: HA 2212 4510-JU3 | D16: 015806 | E16: DW | F16: Piórnik saszetka mały prostokątny z 1 zamkiem, JUST 3, Happy Color | G16: szt | H16: 1 | I16: 8.19 | J16: 4.99 | K16: #VALUE! | L16: #N/A | N16: 5902979002953 | O16: 0.23 | Q16: 0 | R16: 108 | S16: PIÓRNIKI | T16: 42023900 | W16: 5902979002953 | X16: 5902979003349 | Z16: 5902979003738
B17: HAPPY COLOR | C17: HA 2212 4510-JU4 | D17: 015807 | E17: DW | F17: Piórnik saszetka mały prostokątny z 1 zamkiem, JUST 4, Happy Color | G17: szt | H17: 1 | I17: 8.19 | J17: 4.99 | K17: #VALUE! | L17: #N/A | N17: 5902979002960 | O17: 0.23 | Q17: 0 | R17: 108 | S17: PIÓRNIKI | T17: 42023900 | W17: 5902979002960 | X17: 5902979003356 | Z17: 5902979003745
B18: HAPPY COLOR | C18: HA 2212 4510-PI1 | D18: 015808 | E18: DW | F18: Piórnik saszetka mały prostokątny z 1 zamkiem, PIXI blue, Happy Color | G18: szt | H18: 1 | I18: 8.19 | J18: 4.99 | K18: #VALUE! | L18: #N/A | N18: 5902979002977 | O18: 0.23 | Q18: 0 | R18: 104 | S18: PIÓRNIKI | T18: 42023900 | W18: 5902979002977 | X18: 5902979003363 | Z18: 5902979003752
B19: HAPPY COLOR | C19: HA 2212 4510-PI2 | D19: 015809 | E19: DW | F19: Piórnik saszetka mały prostokątny z 1 zamkiem, PIXI violet, Happy Color | G19: szt | H19: 1 | I19: 8.19 | J19: 4.99 | K19: 0 | L19: #N/A | N19: 5902979002984 | O19: 0.23 | Q19: 0 | R19: 104 | S19: PIÓRNIKI | T19: 42023900 | W19: 5902979002984 | X19: 5902979003370 | Z19: 5902979003769
B20: HAPPY COLOR | C20: HA 2212 4585-PI4 | D20: 017231 | E20: DW | F20: Piórnik saszetka trójkątny z 1 zamkiem, PIXI rainbow, Happy Color | G20: szt | H20: 1 | I20: 8.99 | J20: 8.99 | K20: 0 | L20: 2220 | N20: 5902979015779 | O20: 0.23 | Q20: 0 | R20: GDD News nr 3/73 | 2 | S20: PIÓRNIKI | T20: 42023900 | W20: 5902979015779 | X20: 5902979015984 | Y20: 5902979015984
B21: HAPPY COLOR | C21: HA 2212 5910-AF1 | D21: 015780 | E21: DW | F21: Piórnik saszetka z 1 zamkiem, Afrykanki 1, Happy Color | G21: szt | H21: 1 | I21: 8.99 | J21: 7.99 | K21: 0 | L21: 2124 | N21: 5902979002694 | O21: 0.23 | Q21: 0 | R21: 109 | S21: PIÓRNIKI | T21: 42023900 | W21: 5902979002694 | X21: 5902979003080 | Z21: 5902979003479
B22: HAPPY COLOR | C22: HA 2212 5910-AF2 | D22: 015781 | E22: DW | F22: Piórnik saszetka z 1 zamkiem, Afrykanki 2, Happy Color | G22: szt | H22: 1 | I22: 8.99 | J22: 7.99 | K22: 0 | L22: 2476 | N22: 5902979002700 | O22: 0.23 | Q22: 0 | R22: 109 | S22: PIÓRNIKI | T22: 42023900 | W22: 5902979002700 | X22: 5902979003097 | Z22: 5902979003486
B23: HAPPY COLOR | C23: HA 2212 5910-AF3 | D23: 015782 | E23: DW | F23: Piórnik saszetka z 1 zamkiem, Afrykanki 3, Happy Color | G23: szt | H23: 1 | I23: 8.99 | J23: 7.99 | K23: 0 | L23: 1451 | N23: 5902979002717 | O23: 0.23 | Q23: 0 | R23: 109 | S23: PIÓRNIKI | T23: 42023900 | W23: 5902979002717 | X23: 5902979003103 | Z23: 5902979003493
B24: HAPPY COLOR | C24: HA 2212 5910-JU1 | D24: 015783 | E24: DW | F24: Piórnik saszetka z 1 zamkiem, JUST 1, Happy Color | G24: szt | H24: 1 | I24: 8.99 | J24: 7.99 | K24: 0 | L24: 1808 | N24: 5902979002724 | O24: 0.23 | Q24: 0 | R24: 107 | S24: PIÓRNIKI | T24: 42023900 | W24: 5902979002724 | X24: 5902979003110 | Z24: 5902979003509
B25: HAPPY COLOR | C25: HA 2212 5910-JU2 | D25: 015784 | E25: DW | F25: Piórnik saszetka z 1 zamkiem, JUST 2, Happy Color | G25: szt | H25: 1 | I25: 8.99 | J25: 7.99 | K25: 0 | L25: 1483 | N25: 5902979002731 | O25: 0.23 | Q25: 0 | R25: 107 | S25: PIÓRNIKI | T25: 42023900 | W25: 5902979002731 | X25: 5902979003127 | Z25: 5902979003516
B26: HAPPY COLOR | C26: HA 2212 5910-JU3 | D26: 015785 | E26: DW | F26: Piórnik saszetka z 1 zamkiem, JUST 3, Happy Color | G26: szt | H26: 1 | I26: 8.99 | J26: 7.99 | K26: 0 | L26: 2028 | N26: 5902979002748 | O26: 0.23 | Q26: 0 | R26: 107 | S26: PIÓRNIKI | T26: 42023900 | W26: 5902979002748 | X26: 5902979003134 | Z26: 5902979003523
B27: HAPPY COLOR | C27: HA 2212 5910-JU4 | D27: 015786 | E27: DW | F27: Piórnik saszetka z 1 zamkiem, JUST 4, Happy Color | G27: szt | H27: 1 | I27: 8.99 | J27: 7.99 | K27: 0 | L27: 2009 | N27: 5902979002755 | O27: 0.23 | Q27: 0 | R27: 107 | S27: PIÓRNIKI | T27: 42023900 | W27: 5902979002755 | X27: 5902979003141 | Z27: 5902979003530
B28: HAPPY COLOR | C28: HA 2213 4510-PI1 | D28: 015794 | E28: DW | F28: Piórnik saszetka z 1 zamkiem i klapką wewnętrzną, owalny, PIXI blue, Happy Color | G28: szt | H28: 1 | I28: 20.99 | J28: 14.99 | K28: 0 | L28: #N/A | N28: 5902979002830 | O28: 0.23 | Q28: 0 | R28: 105 | S28: PIÓRNIKI | T28: 42023900 | W28: 5902979002830 | X28: 5902979003226 | Z28: 5902979003615
B29: HAPPY COLOR | C29: HA 2213 4510-PI2 | D29: 015795 | E29: DW | F29: Piórnik saszetka z 1 zamkiem i klapką wewnętrzną, owalny, PIXI violet, Happy Color | G29: szt | H29: 1 | I29: 20.99 | J29: 14.99 | K29: 0 | L29: #N/A | N29: 5902979002847 | O29: 0.23 | Q29: 0 | R29: 105 | S29: PIÓRNIKI | T29: 42023900 | W29: 5902979002847 | X29: 5902979003233 | Z29: 5902979003622
B30: HAPPY COLOR | C30: HA 2213 4610-JU1 | D30: 015800 | E30: DW | F30: Piórnik saszetka z 1 zamkiem i klapką wewnętrzną, prostokątny, JUST 1, Happy Color | G30: szt | H30: 1 | I30: 16.99 | J30: 14.99 | K30: 0 | L30: 1429 | N30: 5902979002892 | O30: 0.23 | Q30: 0 | R30: 107 | S30: PIÓRNIKI | T30: 42023900 | W30: 5902979002892 | X30: 5902979003288 | Z30: 5902979003677
B31: HAPPY COLOR | C31: HA 2213 4610-JU2 | D31: 015801 | E31: DW | F31: Piórnik saszetka z 1 zamkiem i klapką wewnętrzną, prostokątny, JUST 2, Happy Color | G31: szt | H31: 1 | I31: 16.99 | J31: 14.99 | K31: 0 | L31: 2279 | N31: 5902979002908 | O31: 0.23 | Q31: 0 | R31: 107 | S31: PIÓRNIKI | T31: 42023900 | W31: 5902979002908 | X31: 5902979003295 | Z31: 5902979003684
B32: HAPPY COLOR | C32: HA 2213 4610-JU3 | D32: 015802 | E32: DW | F32: Piórnik saszetka z 1 zamkiem i klapką wewnętrzną, prostokątny, JUST 3, Happy Color | G32: szt | H32: 1 | I32: 16.99 | J32: 14.99 | K32: 0 | L32: 2084 | N32: 5902979002915 | O32: 0.23 | Q32: 0 | R32: 107 | S32: PIÓRNIKI | T32: 42023900 | W32: 5902979002915 | X32: 5902979003301 | Z32: 5902979003691
B33: HAPPY COLOR | C33: HA 2213 4610-JU4 | D33: 015803 | E33: DW | F33: Piórnik saszetka z 1 zamkiem i klapką wewnętrzną, prostokątny, JUST 4, Happy Color | G33: szt | H33: 1 | I33: 16.99 | J33: 14.99 | K33: 0 | L33: 1853 | N33: 5902979002922 | O33: 0.23 | Q33: 0 | R33: 107 | S33: PIÓRNIKI | T33: 42023900 | W33: 5902979002922 | X33: 5902979003318 | Z33: 5902979003707
B34: HAPPY COLOR | C34: HA 2213 4610-PI1 | D34: 015797 | E34: DW | F34: Piórnik saszetka z 1 zamkiem i klapką wewnętrzną, prostokątny, PIXI blue, Happy Color | G34: szt | H34: 1 | I34: 20.99 | J34: 14.99 | K34: 0 | L34: #N/A | N34: 5902979002861 | O34: 0.23 | Q34: 0 | R34: 105 | S34: PIÓRNIKI | T34: 42023900 | W34: 5902979002861 | X34: 5902979003257 | Z34: 5902979003646
B35: HAPPY COLOR | C35: HA 2213 4610-PI2 | D35: 015798 | E35: DW | F35: Piórnik saszetka z 1 zamkiem i klapką wewnętrzną, prostokątny, PIXI violet, Happy Color | G35: szt | H35: 1 | I35: 20.99 | J35: 14.99 | K35: 0 | L35: #N/A | N35: 5902979002878 | O35: 0.23 | Q35: 0 | R35: 105 | S35: PIÓRNIKI | T35: 42023900 | W35: 5902979002878 | X35: 5902979003264 | Z35: 5902979003653
B36: HAPPY COLOR | C36: HA 2214 9910-JU1 | D36: 015812 | E36: DW | F36: Piórnik saszetka płaski z 1 zamkiem, JUST 1, Happy Color | G36: szt | H36: 1 | I36: 6.99 | J36: 4.99 | K36: 0 | L36: 2458 | N36: 5902979003011 | O36: 0.23 | Q36: 0 | R36: 107 | S36: PIÓRNIKI | T36: 42023900 | W36: 5902979003011 | Z36: 5902979003400
B37: HAPPY COLOR | C37: HA 2216 0810-CG01 | D37: 016245 | E37: DW | F37: Piórnik saszetka wysuwana, Cool Gang - Driver, czerwony, Happy Color | G37: szt | H37: 1 | I37: 14.99 | J37: 14.99 | K37: 0 | L37: 2458 | N37: 5902979008696 | O37: 0.23 | Q37: 0 | R37: 103 | S37: PIÓRNIKI | T37: 42023900 | W37: 5902979008696 | Z37: 5902979008771
B38: HAPPY COLOR | C38: HA 2216 0810-CG02 | D38: 016246 | E38: DW | F38: Piórnik saszetka wysuwana, Cool Gang - Dreamer, turkusowy, Happy Color | G38: szt | H38: 1 | I38: 14.99 | J38: 14.99 | K38: 0 | L38: 2215 | N38: 5902979008702 | O38: 0.23 | Q38: 0 | R38: 103 | S38: PIÓRNIKI | T38: 42023900 | W38: 5902979008702 | Z38: 5902979008788
B39: HAPPY COLOR | C39: HA 2216 0810-CG03 | D39: 016247 | E39: DW | F39: Piórnik saszetka wysuwana, Cool Gang - Volt, niebieski, Happy Color | G39: szt | H39: 1 | I39: 14.99 | J39: 14.99 | K39: 0 | L39: 2197 | N39: 5902979008719 | O39: 0.23 | Q39: 0 | R39: 103 | S39: PIÓRNIKI | T39: 42023900 | W39: 5902979008719 | Z39: 5902979008795
B40: HAPPY COLOR | C40: HA 2216 0810-CG03P1 | D40: 017301 | E40: DW | F40: Piórnik saszetka wysuwana, Cool Gang - Volt + gratisy, Happy Color | G40: szt | H40: 1 | I40: 20.99 | J40: 14.99 | K40: 0 | L40: 9 | N40: 5902979016776 | O40: 0.23 | Q40: 0 | S40: PIÓRNIKI | T40: 42023900 | W40: 5902979016776
B41: HAPPY COLOR | C41: HA 2216 0810-CG04 | D41: 016248 | E41: DW | F41: Piórnik saszetka wysuwana, Cool Gang - Uni, ciemny róż, Happy Color | G41: szt | H41: 1 | I41: 14.99 | J41: 14.99 | K41: 0 | L41: 1613 | N41: 5902979008726 | O41: 0.23 | Q41: 0 | R41: 103 | S41: PIÓRNIKI | T41: 42023900 | W41: 5902979008726 | Z41: 5902979008801
B42: HAPPY COLOR | C42: HA 2216 0810-CG05 | D42: 016249 | E42: DW | F42: Piórnik saszetka wysuwana, Cool Gang - Cosmo, granatowy, Happy Color | G42: szt | H42: 1 | I42: 14.99 | J42: 14.99 | K42: 0 | L42: 1976 | N42: 5902979008733 | O42: 0.23 | Q42: 0 | R42: 103 | S42: PIÓRNIKI | T42: 42023900 | W42: 5902979008733 | Z42: 5902979008818
B43: HAPPY COLOR | C43: HA 2216 0810-CG06 | D43: 016250 | E43: DW | F43: Piórnik saszetka wysuwana, Cool Gang - Kitty, żółty, Happy Color | G43: szt | H43: 1 | I43: 14.99 | J43: 14.99 | K43: 0 | L43: 1976 | N43: 5902979008740 | O43: 0.23 | Q43: 0 | R43: 103 | S43: PIÓRNIKI | T43: 42023900 | W43: 5902979008740 | Z43: 5902979008825
B44: HAPPY COLOR | C44: HA 2216 0810-CG07 | D44: 016251 | E44: DW | F44: Piórnik saszetka wysuwana, Cool Gang - Master, jasny róż, Happy Color | G44: szt | H44: 1 | I44: 14.99 | J44: 14.99 | K44: 0 | L44: 1900 | N44: 5902979008757 | O44: 0.23 | Q44: 0 | R44: 103 | S44: PIÓRNIKI | T44: 42023900 | W44: 5902979008757 | Z44: 5902979008832
B45: HAPPY COLOR | C45: HA 2216 0810-CG08 | D45: 016252 | E45: DW | F45: Piórnik saszetka wysuwana, Cool Gang - Freak, zielony, Happy Color | G45: szt | H45: 1 | I45: 14.99 | J45: 14.99 | K45: 0 | L45: 2276 | N45: 5902979008764 | O45: 0.23 | Q45: 0 | R45: 103 | S45: PIÓRNIKI | T45: 42023900 | W45: 5902979008764 | Z45: 5902979008849
B46: HAPPY COLOR | C46: HA 3140 01TR | D46: 015364 | E46: DW | F46: Ołówek kwadratowy Trendy, HB, Happy Color | G46: szt | H46: 12 | I46: 0.99 | J46: 0.99 | K46: 0 | L46: 18026 | N46: 5905130042867 | O46: 0.23 | Q46: 0 | R46: 103 | S46: KOLEKCJA TRENDY | T46: 96091010 | W46: 5905130042867 | X46: 5905130042874 | Y46: 5905130042881 | Z46: 5905130042898
B47: HAPPY COLOR | C47: HA 3150 01PI-HB | D47: 016464 | E47: DW | F47: Ołówek z wymiennymi rysikami, PIXI, plastikowa obudowa, Happy Color | G47: szt | H47: 12 | I47: 0.99 | J47: 0.99 | K47: 0 | L47: #N/A | N47: 5902979010958 | O47: 0.23 | Q47: 0 | R47: 100 | S47: KOLEKCJA PIXI, OŁÓWKI | T47: 96091010 | W47: 5902979010958
B48: HAPPY COLOR | C48: HA 3522 5070-4 | D48: 003780 | E48: DW | F48: Karton kolorowy 220 g/m2, 50x70 cm, pomarańczowy, Happy Color | G48: opk | H48: 1 | J48: 31.99 | K48: 0 | L48: 725 | N48: 5905130050336 | O48: 0.23 | Q48: 0 | S48: KARTON FORMAT B | T48: 480258900 | W48: 5905130050336
B49: HAPPY COLOR | C49: HA 3522 5070-81 | D49: 003790 | E49: DW | F49: Karton kolorowy 220 g/m2, 50x70 cm, srebrny, Happy Color | G49: opk | H49: 1 | J49: 54.99 | K49: 0 | L49: 100 | N49: 5905130050480 | O49: 0.23 | Q49: 0 | S49: KARTON FORMAT B | T49: 480258900 | X49: 5905130050480
B50: HAPPY COLOR | C50: HA 3640 2510-MIXMet | D50: 012465 | E50: DW | F50: Bibuła marszczona 25x100cm, MIX metaliczny, 5 kol, 5 rolek, Happy Color | G50: opk | H50: 1 | I50: 10.99 | J50: 10.99 | K50: 0 | L50: 297 | N50: 5905130005138 | O50: 0.23 | Q50: 0 | S50: BIBUŁA MARSZCZONA | T50: 48059100 | X50: 5905130005138 | Z50: 5905130005350
B51: HAPPY COLOR | C51: HA 3640 2521-3BL | D51: 015757 | E51: DW | F51: Bibuła marszczona 25x200cm NIEBIESKI JASNY-MIX 3 kol., 3 rolki, Happy Color | G51: opk | H51: 1 | I51: 2.09 | J51: 2.09 | K51: 0 | L51: 607 | N51: 5902979002502 | O51: 0.23 | Q51: 0 | R51: 153 | S51: BIBUŁA MARSZCZONA | T51: 48059100 | X51: 5902979002502 | Z51: 5902979002588
B52: HAPPY COLOR | C52: HA 3640 2521-3BR | D52: 015761 | E52: DW | F52: Bibuła marszczona 25x200cm BRĄZOWY-MIX 3 kol., 3 rolki, Happy Color | G52: opk | H52: 1 | I52: 2.09 | J52: 2.09 | K52: 0 | L52: 2047 | N52: 5902979002540 | O52: 0.23 | Q52: 0 | R52: 153 | S52: BIBUŁA MARSZCZONA | T52: 48059100 | X52: 5902979002540 | Z52: 5902979002625
B53: HAPPY COLOR | C53: HA 3640 2521-3BW | D53: 015762 | E53: DW | F53: Bibuła marszczona 25x200cm BIAŁO-CZARNY-MIX 3 kol., 3 rolki, Happy Color | G53: opk | H53: 1 | I53: 2.09 | J53: 2.09 | K53: 0 | L53: 2597 | N53: 5902979002557 | O53: 0.23 | Q53: 0 | R53: 153 | S53: BIBUŁA MARSZCZONA | T53: 48059100 | X53: 5902979002557 | Z53: 5902979002632
B54: HAPPY COLOR | C54: HA 3640 2521-3DG | D54: 015760 | E54: DW | F54: Bibuła marszczona 25x200cm ZIELONY CIEMNY-MIX 3 kol., 3 rolki, Happy Color | G54: opk | H54: 1 | I54: 2.09 | J54: 2.09 | K54: 0 | L54: 68 | N54: 5902979002533 | O54: 0.23 | Q54: 0 | R54: 153 | S54: BIBUŁA MARSZCZONA | T54: 48059100 | X54: 5902979002533 | Z54: 5902979002618
B55: HAPPY COLOR | C55: HA 3708 3040-A40 | D55: 012935 | E55: DW | F55: Blok szkicowy ECO, ART, A3, 40 ark, 80g, Happy Color | G55: szt | H55: 5 | I55: 7.99 | J55: 7.99 | K55: 0 | L55: 0 | N55: 5905130007781 | O55: 0.23 | Q55: 0 | R55: 119 | S55: BLOKI ART | T55: 48201090 | W55: 5905130007781 | X55: 5905130052088
B56: HAPPY COLOR | C56: HA 4120 01AF-3 | D56: 014887 | E56: DW | F56: Długopis wymazywalny Afrykanki, 0.5mm, niebieski, Happy Color | G56: szt | H56: 12 | I56: 3.19 | J56: 3.19 | K56: 0 | L56: 568 | N56: 5905130039447 | O56: 0.23 | Q56: 0 | R56: 88 | S56: DŁUGOPISY WYMAZYWALNE | T56: 96081092 | W56: 5905130039447 | X56: 5905130039454 | Y56: 5902979004636 | Z56: 5902979004643
B57: HAPPY COLOR | C57: HA 4120 01MC-3 | D57: 014871 | E57: DW | F57: Długopis wymazywalny ME&CITY, 0.5mm, niebieski, Happy Color | G57: szt | H57: 12 | J57: 3.19 | K57: 0 | L57: 0 | N57: 5905130039133 | O57: 0.23 | Q57: 0 | S57: DŁUGOPISY WYMAZYWALNE | T57: 96081092 | W57: 5905130039133
B58: HAPPY COLOR | C58: HA 4120 02PB-3 BKRF | D58: 016676 | E58: DW | F58: Długopis wymazywalny Pastel Bears, 0.5 mm, niebieski, 1 szt. + 3 wkłady na blistrze, Happy Color | G58: szt | H58: 1 | I58: 6.99 | J58: 6.99 | K58: 0 | L58: 19 | N58: 5902979011825 | O58: 0.23 | Q58: 0 | S58: DŁUGOPISY WYMAZYWALNE | T58: 96081092 | W58: 5902979011825
B59: HAPPY COLOR | C59: HA 4120 30ST SBK4 | D59: 017917 | E59: DW | F59: Długopis wymazywalny 2 szt. Story2 + mini zakreślacze 2 szt, blister, Happy Color | G59: szt | H59: 1 | J59: 7.99 | K59: 0 | L59: 0 | N59: 5902979023521 | O59: 0.23 | Q59: 0 | S59: DŁUGOPISY WYMAZYWALNE | T59: 96081092 | W59: 5902979023521
B60: HAPPY COLOR | C60: HA 4120 31TR SBK5 | D60: 015850 | E60: DW | F60: Długopis wymazywalne 2 szt + 3 ołówki kwadratowe, TRENDY, blister, Happy Color | G60: szt | H60: 10 | I60: 13.49 | J60: 7.99 | K60: 0 | L60: 1848 | N60: 5902979004063 | O60: 0.23 | Q60: 0 | R60: 98 | S60: KOLEKCJA TRENDY | T60: 96085000 | W60: 5902979004063 | X60: 5902979004070
B61: HAPPY COLOR | C61: HA 4120 34SP SBK3 | D61: 017918 | E61: DW | F61: Długopis wymazywalny 2 szt. Space2 + klej 8 g, blister, Happy Color | G61: szt | H61: 1 | J61: 7.99 | K61: 0 | L61: 628 | N61: 5902979023538 | O61: 0.23 | Q61: 0 | S61: DŁUGOPISY WYMAZYWALNE | T61: 96081092 | W61: 5902979023538
B62: HAPPY COLOR | C62: HA 4129 21P1-3 | D62: 017575 | E62: A | F62: Wkłady do długopisu automatycznego, wymazywalne, 0.5mm, niebieskie, 3 szt. w etui, Happy Color | G62: szt | H62: 1 | I62: 7.19 | J62: 5.25 | K62: 0 | L62: 61 | N62: 5902979020391 | O62: 0.23 | Q62: 0 | R62: GDD News 2/76 | S62: DŁUGOPISY WYMAZYWALNE | T62: 96086000 | W62: 5902979020391
B63: HAPPY COLOR | C63: HA 4129 21P2-3 | D63: 017719 | E63: A | F63: Wkłady do długopisu automatycznego Hello Bears, wymazywalne, 0.4 mm, niebieskie, 3 szt., Happy Color | G63: szt | H63: 1 | I63: 7.19 | J63: 5.25 | K63: 0 | L63: 7486 | N63: 5902979021749 | O63: 0.23 | Q63: 0 | S63: DŁUGOPISY WYMAZYWALNE | T63: 96086000
B64: HAPPY COLOR | C64: HA 4132 11ST-041 | D64: 016146 | E64: DW | F64: Zakreślacz Feelingi - Lolly, zapachowy, 2w1: pomarańczowy, żółty, Happy Color | G64: szt | H64: 10 | I64: 2.55 | J64: 2.55 | K64: 0 | L64: 4877 | N64: 5902979007835 | O64: 0.23 | Q64: 0 | R64: 99 | S64: ZAKREŚLACZE | T64: 96082000 | W64: 5902979007835 | X64: 5902979007842 | Y64: 5902979007941 | Z64: 5902979007859
B65: HAPPY COLOR | C65: HA 4132 11ST-053 | D65: 016148 | E65: DW | F65: Zakreślacz Feelingi - Lolly, zapachowy, 2w1: zielony, niebieski, Happy Color | G65: szt | H65: 10 | J65: 2.55 | K65: 0 | L65: 2006 | N65: 5902979007897 | O65: 0.23 | Q65: 0 | R65: 100 | S65: ZAKREŚLACZE | T65: 96082000
B66: HAPPY COLOR | C66: HA 4132 11ST-620 | D66: 016147 | E66: DW | F66: Zakreślacz Feelingi - Lolly, zapachowy, 2w1: fioletowy, różowy, Happy Color | G66: szt | H66: 10 | J66: 2.55 | K66: 0 | L66: 31 | N66: 5902979007866 | O66: 0.23 | Q66: 0 | R66: 101 | S66: ZAKREŚLACZE | T66: 96082000
B67: HAPPY COLOR | C67: HA 4512 1006-BA5 | D67: 015441 | E67: DW | F67: Zestaw kształtów tekturowych BASIC, 5 szt, 10x6 cm, Happy Color | G67: szt | H67: 1 | I67: 2.39 | J67: 2.39 | K67: 0 | L67: 64 | N67: 5905130040887 | O67: 0.23 | Q67: 0 | R67: 141 | S67: ECO CRAFT | T67: 48239085 | W67: 5905130040887 | Z67: 5905130040894
B68: HAPPY COLOR | C68: HA 4512 1006-FA5 | D68: 015440 | E68: DW | F68: Zestaw kształtów tekturowych FARM, 5 szt, 10x6 cm, Happy Color | G68: szt | H68: 1 | I68: 2.39 | J68: 2.39 | K68: 0 | L68: 2580 | N68: 5905130040863 | O68: 0.23 | Q68: 0 | R68: 140 | S68: ECO CRAFT | T68: 48239085 | W68: 5905130040863 | Z68: 5905130040870
B69: HAPPY COLOR | C69: HA 4512 1206-BR5 | D69: 015443 | E69: DW | F69: Zestaw kształtów tekturowych BIRDS, 5 szt, 12x6 cm, Happy Color | G69: szt | H69: 1 | I69: 2.39 | J69: 2.39 | K69: 0 | L69: 2244 | N69: 5905130040924 | O69: 0.23 | Q69: 0 | R69: 140 | S69: ECO CRAFT | T69: 48239085 | W69: 5905130040924 | Z69: 5905130040931
B70: HAPPY COLOR | C70: HA 4512 1206-PE5 | D70: 015442 | E70: DW | F70: Zestaw kształtów tekturowych PETS, 5 szt, 12x6 cm, Happy Color | G70: szt | H70: 1 | I70: 2.39 | J70: 2.39 | K70: 0 | L70: 2874 | N70: 5905130040900 | O70: 0.23 | Q70: 0 | R70: 140 | S70: ECO CRAFT | T70: 48239085 | W70: 5905130040900 | Z70: 5905130040917
B71: HAPPY COLOR | C71: HA 4513 1512-AF5 | D71: 015510 | E71: DW | F71: Zestaw kształtów tekturowych 3D, AFRICA, 5 szt, 15,12 cm, Happy Color | G71: szt | H71: 1 | I71: 5.49 | J71: 5.49 | K71: 0 | L71: 2835 | N71: 5905130041082 | O71: 0.23 | Q71: 0 | R71: 143 | S71: ECO CRAFT | T71: 48239085 | W71: 5905130041082 | Z71: 5905130041099
B72: HAPPY COLOR | C72: HA 4513 1512-DN6 | D72: 015483 | E72: DW | F72: Zestaw kształtów tekturowych 3D, DINO, 6 szt, 15, 12 cm, Happy Color | G72: szt | H72: 1 | I72: 5.49 | J72: 5.49 | K72: 0 | L72: 2904 | N72: 5905130041068 | O72: 0.23 | Q72: 0 | R72: 143 | S72: ECO CRAFT | T72: 48239085 | W72: 5905130041068 | X72: 5905130041075
B73: HAPPY COLOR | C73: HA 4613 2520-JU | D73: 014938 | E73: DW | F73: Teczka PP z suwakiem JUST, B5, miks wzorów, Happy Color | G73: szt | H73: 10 | I73: 1.99 | J73: 1.99 | K73: 0 | L73: 108 | N73: 5905130039584 | O73: 0.23 | Q73: 0 | R73: 110 | S73: KOLEKCJA ME&CITY / JUST / GAMES | T73: 48203000 | W73: 5905130039584 | X73: 5905130042935 | Y73: 5905130042942 | Z73: 5905130042959
B74: HAPPY COLOR | C74: HA 4613 2520-MC | D74: 014940 | E74: DW | F74: Teczka PP z suwakiem ME&CITY, B5, miks wzorów, Happy Color | G74: szt | H74: 10 | I74: 1.99 | J74: 1.99 | K74: 0 | L74: 113 | N74: 5905130039607 | O74: 0.23 | Q74: 0 | R74: 110 | S74: KOLEKCJA ME&CITY / JUST / GAMES | T74: 48203000 | W74: 5905130039607 | X74: 5905130042966 | Y74: 5905130042973 | Z74: 5905130042980
B75: HAPPY COLOR | C75: HA 4613 3325-JU | D75: 014937 | E75: DW | F75: Teczka PP z suwakiem JUST, B4, miks wzorów, Happy Color | G75: szt | H75: 10 | I75: 2.49 | J75: 2.49 | K75: 0 | L75: 2413 | N75: 5905130039577 | O75: 0.23 | Q75: 0 | R75: 110 | S75: KOLEKCJA ME&CITY / JUST / GAMES | T75: 48203000 | W75: 5905130039577 | X75: 5905130043024 | Y75: 5905130043031 | Z75: 5905130043048
B76: HAPPY COLOR | C76: HA 4613 3325-MC | D76: 014939 | E76: DW | F76: Teczka PP z suwakiem ME&CITY, B4, miks wzorów, Happy Color | G76: szt | H76: 10 | I76: 2.49 | J76: 2.49 | K76: 0 | L76: 577 | N76: 5905130039591 | O76: 0.23 | Q76: 0 | R76: 110 | S76: KOLEKCJA ME&CITY / JUST / GAMES | T76: 48203000 | W76: 5905130039591 | X76: 5905130043055 | Y76: 5905130043062 | Z76: 5905130043079
B77: HAPPY COLOR | C77: HA 4741 1825-JU4 | D77: 015986 | E77: DW | F77: Kołobrulion JUST 4, B5, 80k, kratka, 80g/m2, okładka PP, Happy Color | G77: szt | H77: 4 | I77: 6.99 | J77: 6.99 | K77: 0 | L77: 84 | N77: 5902979006432 | O77: 0.23 | Q77: 0 | R77: 111 | S77: NOTESY | T77: 39261000 | W77: 5902979006432 | X77: 5902979006111 | Z77: 5902979006272
B78: HAPPY COLOR | C78: HA 4742 1825-ME1 | D78: 015987 | E78: DW | F78: Kołonotatnik ME&CITY 1, B5, 80k, kratka, 80g/m2, Happy Color | G78: szt | H78: 4 | I78: 5.79 | J78: 5.79 | K78: 0 | L78: 2689 | N78: 5902979006449 | O78: 0.23 | Q78: 0 | R78: 111 | S78: NOTESY | T78: 39261000 | W78: 5902979006449 | X78: 5902979006128 | Z78: 5902979006289
B79: HAPPY COLOR | C79: HA 4742 1825-ME2 | D79: 015988 | E79: DW | F79: Kołonotatnik ME&CITY 2, B5, 80k, kratka, 80g/m2, Happy Color | G79: szt | H79: 4 | I79: 5.79 | J79: 5.79 | K79: 0 | L79: 3297 | N79: 5902979006456 | O79: 0.23 | Q79: 0 | R79: 111 | S79: NOTESY | T79: 39261000 | W79: 5902979006456 | X79: 5902979006135 | Z79: 5902979006296
B80: HAPPY COLOR | C80: HA 4742 2030-AF1 | D80: 015981 | E80: DW | F80: Kołonotatnik AFRYKANKI 1, A4, 80k, kratka, 80g/m2, Happy Color | G80: szt | H80: 4 | I80: 7.99 | J80: 7.99 | K80: 0 | L80: 257 | N80: 5902979006388 | O80: 0.23 | Q80: 0 | R80: 111 | S80: NOTESY | T80: 39261000 | W80: 5902979006388 | X80: 5902979006067 | Z80: 5902979006227
B81: HAPPY COLOR | C81: HA 4742 2030-AF4 | D81: 015980 | E81: DW | F81: Kołonotatnik AFRYKANKI 4, A4, 80k, kratka, 80g/m2, Happy Color | G81: szt | H81: 4 | I81: 7.99 | J81: 7.99 | K81: 0 | L81: 180 | N81: 5902979006371 | O81: 0.23 | Q81: 0 | R81: 111 | S81: NOTESY | T81: 39261000 | W81: 5902979006371 | X81: 5902979006050 | Z81: 5902979006210
B82: HAPPY COLOR | C82: HA 4742 2030-ME1 | D82: 015978 | E82: DW | F82: Kołonotatnik ME&CITY 1, A4, 80k, kratka, 80g/m2, Happy Color | G82: szt | H82: 4 | I82: 7.99 | J82: 7.99 | K82: 0 | L82: 2133 | N82: 5902979006357 | O82: 0.23 | Q82: 0 | R82: 111 | S82: NOTESY | T82: 39261000 | W82: 5902979006357 | X82: 5902979006036 | Z82: 5902979006197
B83: HAPPY COLOR | C83: HA 4742 2030-PI2 | D83: 015983 | E83: DW | F83: Kołonotatnik PIXI 2, A4, 80k, kratka, 80g/m2, Happy Color | G83: szt | H83: 4 | I83: 7.99 | J83: 7.99 | K83: 0 | L83: 0 | N83: 5902979006401 | O83: 0.23 | Q83: 0 | R83: 111 | S83: NOTESY | T83: 39261000 | W83: 5902979006401 | X83: 5902979006081 | Z83: 5902979006241
B84: HAPPY COLOR | C84: HA 4761 1521-TB80 | D84: 015298 | E84: DW | F84: Kołobrulion Trend Blue, A5, 80k, kratka, 80g/m2, Happy Color | G84: szt | H84: 1 | I84: 6.49 | J84: 6.49 | K84: 0 | L84: 182 | N84: 5905130042690 | O84: 0.23 | Q84: 0 | R84: 114 | S84: KOLEKCJA TRENDY | T84: 39261000 | W84: 5905130042690 | X84: 5905130042706 | Z84: 5905130042713
B85: HAPPY COLOR | C85: HA 4761 1521-TC80 | D85: 015297 | E85: DW | F85: Kołobrulion Trend Coral, A5, 80k, kratka, 80g/m2, Happy Color | G85: szt | H85: 1 | I85: 6.49 | J85: 6.49 | K85: 0 | L85: 340 | N85: 5905130042669 | O85: 0.23 | Q85: 0 | R85: 114 | S85: KOLEKCJA TRENDY | T85: 39261000 | W85: 5905130042669 | X85: 5905130042676 | Z85: 5905130042683
B86: HAPPY COLOR | C86: HA 4761 1521-TG80 | D86: 015295 | E86: DW | F86: Kołobrulion Trend Green, A5, 80k, kratka, 80g/m2, Happy Color | G86: szt | H86: 1 | I86: 6.49 | J86: 6.49 | K86: 0 | L86: 91 | N86: 5905130042607 | O86: 0.23 | Q86: 0 | R86: 114 | S86: KOLEKCJA TRENDY | T86: 39261000 | W86: 5905130042607 | X86: 5905130042614 | Z86: 5905130042621
B87: HAPPY COLOR | C87: HA 4761 1521-TP80 | D87: 015296 | E87: DW | F87: Kołobrulion Trend Pink, A5, 80k, kratka, 80g/m2, Happy Color | G87: szt | H87: 1 | I87: 6.49 | J87: 6.49 | K87: 0 | L87: 184 | N87: 5905130042638 | O87: 0.23 | Q87: 0 | R87: 114 | S87: KOLEKCJA TRENDY | T87: 39261000 | W87: 5905130042638 | X87: 5905130042645 | Z87: 5905130042652
B88: HAPPY COLOR | C88: HA 7114 2030-02 S | D88: 013024 | E88: DW | F88: Filc dekoracyjny impregnowany, 4 mm, 20x30 cm, ecru, Happy Color | G88: szt | H88: 1 | J88: 2.25 | K88: 0 | L88: 0 | N88: 5902979007019 | O88: 0.23 | Q88: 0 | S88: FILC | T88: 560290000 | W88: 5902979007019
B89: HAPPY COLOR | C89: HA 7114 2030-4 S | D89: 013034 | E89: DW | F89: Filc dekoracyjny impregnowany, 4 mm, 20x30 cm, pomarańczowy, Happy Color | G89: szt | H89: 1 | J89: 2.25 | K89: 0 | L89: #N/A | N89: 5902979007064 | O89: 0.23 | Q89: 0 | S89: FILC | T89: 560290000 | W89: 5902979007064
B90: HAPPY COLOR | C90: HA 7114 2030-61 | D90: 011917 | E90: DW | F90: Filc dekoracyjny impregnowany, 4 mm, 20x30 cm, 5 ark., fioletowy, Happy Color | G90: opk | H90: 1 | J90: 11.25 | K90: 0 | L90: 137 | N90: 5905130004346 | O90: 0.23 | Q90: 0 | S90: FILC | T90: 560290000 | W90: 5905130004346
B91: HAPPY COLOR | C91: HA 7114 2030-809 S | D91: 013030 | E91: DW | F91: Filc dekoracyjny impregnowany, 4 mm, 20x30 cm, szary melanż, Happy Color | G91: szt | H91: 1 | J91: 2.25 | K91: 0 | L91: 6 | N91: 5902979007088 | O91: 0.23 | Q91: 0 | S91: FILC | T91: 560290000 | W91: 5902979007088
B92: HAPPY COLOR | C92: HA 7114 2030-889 S | D92: 013031 | E92: DW | F92: Filc dekoracyjny impregnowany, 4 mm, 20x30 cm, grafitowy melanż, Happy Color | G92: szt | H92: 1 | J92: 2.25 | K92: 0 | L92: 7 | N92: 5905130008382 | O92: 0.23 | Q92: 0 | S92: FILC | T92: 560290000 | W92: 5905130008382
B93: HAPPY COLOR | C93: HA 7263 1022-16 | D93: 016324 | E93: DW | F93: Pędzel hobby, syntetyk, koci język nr 16, Happy Color | G93: szt | H93: 12 | I93: 7.31 | J93: 5.29 | K93: 0 | L93: 8 | N93: 5905130007163 | O93: 0.23 | Q93: 0 | S93: FILC | T93: 530310 | W93: 5905130007163
B94: HAPPY COLOR | C94: HA 7263 1022-18 | D94: 016325 | E94: DW | F94: Pędzel hobby, syntetyk, koci język nr 18, Happy Color | G94: szt | H94: 12 | I94: 7.31 | J94: 4.99 | K94: 0 | L94: 2725 | N94: 5905130035005 | O94: 0.23 | Q94: 0 | R94: 110 | S94: KOLEKCJA SPACE / STORY / STYLE | T94: 48201030 | W94: 5905130035005
B95: HAPPY COLOR | C95: HA 7263 1022-20 | D95: 016326 | E95: DW | F95: Pędzel hobby, syntetyk, koci język nr 20, Happy Color | G95: szt | H95: 12 | I95: 9.75 | J95: 6.89 | K95: 0 | L95: 2725 | N95: 5905130008641 | O95: 0.23 | Q95: 0 | R95: 129 | S95: PAPIERY OZDOBNE DECO | T95: 48026200 | X95: 5905130008641
B96: HAPPY COLOR | C96: HA 7264 1022-16 | D96: 016304 | E96: DW | F96: Pędzel hobby, syntetyk, ukośny nr 16, Happy Color | G96: szt | H96: 12 | I96: 7.31 | J96: 4.99 | K96: 0 | L96: 3948 | N96: 5905130008474 | O96: 0.23 | Q96: 0 | S96: PAPIERY OZDOBNE DECO | T96: 48026200 | X96: 5905130008474
B97: HAPPY COLOR | C97: HA 7264 1022-18 | D97: 016305 | E97: DW | F97: Pędzel hobby, syntetyk, ukośny nr 18, Happy Color | G97: szt | H97: 12 | I97: 7.31 | J97: 4.99 | K97: 0 | L97: 4048 | N97: 5905130008498 | O97: 0.23 | Q97: 0 | S97: PAPIERY OZDOBNE DECO | T97: 48026200 | X97: 5905130008498
B98: HAPPY COLOR | C98: HA 7264 1022-20 | D98: 016306 | E98: DW | F98: Pędzel hobby, syntetyk, ukośny nr 20, Happy Color | G98: szt | H98: 12 | I98: 9.75 | J98: 6.79 | K98: 0 | L98: 4064 | N98: 5905130008504 | O98: 0.23 | Q98: 0 | S98: PAPIERY OZDOBNE DECO | T98: 48026200 | X98: 5905130008504
B99: HAPPY COLOR | C99: HA 7265 1022-16 | D99: 016314 | E99: DW | F99: Pędzel hobby, syntetyk, sztylet nr 16, Happy Color | G99: szt | H99: 12 | I99: 10.04 | J99: 6.99 | K99: 0 | L99: 3613 | N99: 5905130008528 | O99: 0.23 | Q99: 0 | R99: 129 | S99: PAPIERY OZDOBNE DECO | T99: 48026200 | X99: 5905130008528
B100: HAPPY COLOR | C100: HA 7265 1022-18 | D100: 016315 | E100: DW | F100: Pędzel hobby, syntetyk, sztylet nr 18, Happy Color | G100: szt | H100: 12 | I100: 10.97 | J100: 7.49 | K100: 0 | L100: 4187 | N100: 5905130008733 | O100: 0.23 | Q100: 0 | S100: PAPIERY OZDOBNE DECO | T100: 48026200 | X100: 5905130008733
B101: HAPPY COLOR | C101: HA 7265 1022-20 | D101: 016316 | E101: DW | F101: Pędzel hobby, syntetyk, sztylet nr 20, Happy Color | G101: szt | H101: 12 | I101: 12.19 | J101: 8.49 | K101: 0 | L101: 2314 | N101: 5905130008740 | O101: 0.23 | Q101: 0 | S101: PAPIERY OZDOBNE DECO | T101: 48026200 | X101: 5905130008740
...
