Workbook

Sheet SYSTEM_NIE WPISYWAĆ!!!
A1: Nr nabywcy | B1: Komentarz zamówienia | C1: Nr zapasu | D1: Opis | E1: Ilość | F1: Komentarz wiersza | G1: Nr dokumentu zewnętrznego
C2: 300E-2H | D2: GRAFITY DO OŁÓWKÓW 0,3 2H | E2: =SUM('ZAMÓWIENIE 2025'!G6) -> 0
A3: =$A$2 -> 0 | C3: 300E-3H | D3: GRAFITY DO OŁÓWKÓW 0,3 3H | E3: =SUM('ZAMÓWIENIE 2025'!G7) -> 0
A4: =$A$2 -> 0 | C4: 300E-B | D4: GRAFITY DO OŁÓWKÓW 0,3 B | E4: =SUM('ZAMÓWIENIE 2025'!G8) -> 0
A5: =$A$2 -> 0 | C5: 300E-H | D5: GRAFITY DO OŁÓWKÓW 0,3 H | E5: =SUM('ZAMÓWIENIE 2025'!G9) -> 0
A6: =$A$2 -> 0 | C6: 300E-HB | D6: GRAFITY DO OŁÓWKÓW 0.3 HB | E6: =SUM('ZAMÓWIENIE 2025'!G10) -> 0
A7: =$A$2 -> 0 | C7: 50-2BX | D7: GRAFITY DO OŁÓWKÓW 0,7 2B | E7: =SUM('ZAMÓWIENIE 2025'!G11) -> 0
A8: =$A$2 -> 0 | C8: 50-2HX | D8: GRAFITY DO OŁÓWKÓW 0,7 2H | E8: =SUM('ZAMÓWIENIE 2025'!G12) -> 0
A9: =$A$2 -> 0 | C9: 50-B9 | D9: GRAFITY DO OŁÓWKÓW 0,9 B | E9: =SUM('ZAMÓWIENIE 2025'!G13) -> 0
A10: =$A$2 -> 0 | C10: 50-BX | D10: GRAFITY DO OŁÓWKÓW 0,7 B | E10: =SUM('ZAMÓWIENIE 2025'!G14) -> 0
A11: =$A$2 -> 0 | C11: 50E-2B9 | D11: GRAFITY DO OŁÓWKÓW 0,9 2B | E11: =SUM('ZAMÓWIENIE 2025'!G15) -> 0
A12: =$A$2 -> 0 | C12: 50E-HB9 | D12: GRAFITY DO OŁÓWKÓW 0,9 HB | E12: =SUM('ZAMÓWIENIE 2025'!G16) -> 0
A13: =$A$2 -> 0 | C13: 50-H9 | D13: GRAFITY DO OŁÓWKÓW 0,9 H | E13: =SUM('ZAMÓWIENIE 2025'!G17) -> 0
A14: =$A$2 -> 0 | C14: 50-HBX | D14: GRAFITY DO OŁÓWKÓW 0,7 HB | E14: =SUM('ZAMÓWIENIE 2025'!G18) -> 0
... A912: =$A$2 -> 0 | C912: FOC-LIZAKI | D912: LIZAKI CHUPA CHUPS | E912: =SUM('ZAMÓWIENIE 2025'!G916) -> 0

Sheet ZAMÓWIENIE 2025
F1: WARTOŚĆ BONÓW | G1: =IF(H2>2,SUM(K1:K19),0) -> 0 | J1: =AND(H3>3500,H3<6500) -> FALSE | K1: =IF(J1,200,0) -> 0 | M1: PAKIET OBOWIĄZKOWY (200 zł) | Q1: DISPLAY DO WYBORU (500 zł) | Y1: LIZAKI | AA1: PASTELE WARTOŚĆ
A2: ZAMÓWIENIE BTS 2025 w PLN | C2: NAZWA KLIENTA | F2: ILE DISPLAY'I NOWOŚCI | H2: =M2+Q2 -> 0 | J2: =AND(H3>6500,H3<10000) -> FALSE | K2: =IF(J2,500,0) -> 0 | M2: =N3+N4+N5+P4+P5 -> 0 | Q2: =SUM(R3,R4,R5,T3,T4,T5,V3,V4,V5,X3) -> 0 | Y2: 0 | AA2: =SUM(H617:H623) -> 0
A3: DO WYPEŁNIANIA | G3: TOTAL WARTOŚĆ ZAMÓWIENIA | H3: =SUM(H6:H925) -> 0 | J3: =AND(H3>10000,H3<13000) -> FALSE | K3: =IF(J3,700,0) -> 0 | M3: CB60T-2BHB-96 | N3: 0 | Q3: BL437-4E | R3: 0 | S3: BXC467-2E | T3: 0 | U3: SESW30C-3E | V3: 0 | W3: ZEH DISPLAY DUŻY | X3: 0
A4: NIE WPISYWAĆ | G4: =H3*(1-H4) -> 0 | J4: =AND($H$3>13000,$H$3<16500) -> FALSE | K4: =IF(J4,1000,0) -> 0 | M4: BL77-MIX-3E-PVC | N4: 0 | O4: BL77-C-3E-PVC | P4: 0 | Q4: NFS-NF-NM-3E | R4: 0 | S4: BY208-AC-3E-PVC | T4: 0 | U4: POINTLINER S20P - DISPLAY | V4: 0 | W4: CB60T+ZEH DISPLAY | X4: 0 | Y4: szt. | AA4: ILOŚĆ DISPLAY'I LIZAKÓW
A5: NUMER ZAPASU | B5: OPIS | C5: OPAKOWANIE | D5: CENA HURTOWA NETTO PLN | E5: KOD KRESKOWY 1 szt. | F5: KOD CN | G5: ILOŚĆ SZT. | H5: Wartość PLN netto | J5: =AND($H$3>16500,$H$3<19500) -> FALSE | K5: =IF(J5,1200,0) -> 0 | M5: BL77-AC-3E-PVC | N5: 0 | O5: BL77-A-3E-PVC | P5: 0 | Q5: BX467-4E | R5: 0 | S5: SES15C-3E-PVC | T5: 0 | U5: ZTT15 - DISPLAY | V5: 0 | Y5: 12 | Z5: =48*Y2 -> 0 | AA5: =FLOOR(AA2/1427,1) -> 0
A6: 300E-2H | B6: GRAFITY DO OŁÓWKÓW 0,3 2H | C6: 12 szt. | D6: 5.7 | E6: 3474377352005 | F6: 96092000 | H6: =D6*G6 -> 0 | J6: =AND($H$3>19500,$H$3<23000) -> FALSE | K6: =IF(J6,1500,0) -> 0 | Y6: 16 | Z6: =48*Y2 -> 0
A7: 300E-3H | B7: GRAFITY DO OŁÓWKÓW 0,3 3H | C7: 12 szt. | D7: 5.7 | E7: 3474377352272 | F7: 96092000 | H7: =D7*G7 -> 0 | J7: =AND($H$3>23000,$H$3<26000) -> FALSE | K7: =IF(J7,1700,0) -> 0 | Y7: 25 | Z7: =24*Y2 -> 0
A8: 300E-B | B8: GRAFITY DO OŁÓWKÓW 0,3 B | C8: 12 szt. | D8: 5.7 | E8: 3474377351978 | F8: 96092000 | H8: =D8*G8 -> 0 | J8: =AND($H$3>26000,$H$3<29500) -> FALSE | K8: =IF(J8,2000,0) -> 0 | Y8: 36 | Z8: =6*Y2 -> 0
A9: 300E-H | B9: GRAFITY DO OŁÓWKÓW 0,3 H | C9: 12 szt. | D9: 5.7 | E9: 3474377351992 | F9: 96092000 | H9: =D9*G9 -> 0 | J9: =AND($H$3>29500,$H$3<32500) -> FALSE | K9: =IF(J9,2200,0) -> 0 | Y9: 50 | Z9: =6*Y2 -> 0
A10: 300E-HB | B10: GRAFITY DO OŁÓWKÓW 0.3 HB | C10: 12 szt. | D10: 5.7 | E10: 3474377351985 | F10: 96092000 | H10: =D10*G10 -> 0 | J10: =AND($H$3>32500,$H$3<36000) -> FALSE | K10: =IF(J10,2500,0) -> 0 | Y10: FLUO | Z10: =6*Y2 -> 0
A11: 50-2BX | B11: GRAFITY DO OŁÓWKÓW 0,7 2B | C11: 12 szt. | D11: 3.1 | E11: 3474377352289 | F11: 96092000 | H11: =D11*G11 -> 0 | J11: =AND($H$3>36000,$H$3<39000) -> FALSE | K11: =IF(J11,2700,0) -> 0 | Y11: METALLIC | Z11: =6*Y2 -> 0
A12: 50-2HX | B12: GRAFITY DO OŁÓWKÓW 0,7 2H | C12: 12 szt. | D12: 3.1 | E12: 3474377352326 | F12: 96092000 | H12: =D12*G12 -> 0 | J12: =AND($H$3>39000,$H$3<42500) -> FALSE | K12: =IF(J12,3000,0) -> 0 | Y12: FOC-LIZAKI | Z12: =1*Y2 -> 0
A13: 50-B9 | B13: GRAFITY DO OŁÓWKÓW 0,9 B | C13: 12 szt. | D13: 3.1 | E13: 0072512007921 | F13: 96092000 | H13: =D13*G13 -> 0 | J13: =AND($H$3>42500,$H$3<45500) -> FALSE | K13: =IF(J13,3200,0) -> 0
A14: 50-BX | B14: GRAFITY DO OŁÓWKÓW 0,7 B | C14: 12 szt. | D14: 3.1 | E14: 3474377352296 | F14: 96092000 | H14: =D14*G14 -> 0 | J14: =AND($H$3>45500,$H$3<49000) -> FALSE | K14: =IF(J14,3500,0) -> 0
A15: 50E-2B9 | B15: GRAFITY DO OŁÓWKÓW 0,9 2B | C15: 12 szt. | D15: 3.1 | E15: 3474377910335 | F15: 96092000 | H15: =D15*G15 -> 0 | J15: =AND($H$3>49000,$H$3<52000) -> FALSE | K15: =IF(J15,3700,0) -> 0
A16: 50E-HB9 | B16: GRAFITY DO OŁÓWKÓW 0,9 HB | C16: 12 szt. | D16: 3.1 | E16: 3474377910359 | F16: 96092000 | H16: =D16*G16 -> 0 | J16: =AND($H$3>52000,$H$3<55500) -> FALSE | K16: =IF(J16,4000,0) -> 0
A17: 50-H9 | B17: GRAFITY DO OŁÓWKÓW 0,9 H | C17: 12 szt. | D17: 3.1 | E17: 3474377910366 | F17: 96092000 | H17: =D17*G17 -> 0 | J17: =AND($H$3>55000,$H$3<58500) -> FALSE | K17: =IF(J17,4200,0) -> 0
A18: 50-HBX | B18: GRAFITY DO OŁÓWKÓW 0,7 HB | C18: 12 szt. | D18: 3.1 | E18: 3474377352302 | F18: 96092000 | H18: =D18*G18 -> 0 | J18: =AND($H$3>58500,$H$3<62000) -> FALSE | K18: =IF(J18,4500,0) -> 0
A19: 50-HX | B19: GRAFITY DO OŁÓWKÓW 0,7 H | C19: 12 szt. | D19: 3.1 | E19: 072512007709 | F19: 96092000 | H19: =D19*G19 -> 0 | J19: =AND($H$3>62500,$H$3<65500) -> FALSE | K19: =IF(J19,4700,0) -> 0
A20: A125-A | B20: OŁÓWEK AUTOM. 0,5MM A/CZARNY | C20: 12 szt. | D20: 5 | E20: 3474371125018 | F20: 96084000 | H20: =D20*G20 -> 0
A21: A127-C | B21: OŁÓWEK AUTOM. 0,7MM C/NIEBIESKI | C21: 12 szt. | D21: 5 | E21: 3474371127029 | F21: 96084000 | H21: =D21*G21 -> 0
A22: A129-E | B22: OŁÓWEK AUTOM. 0,9MM E/BRĄZOWY | C22: 12 szt. | D22: 5 | E22: 3474371129054 | F22: 96084000 | H22: =D22*G22 -> 0
A23: A313-B | B23: OŁÓWEK AUTOMATYCZNY 0,3MM B/CZERWONY | C23: 12 szt. | D23: 11.5 | E23: 3474370313003 | F23: 96084000 | H23: =D23*G23 -> 0
A24: A315-AX | B24: OŁÓWEK AUTOMATYCZNY 0,5MM A/CZARNY | C24: 12 szt. | D24: 11.5 | E24: 3474377900442 | F24: 96084000 | H24: =D24*G24 -> 0
A25: A315-N | B25: OŁÓWEK AUTOMATYCZNY 0,5MM N/SZARY | C25: 12 szt. | D25: 11.5 | E25: 3474370315007 | F25: 96084000 | H25: =D25*G25 -> 0
A26: A317-C | B26: OŁÓWEK AUTOMATYCZNY 0,7MM C/NIEBIESKI | C26: 12 szt. | D26: 11.5 | E26: 3474370317001 | F26: 96084000 | H26: =D26*G26 -> 0
A27: A319-Y | B27: OŁÓWEK AUTOMATYCZNY 0,9MM Y/CIEMNOŻÓŁTY | C27: 12 szt. | D27: 11.5 | E27: 3474370319005 | F27: 96084000 | H27: =D27*G27 -> 0
A28: AM13-CX | B28: OŁÓWEK AUTOMATYCZNY 1,3 MM C/NIEBIESKA OBUDOWA | C28: 12 szt. | D28: 10.5 | E28: 0884851038210 | F28: 96084000 | H28: =D28*G28 -> 0
A29: AX125-AE | B29: OŁÓWEK AUTOMAT. FIESTA A/CZARNY 0,5MM | C29: 12 szt. | D29: 2.8 | E29: 6938623920594 | F29: 96084000 | H29: =D29*G29 -> 0
A30: AX125-BE | B30: OŁÓWEK AUTOMAT. FIESTA B/CZERWONY 0,5MM | C30: 12 szt. | D30: 2.8 | E30: 6938623920624 | F30: 96084000 | H30: =D30*G30 -> 0
A31: AX125-CE | B31: OŁÓWEK AUTOMAT. FIESTA C/NIEBIESKI 0,5MM | C31: 12 szt. | D31: 2.8 | E31: 6938623920600 | F31: 96084000 | H31: =D31*G31 -> 0
... A231: CB9-12U | B231: KREDKI AKWARELOWE 12 KOLOROWE | C231: 12 szt. | D231: 15 | E231: 0884851024213 | F231: 96091090 | H231: =D231*G231 -> 0
A232: CB9-24U | B232: KREDKI AKWARELOWE 24 KOLOROWE | C232: 6 szt. | D232: 30 | E232: 0884851024244 | F232: 96091090 | H232: =D232*G232 -> 0 | Q232: DISPLAY CB60+ZEH
A233: CB60T-HB | B233: OŁÓWEK DREWNIANY O TRÓJKĄTNYM PRZEKROJU - HB | C233: 12 szt. | D233: 1.49 | E233: 4711577077017 | F233: 96091090 | G233: =SUM(M233+Q233) -> 0 | H233: =D233*G233 -> 0 | M233: 0 | N233: DO DOPISANIA | Q233: =144*X4 -> 0
A234: CB60T-2B | B234: OŁÓWEK DREWNIANY O TRÓJKĄTNYM PRZEKROJU -2B | C234: 12 szt. | D234: 1.49 | E234: 4711577077000 | F234: 96091090 | G234: =SUM(M234+Q234) -> 0 | H234: =D234*G234 -> 0 | M234: 0 | N234: DO DOPISANIA | Q234: =144*X4 -> 0
A235: CH13-BX | B235: GRAFITY DO OŁÓWKÓW 1,3 MM B | C235: 12 szt. | D235: 3.7 | E235: 0884851038234 | F235: 96092000 | H235: =D235*G235 -> 0
A236: CH13-HB | B236: GRAFITY DO OŁÓWKÓW 1,3 MM HB | C236: 12 szt. | D236: 3.7 | E236: 0884851038227 | F236: 96092000 | H236: =D236*G236 -> 0
A237: CH2-AO | B237: GRAFITY KOLOROWE DO MULTI-8 2,00 MM | C237: 1 szt. | D237: 4.9 | E237: 3474370122018 | F237: 96092000 | H237: =D237*G237 -> 0
A238: CH2-BO | B238: GRAFITY KOLOROWE DO MULTI-8 2,00 MM | C238: 1 szt. | D238: 4.9 | E238: 3474370122032 | F238: 96092000 | H238: =D238*G238 -> 0
A239: CH2-CO | B239: GRAFITY KOLOROWE DO MULTI-8 2,00 MM | C239: 1 szt. | D239: 4.9 | E239: 3474370122025 | F239: 96092000 | H239: =D239*G239 -> 0
A240: CH2-DO | B240: GRAFITY KOLOROWE DO MULTI-8 2,00 MM | C240: 1 szt. | D240: 4.9 | E240: 3474370122049 | F240: 96092000 | H240: =D240*G240 -> 0
A241: CH2-EO | B241: GRAFITY KOLOROWE DO MULTI-8 2,00 MM | C241: 1 szt. | D241: 4.9 | E241: 3474370122056 | F241: 96092000 | H241: =D241*G241 -> 0
A242: CH2F-G | B242: GRAFITY KOLOROWE DO MULTI-8 2,00 MM | C242: 1 szt. | D242: 6.2 | F242: 96092000 | H242: =D242*G242 -> 0
A243: CH2-FO | B243: GRAFITY KOLOROWE DO MULTI-8 2,00 MM | C243: 1 szt. | D243: 4.9 | E243: 3474370122063 | F243: 96092000 | H243: =D243*G243 -> 0
A244: CH2F-P | B244: GRAFITY KOLOROWE DO MULTI-8 2,00 MM | C244: 1 szt. | D244: 6.2 | F244: 96092000 | H244: =D244*G244 -> 0
A245: CH2-GO | B245: GRAFITY KOLOROWE DO MULTI-8 2,00 MM | C245: 1 szt. | D245: 4.9 | E245: 3474370122070 | F245: 96092000 | H245: =D245*G245 -> 0
A246: CH2-HO | B246: GRAFITY KOLOROWE DO MULTI-8 2,00 MM | C246: 1 szt. | D246: 4.9 | E246: 3474370122131 | F246: 96092000 | H246: =D246*G246 -> 0
A247: CH2-KO | B247: GRAFITY KOLOROWE DO MULTI-8 2,00 MM | C247: 1 szt. | D247: 4.9 | E247: 3474370122087 | F247: 96092000 | H247: =D247*G247 -> 0
A248: CH2-PO | B248: GRAFITY KOLOROWE DO MULTI-8 2,00 MM | C248: 1 szt. | D248: 4.9 | E248: 3474370122100 | F248: 96092000 | H248: =D248*G248 -> 0
A249: CH2-SO | B249: GRAFITY KOLOROWE DO MULTI-8 2,00 MM | C249: 1 szt. | D249: 4.9 | E249: 3474370122117 | F249: 96092000 | H249: =D249*G249 -> 0
A250: CH2-VO | B250: GRAFITY KOLOROWE DO MULTI-8 2,00 MM | C250: 1 szt. | D250: 4.9 | E250: 3474370122124 | F250: 96092000 | H250: =D250*G250 -> 0
A251: CMB-A | B251: WKŁAD DO DŁUGOPISU MULTI-8 | C251: 1 szt. | D251: 6.5 | F251: 96086000 | H251: =D251*G251 -> 0
A252: CMB-B | B252: WKŁAD DO DŁUGOPISU MULTI-8 | C252: 1 szt. | D252: 6.5 | F252: 96086000 | H252: =D252*G252 -> 0
A253: CMB-C | B253: WKŁAD DO DŁUGOPISU MULTI-8 | C253: 1 szt. | D253: 6.5 | F253: 96086000 | H253: =D253*G253 -> 0
A254: CN2-D | B254: GRAFITY NON-COPY DO MULTI-8 2,00 MM DIAZO | C254: 1 szt. | D254: 5.5 | F254: 96092000 | H254: =D254*G254 -> 0
A255: CN2-P | B255: GRAFITY NON-COPY DO MULTI-8 2,00 MM DIAZO | C255: 1 szt. | D255: 5.5 | F255: 96092000 | H255: =D255*G255 -> 0
A256: DCB14C | B256: SKOROSZYT Z KLIPEM A4 CLIP FILE C/NIEBIESKI | C256: 1 szt. | D256: 4.9 | E256: 4902506071972 | F256: 39261000 | H256: =D256*G256 -> 0
A257: DCB14D | B257: SKOROSZYT Z KLIPEM A4 CLIP FILE D/ZIELONY | C257: 1 szt. | D257: 4.9 | E257: 4902506071989 | F257: 39261000 | H257: =D257*G257 -> 0
A258: DCB14G | B258: SKOROSZYT Z KLIPEM A4 CLIP FILE G/ŻÓŁTY | C258: 1 szt. | D258: 4.9 | E258: 4902506071996 | F258: 39261000 | H258: =D258*G258 -> 0
A259: DCB14P | B259: SKOROSZYT Z KLIPEM A4 CLIP FILE P/RÓŻOWY | C259: 1 szt. | D259: 4.9 | E259: 4902506072009 | F259: 39261000 | H259: =D259*G259 -> 0
A260: DCB14T | B260: SKOROSZYT Z KLIPEM A4 CLIP FILE T/TRANSPARENTNY | C260: 1 szt. | D260: 4.9 | E260: 4902506072016 | F260: 39261000 | H260: =D260*G260 -> 0
A261: DCD14A | B261: TECZKA HARMONIJKOWA A4 A/CZARNA | C261: 1 szt. | D261: 18 | E261: 4902506072078 | F261: 39261000 | H261: =D261*G261 -> 0
A262: DCD14AT | B262: TECZKA HARMONIJKOWA A4 AT/CZARNO-TRANSPARENTNA | C262: 1 szt. | D262: 18 | E262: 4902506072092 | F262: 39261000 | H262: =D262*G262 -> 0
A263: DCD14C | B263: TECZKA HARMONIJKOWA A4 C/NIEBIESKA | C263: 1 szt. | D263: 18 | E263: 4902506072085 | F263: 39261000 | H263: =D263*G263 -> 0
A264: DCD14CT | B264: TECZKA HARMONIJKOWA A4 CT/ NIEBIESKO-TRANSPARENTNA | C264: 1 szt. | D264: 18 | E264: 4902506072108 | F264: 39261000 | H264: =D264*G264 -> 0
A265: DCD14T | B265: TECZKA HARMONIJKOWA A4 T/TRANSPARENTNA | C265: 1 szt. | D265: 18 | E265: 4902506072115 | F265: 39261000 | H265: =D265*G265 -> 0
A266: DCD3413T | B266: SYSTEM HARM. WOLNOSTOJĄCY 13 KIESZENI | C266: 1 szt. | D266: 19.5 | E266: 4902506072146 | F266: 39261000 | H266: =D266*G266 -> 0
A267: DCD4432T | B267: SYSTEM HARM. WOLNOSTOJĄCY 32 KIESZENIE | C267: 1 szt. | D267: 48 | E267: 4902506072153 | F267: 39261000 | H267: =D267*G267 -> 0
... A441: MMP10-E | B441: MARKER ZDOBNICZY ALUM.OBUDOWA E/BRĄZOWY | C441: 12 szt. | D441: 6.8 | E441: 0884851055460 | F441: 96082000 | H441: =D441*G441 -> 0
A442: MMP10-F | B442: MARKER ZDOBNICZY ALUM.OBUDOWA F/POMARAŃCZOWY | C442: 12 szt. | D442: 6.8 | E442: 0884851055477 | F442: 96082000 | H442: =D442*G442 -> 0 | J442: =IF(K442,6.15,0) -> 0 | K442: =AND($G$442>11,$G$442<10000) -> FALSE
A443: MMP10-G | B443: MARKER ZDOBNICZY ALUM.OBUDOWA G/ŻÓŁTY | C443: 12 szt. | D443: 6.8 | E443: 0884851055484 | F443: 96082000 | H443: =D443*G443 -> 0 | J443: =IF(K443,8.2,0) -> 8.2 | K443: =AND($G$442<12) -> TRUE
A444: MMP10-K | B444: MARKER ZDOBNICZY ALUM.OBUDOWA K/SELEDYNOWY | C444: 12 szt. | D444: 6.8 | E444: 0884851055491 | F444: 96082000 | H444: =D444*G444 -> 0
A445: MMP10-MA | B445: MARKER ZDOBNICZY ALUM.OBUDOWA MA/PERŁOWY CZARNY | C445: 12 szt. | D445: 6.8 | E445: 0884851055545 | F445: 96082000 | H445: =D445*G445 -> 0
A446: MMP10-MB | B446: MARKER ZDOBNICZY ALUM.OBUDOWA MB/PERŁOWY CZERWONY | C446: 12 szt. | D446: 6.8 | E446: 0884851055552 | F446: 96082000 | H446: =D446*G446 -> 0
A447: MMP10-D | B447: MARKER ZDOBNICZY ALUM.OBUDOWA MD/PERŁOWY ZIELONY | C447: 12 szt. | D447: 6.8 | E447: 0884851055453 | F447: 96082000 | H447: =D447*G447 -> 0
A448: MMP10-ME | B448: MARKER ZDOBNICZY ALUM.OBUDOWA MW/PERŁOWY BRĄZOWY | C448: 12 szt. | D448: 6.8 | E448: 0884851055576 | F448: 96082000 | H448: =D448*G448 -> 0
A449: MMP10-MS | B449: MARKER ZDOBNICZY ALUM.OBUDOWA MS/PERŁOWY BŁĘKITNY | C449: 12 szt. | D449: 6.8 | E449: 0884851055583 | F449: 96082000 | H449: =D449*G449 -> 0
A450: MMP10-N | B450: MARKER ZDOBNICZY ALUM.OBUDOWA N/SZARY | C450: 12 szt. | D450: 6.8 | E450: 0884851055507 | F450: 96082000 | H450: =D450*G450 -> 0
A451: MMP10-P | B451: MARKER ZDOBNICZY ALUM.OBUDOWA P/RÓŻOWY | C451: 12 szt. | D451: 6.8 | E451: 0884851055514 | F451: 96082000 | H451: =D451*G451 -> 0
A452: MMP10-S | B452: MARKER ZDOBNICZY ALUM.OBUDOWA S/BŁĘKITNY | C452: 12 szt. | D452: 6.8 | E452: 0884851055521 | F452: 96082000 | H452: =D452*G452 -> 0
A453: MMP10-V | B453: MARKER ZDOBNICZY ALUM.OBUDOWA V/FIOLETOWY | C453: 12 szt. | D453: 6.8 | E453: 0884851055538 | F453: 96082000 | H453: =D453*G453 -> 0
A454: MMP10-W | B454: MARKER ZDOBNICZY W/BIAŁY | C454: 12 szt. | D454: 6.8 | E454: 0884851025340 | F454: 96082000 | H454: =D454*G454 -> 0
A455: MMP10-WG | B455: MARKER ZDOBNICZY ALUM.OBUDOWA WG/KREMOWO ŻÓŁTY | C455: 12 szt. | D455: 6.8 | E455: 0884851055590 | F455: 96082000 | H455: =D455*G455 -> 0
... A616: PH803ST | B616: OŁÓWEK SUPER MULTI 8 Z FUNKCJĄ DŁUGO.-SET | C616: 1 kpl. | D616: 129 | E616: 4902506314352 | F616: 96084000 | H616: =D616*G616 -> 0
A617: PHN-12 | B617: PASTELE OLEJNE 12-KOLOROWE | C617: 12 szt. | D617: 6.5 | E617: 4711577003573 | F617: 96099010 | G617: =M617+Z5 -> 0 | H617: =D617*G617 -> 0 | M617: 0 | N617: do dopisania
A618: PHN-16 | B618: PASTELE OLEJNE 16-KOLOROWE | C618: 12 szt. | D618: 8.7 | E618: 4711577003580 | F618: 96099010 | G618: =M618+Z6 -> 0 | H618: =D618*G618 -> 0 | M618: 0 | N618: do dopisania
A619: PHN-25 | B619: PASTELE OLEJNE 25-KOLOROWE | C619: 12 szt. | D619: 13.5 | E619: 4711577003597 | F619: 96099010 | G619: =M619+Z7 -> 0 | H619: =D619*G619 -> 0 | M619: 0 | N619: do dopisania
A620: PHN-36 | B620: PASTELE OLEJNE 36-KOLOROWE | C620: 12 szt. | D620: 19.5 | E620: 4711577003603 | F620: 96099010 | G620: =M620+Z8 -> 0 | H620: =D620*G620 -> 0 | M620: 0 | N620: do dopisania
A621: PHN-50 | B621: PASTELE OLEJNE 50-KOLOROWE | C621: 6 szt. | D621: 27 | E621: 4711577003610 | F621: 96099010 | G621: =M621+Z9 -> 0 | H621: =D621*G621 -> 0 | M621: 0 | N621: do dopisania
A622: PHN-F6 | B622: PASTELE OLEJNE FLUORESCENCYJNE 6 KOLORÓW | C622: 12 szt. | D622: 7.9 | E622: 0840010402460 | F622: 96099010 | G622: =M622+Z10 -> 0 | H622: =D622*G622 -> 0 | M622: 0 | N622: do dopisania
A623: PHN-M6 | B623: PASTELE OLEJNE METALICZNE 6 KOLORÓW | C623: 12 szt. | D623: 7.9 | E623: 0840010402483 | F623: 96099010 | G623: =M623+Z11 -> 0 | H623: =D623*G623 -> 0 | M623: 0 | N623: do dopisania
A624: PL105-AX | B624: OŁÓWEK AUTOMATYCZNY ENERGIZE A/CZARNY | C624: 12 szt. | D624: 3.8 | E624: 0884851007612 | F624: 96084000 | H624: =D624*G624 -> 0
A625: PL105-CX | B625: OŁÓWEK AUTOMATYCZNY ENERGIZE C/NIEBIESKI | C625: 12 szt. | D625: 3.8 | E625: 0884851007643 | F625: 96084000 | H625: =D625*G625 -> 0
A626: PL105-KX | B626: OŁÓWEK AUTOMATYCZNY ENERGIZE K/SELEDYNOWY | C626: 12 szt. | D626: 3.8 | E626: 0884851007674 | F626: 96084000 | H626: =D626*G626 -> 0
A627: PL105-PX | B627: OŁÓWEK AUTOMATYCZNY ENERGIZE P/RÓŻOWY | C627: 12 szt. | D627: 3.8 | E627: 0884851007704 | F627: 96084000 | H627: =D627*G627 -> 0
A628: PL105-SX | B628: OŁÓWEK AUTOMATYCZNY ENERGIZE S/BŁĘKITNY | C628: 12 szt. | D628: 3.8 | E628: 0884851007735 | F628: 96084000 | H628: =D628*G628 -> 0
A629: PL105-VX | B629: OŁÓWEK AUTOMATYCZNY ENERGIZE V/FIOLETOWY | C629: 12 szt. | D629: 3.8 | E629: 0884851007766 | F629: 96084000 | H629: =D629*G629 -> 0
A630: PL75-AO | B630: OŁÓWEK AUTOMATYCZNY ENERGIZE A/CZARNY | C630: 12 szt. | D630: 7.7 | E630: 4902506071002 | F630: 96084000 | H630: =D630*G630 -> 0
A631: PL75-PO | B631: OŁÓWEK AUTOMATYCZNY ENERGIZE P/RÓŻOWY | C631: 12 szt. | D631: 7.7 | E631: 4902506071019 | F631: 96084000 | H631: =D631*G631 -> 0
A632: PL75-SO | B632: OŁÓWEK AUTOMATYCZNY ENERGIZE S/BŁĘKITNY | C632: 12 szt. | D632: 7.7 | E632: 4902506071026 | F632: 96084000 | H632: =D632*G632 -> 0
...
