Workbook

Sheet SYSTEM_NIE WPISYWAĆ!!!
A1: Nr nabywcy | B1: Komentarz zamówienia | C1: Nr zapasu | D1: Opis | E1: Ilość | F1: Komentarz wiersza | G1: Nr dokumentu zewnętrznego
C2: 300E-2H | D2: GRAFITY DO OŁÓWKÓW 0,3 2H | E2: =SUM('ZAMÓWIENIE 2025'!G6) -> 0
A3: =$A$2 -> 0 | C3: 300E-3H | D3: GRAFITY DO OŁÓWKÓW 0,3 3H | E3: =SUM('ZAMÓWIENIE 2025'!G7) -> 0
A4: =$A$2 -> 0 | C4: 300E-B | D4: GRAFITY DO OŁÓWKÓW 0,3 B | E4: =SUM('ZAMÓWIENIE 2025'!G8) -> 0
A5: =$A$2 -> 0 | C5: 300E-H | D5: GRAFITY DO OŁÓWKÓW 0,3 H | E5: =SUM('ZAMÓWIENIE 2025'!G9) -> 0
A6: =$A$2 -> 0 | C6: 300E-HB | D6: GRAFITY DO OŁÓWKÓW 0.3 HB | E6: =SUM('ZAMÓWIENIE 2025'!G10) -> 0
A7: =$A$2 -> 0 | C7: 50-2BX | D7: GRAFITY DO OŁÓWKÓW 0,7 2B | E7: =SUM('ZAMÓWIENIE 2025'!G11) -> 0
A8: =$A$2 -> 0 | C8: 50-2HX | D8: GRAFITY DO OŁÓWKÓW 0,7 2H | E8: =SUM('ZAMÓWIENIE 2025'!G12) -> 0
A9: =$A$2 -> 0 | C9: 50-B9 | D9: GRAFITY DO OŁÓWKÓW 0,9 B | E9: =SUM('ZAMÓWIENIE 2025'!G13) -> 0
A10: =$A$2 -> 0 | C10: 50-BX | D10: GRAFITY DO OŁÓWKÓW 0,7 B | E10: =SUM('ZAMÓWIENIE 2025'!G14) -> 0
A11: =$A$2 -> 0 | C11: 50E-2B9 | D11: GRAFITY DO OŁÓWKÓW 0,9 2B | E11: =SUM('ZAMÓWIENIE 2025'!G15) -> 0
A12: =$A$2 -> 0 | C12: 50E-HB9 | D12: GRAFITY DO OŁÓWKÓW 0,9 HB | E12: =SUM('ZAMÓWIENIE 2025'!G16) -> 0
A13: =$A$2 -> 0 | C13: 50-H9 | D13: GRAFITY DO OŁÓWKÓW 0,9 H | E13: =SUM('ZAMÓWIENIE 2025'!G17) -> 0
A14: =$A$2 -> 0 | C14: 50-HBX | D14: GRAFITY DO OŁÓWKÓW 0,7 HB | E14: =SUM('ZAMÓWIENIE 2025'!G18) -> 0
... A912: =$A$2 -> 0 | C912: FOC-LIZAKI | D912: LIZAKI CHUPA CHUPS | E912: =SUM('ZAMÓWIENIE 2025'!G916) -> 0

Sheet ZAMÓWIENIE 2025
F1: WARTOŚĆ BONÓW | G1: =IF(H2>2,SUM(K1:K19),0) -> 0 | J1: =AND(H3>3500,H3<6500) -> FALSE | K1: =IF(J1,200,0) -> 0 | M1: PAKIET OBOWIĄZKOWY (200 zł) | Q1: DISPLAY DO WYBORU (500 zł) | Y1: LIZAKI | AA1: PASTELE WARTOŚĆ
A2: ZAMÓWIENIE BTS 2025 w PLN | C2: NAZWA KLIENTA | F2: ILE DISPLAY'I NOWOŚCI | H2: =M2+Q2 -> 0 | J2: =AND(H3>6500,H3<10000) -> FALSE | K2: =IF(J2,500,0) -> 0 | M2: =N3+N4+N5+P4+P5 -> 0 | Q2: =SUM(R3,R4,R5,T3,T4,T5,V3,V4,V5,X3) -> 0 | Y2: 0 | AA2: =SUM(H617:H623) -> 0
A3: DO WYPEŁNIANIA | G3: TOTAL WARTOŚĆ ZAMÓWIENIA | H3: =SUM(H6:H925) -> 0 | J3: =AND(H3>10000,H3<13000) -> FALSE | K3: =IF(J3,700,0) -> 0 | M3: CB60T-2BHB-96 | N3: 0 | Q3: BL437-4E | R3: 0 | S3: BXC467-2E | T3: 0 | U3: SESW30C-3E | V3: 0 | W3: ZEH DISPLAY DUŻY | X3: 0
A4: NIE WPISYWAĆ | G4: =H3*(1-H4) -> 0 | J4: =AND($H$3>13000,$H$3<16500) -> FALSE | K4: =IF(J4,1000,0) -> 0 | M4: BL77-MIX-3E-PVC | N4: 0 | O4: BL77-C-3E-PVC | P4: 0 | Q4: NFS-NF-NM-3E | R4: 0 | S4: BY208-AC-3E-PVC | T4: 0 | U4: POINTLINER S20P - DISPLAY | V4: 0 | W4: CB60T+ZEH DISPLAY | X4: 0 | Y4: szt. | AA4: ILOŚĆ DISPLAY'I LIZAKÓW
A5: NUMER ZAPASU | B5: OPIS | C5: OPAKOWANIE | D5: CENA HURTOWA NETTO PLN | E5: KOD KRESKOWY 1 szt. | F5: KOD CN | G5: ILOŚĆ SZT. | H5: Wartość PLN netto | J5: =AND($H$3>16500,$H$3<19500) -> FALSE | K5: =IF(J5,1200,0) -> 0 | M5: BL77-AC-3E-PVC | N5: 0 | O5: BL77-A-3E-PVC | P5: 0 | Q5: BX467-4E | R5: 0 | S5: SES15C-3E-PVC | T5: 0 | U5: ZTT15 - DISPLAY | V5: 0 | Y5: 12 | Z5: =48*Y2 -> 0 | AA5: =FLOOR(AA2/1427,1) -> 0
A6: 300E-2H | B6: GRAFITY DO OŁÓWKÓW 0,3 2H | C6: 12 szt. | D6: 5.7 | E6: 3474377352005 | F6: 96092000 | H6: =D6*G6 -> 0 | J6: =AND($H$3>19500,$H$3<23000) -> FALSE | K6: =IF(J6,1500,0) -> 0 | Y6: 16 | Z6: =48*Y2 -> 0
A7: 300E-3H | B7: GRAFITY DO OŁÓWKÓW 0,3 3H | C7: 12 szt. | D7: 5.7 | E7: 3474377352272 | F7: 96092000 | H7: =D7*G7 -> 0 | J7: =AND($H$3>23000,$H$3<26000) -> FALSE | K7: =IF(J7,1700,0) -> 0 | Y7: 25 | Z7: =24*Y2 -> 0
A8: 300E-B | B8: GRAFITY DO OŁÓWKÓW 0,3 B | C8: 12 szt. | D8: 5.7 | E8: 3474377351978 | F8: 96092000 | H8: =D8*G8 -> 0 | J8: =AND($H$3>26000,$H$3<29500) -> FALSE | K8: =IF(J8,2000,0) -> 0 | Y8: 36 | Z8: =6*Y2 -> 0
A9: 300E-H | B9: GRAFITY DO OŁÓWKÓW 0,3 H | C9: 12 szt. | D9: 5.7 | E9: 3474377351992 | F9: 96092000 | H9: =D9*G9 -> 0 | J9: =AND($H$3>29500,$H$3<32500) -> FALSE | K9: =IF(J9,2200,0) -> 0 | Y9: 50 | Z9: =6*Y2 -> 0
A10: 300E-HB | B10: GRAFITY DO OŁÓWKÓW 0.3 HB | C10: 12 szt. | D10: 5.7 | E10: 3474377351985 | F10: 96092000 | H10: =D10*G10 -> 0 | J10: =AND($H$3>32500,$H$3<36000) -> FALSE | K10: =IF(J10,2500,0) -> 0 | Y10: FLUO | Z10: =6*Y2 -> 0
A11: 50-2BX | B11: GRAFITY DO OŁÓWKÓW 0,7 2B | C11: 12 szt. | D11: 3.1 | E11: 3474377352289 | F11: 96092000 | H11: =D11*G11 -> 0 | J11: =AND($H$3>36000,$H$3<39000) -> FALSE | K11: =IF(J11,2700,0) -> 0 | Y11: METALLIC | Z11: =6*Y2 -> 0
A12: 50-2HX | B12: GRAFITY DO OŁÓWKÓW 0,7 2H | C12: 12 szt. | D12: 3.1 | E12: 3474377352326 | F12: 96092000 | H12: =D12*G12 -> 0 | J12: =AND($H$3>39000,$H$3<42500) -> FALSE | K12: =IF(J12,3000,0) -> 0 | Y12: FOC-LIZAKI | Z12: =1*Y2 -> 0
A13: 50-B9 | B13: GRAFITY DO OŁÓWKÓW 0,9 B | C13: 12 szt. | D13: 3.1 | E13: 0072512007921 | F13: 96092000 | H13: =D13*G13 -> 0 | J13: =AND($H$3>42500,$H$3<45500) -> FALSE | K13: =IF(J13,3200,0) -> 0
A14: 50-BX | B14: GRAFITY DO OŁÓWKÓW 0,7 B | C14: 12 szt. | D14: 3.1 | E14: 3474377352296 | F14: 96092000 | H14: =D14*G14 -> 0 | J14: =AND($H$3>45500,$H$3<49000) -> FALSE | K14: =IF(J14,3500,0) -> 0
A15: 50E-2B9 | B15: GRAFITY DO OŁÓWKÓW 0,9 2B | C15: 12 szt. | D15: 3.1 | E15: 3474377910335 | F15: 96092000 | H15: =D15*G15 -> 0 | J15: =AND($H$3>49000,$H$3<52000) -> FALSE | K15: =IF(J15,3700,0) -> 0
A16: 50E-HB9 | B16: GRAFITY DO OŁÓWKÓW 0,9 HB | C16: 12 szt. | D16: 3.1 | E16: 3474377910359 | F16: 96092000 | H16: =D16*G16 -> 0 | J16: =AND($H$3>52000,$H$3<55500) -> FALSE | K16: =IF(J16,4000,0) -> 0
A17: 50-H9 | B17: GRAFITY DO OŁÓWKÓW 0,9 H | C17: 12 szt. | D17: 3.1 | E17: 3474377910366 | F17: 96092000 | H17: =D17*G17 -> 0 | J17: =AND($H$3>55000,$H$3<58500) -> FALSE | K17: =IF(J17,4200,0) -> 0
A18: 50-HBX | B18: GRAFITY DO OŁÓWKÓW 0,7 HB | C18: 12 szt. | D18: 3.1 | E18: 3474377352302 | F18: 96092000 | H18: =D18*G18 -> 0 | J18: =AND($H$3>58500,$H$3<62000) -> FALSE | K18: =IF(J18,4500,0) -> 0
A19: 50-HX | B19: GRAFITY DO OŁÓWKÓW 0,7 H | C19: 12 szt. | D19: 3.1 | E19: 072512007709 | F19: 96092000 | H19: =D19*G19 -> 0 | J19: =AND($H$3>62500,$H$3<65500) -> FALSE | K19: =IF(J19,4700,0) -> 0
A20: A125-A | B20: OŁÓWEK AUTOM. 0,5MM A/CZARNY | C20: 12 szt. | D20: 5 | E20: 3474371125018 | F20: 96084000 | H20: =D20*G20 -> 0
A21: A127-C | B21: OŁÓWEK AUTOM. 0,7MM C/NIEBIESKI | C21: 12 szt. | D21: 5 | E21: 3474371127029 | F21: 96084000 | H21: =D21*G21 -> 0
A22: A129-E | B22: OŁÓWEK AUTOM. 0,9MM E/BRĄZOWY | C22: 12 szt. | D22: 5 | E22: 3474371129054 | F22: 96084000 | H22: =D22*G22 -> 0
A23: A313-B | B23: OŁÓWEK AUTOMATYCZNY 0,3MM B/CZERWONY | C23: 12 szt. | D23: 11.5 | E23: 3474370313003 | F23: 96084000 | H23: =D23*G23 -> 0
A24: A315-AX | B24: OŁÓWEK AUTOMATYCZNY 0,5MM A/CZARNY | C24: 12 szt. | D24: 11.5 | E24: 3474377900442 | F24: 96084000 | H24: =D24*G24 -> 0
A25: A315-N | B25: OŁÓWEK AUTOMATYCZNY 0,5MM N/SZARY | C25: 12 szt. | D25: 11.5 | E25: 3474370315007 | F25: 96084000 | H25: =D25*G25 -> 0
A26: A317-C | B26: OŁÓWEK AUTOMATYCZNY 0,7MM C/NIEBIESKI | C26: 12 szt. | D26: 11.5 | E26: 3474370317001 | F26: 96084000 | H26: =D26*G26 -> 0
A27: A319-Y | B27: OŁÓWEK AUTOMATYCZNY 0,9MM Y/CIEMNOŻÓŁTY | C27: 12 szt. | D27: 11.5 | E27: 3474370319005 | F27: 96084000 | H27: =D27*G27 -> 0
A28: AM13-CX | B28: OŁÓWEK AUTOMATYCZNY 1,3 MM C/NIEBIESKA OBUDOWA | C28: 12 szt. | D28: 10.5 | E28: 0884851038210 | F28: 96084000 | H28: =D28*G28 -> 0
A29: AX125-AE | B29: OŁÓWEK AUTOMAT. FIESTA A/CZARNY 0,5MM | C29: 12 szt. | D29: 2.8 | E29: 6938623920594 | F29: 96084000 | H29: =D29*G29 -> 0
A30: AX125-BE | B30: OŁÓWEK AUTOMAT. FIESTA B/CZERWONY 0,5MM | C30: 12 szt. | D30: 2.8 | E30: 6938623920624 | F30: 96084000 | H30: =D30*G30 -> 0
A31: AX125-CE | B31: OŁÓWEK AUTOMAT. FIESTA C/NIEBIESKI 0,5MM | C31: 12 szt. | D31: 2.8 | E31: 6938623920600 | F31: 96084000 | H31: =D31*G31 -> 0
... A231: CB9-12U | B231: KREDKI AKWARELOWE 12 KOLOROWE | C231: 12 szt. | D231: 15 | E231: 0884851024213 | F231: 96091090 | H231: =D231*G231 -> 0
A232: CB9-24U | B232: KREDKI AKWARELOWE 24 KOLOROWE | C232: 6 szt. | D232: 30 | E232: 0884851024244 | F232: 96091090 | H232: =D232*G232 -> 0 | Q232: DISPLAY CB60+ZEH
A233: CB60T-HB | B233: OŁÓWEK DREWNIANY O TRÓJKĄTNYM PRZEKROJU - HB | C233: 12 szt. | D233: 1.49 | E233: 4711577077017 | F233: 96091090 | G233: =SUM(M233+Q233) -> 0 | H233: =D233*G233 -> 0 | M233: 0 | N233: DO DOPISANIA | Q233: =144*X4 -> 0
A234: CB60T-2B | B234: OŁÓWEK DREWNIANY O TRÓJKĄTNYM PRZEKROJU -2B | C234: 12 szt. | D234: 1.49 | E234: 4711577077000 | F234: 96091090 | G234: =SUM(M234+Q234) -> 0 | H234: =D234*G234 -> 0 | M234: 0 | N234: DO DOPISANIA | Q234: =144*X4 -> 0
A235: CH13-BX | B235: GRAFITY DO OŁÓWKÓW 1,3 MM B | C235: 12 szt. | D235: 3.7 | E235: 0884851038234 | F235: 96092000 | H235: =D235*G235 -> 0
A236: CH13-HB | B236: GRAFITY DO OŁÓWKÓW 1,3 MM HB | C236: 12 szt. | D236: 3.7 | E236: 0884851038227 | F236: 96092000 | H236: =D236*G236 -> 0
A237: CH2-AO | B237: GRAFITY KOLOROWE DO MULTI-8 2,00 MM | C237: 1 szt. | D237: 4.9 | E237: 3474370122018 | F237: 96092000 | H237: =D237*G237 -> 0
A238: CH2-BO | B238: GRAFITY KOLOROWE DO MULTI-8 2,00 MM | C238: 1 szt. | D238: 4.9 | E238: 3474370122032 | F238: 96092000 | H238: =D238*G238 -> 0
A239: CH2-CO | B239: GRAFITY KOLOROWE DO MULTI-8 2,00 MM | C239: 1 szt. | D239: 4.9 | E239: 3474370122025 | F239: 96092000 | H239: =D239*G239 -> 0
...
